BEGIN:VCALENDAR
VERSION:2.0
PRODID:-//Saluda GOP - ECPv6.15.20//NONSGML v1.0//EN
CALSCALE:GREGORIAN
METHOD:PUBLISH
X-ORIGINAL-URL:https://saludagop.org
X-WR-CALDESC:Events for Saluda GOP
REFRESH-INTERVAL;VALUE=DURATION:PT1H
X-Robots-Tag:noindex
X-PUBLISHED-TTL:PT1H
BEGIN:VTIMEZONE
TZID:America/New_York
BEGIN:DAYLIGHT
TZOFFSETFROM:-0500
TZOFFSETTO:-0400
TZNAME:EDT
DTSTART:20270314T070000
END:DAYLIGHT
BEGIN:STANDARD
TZOFFSETFROM:-0400
TZOFFSETTO:-0500
TZNAME:EST
DTSTART:20271107T060000
END:STANDARD
BEGIN:DAYLIGHT
TZOFFSETFROM:-0500
TZOFFSETTO:-0400
TZNAME:EDT
DTSTART:20280312T070000
END:DAYLIGHT
BEGIN:STANDARD
TZOFFSETFROM:-0400
TZOFFSETTO:-0500
TZNAME:EST
DTSTART:20281105T060000
END:STANDARD
BEGIN:DAYLIGHT
TZOFFSETFROM:-0500
TZOFFSETTO:-0400
TZNAME:EDT
DTSTART:20290311T070000
END:DAYLIGHT
BEGIN:STANDARD
TZOFFSETFROM:-0400
TZOFFSETTO:-0500
TZNAME:EST
DTSTART:20291104T060000
END:STANDARD
END:VTIMEZONE
BEGIN:VEVENT
DTSTART;TZID=America/New_York:20280817T083000
DTEND;TZID=America/New_York:20280817T170000
DTSTAMP:20260423T183614
CREATED:20250910T025501Z
LAST-MODIFIED:20250910T025507Z
UID:10001718-1850113800-1850144400@saludagop.org
SUMMARY:Early Voting
DESCRIPTION:
URL:https://saludagop.org/event/early-voting/2028-08-17/
END:VEVENT
BEGIN:VEVENT
DTSTART;TZID=America/New_York:20280818T083000
DTEND;TZID=America/New_York:20280818T170000
DTSTAMP:20260423T183614
CREATED:20250910T025501Z
LAST-MODIFIED:20250910T025507Z
UID:10001719-1850200200-1850230800@saludagop.org
SUMMARY:Early Voting
DESCRIPTION:
URL:https://saludagop.org/event/early-voting/2028-08-18/
END:VEVENT
BEGIN:VEVENT
DTSTART;TZID=America/New_York:20280819T083000
DTEND;TZID=America/New_York:20280819T170000
DTSTAMP:20260423T183614
CREATED:20250910T025501Z
LAST-MODIFIED:20250910T025507Z
UID:10001720-1850286600-1850317200@saludagop.org
SUMMARY:Early Voting
DESCRIPTION:
URL:https://saludagop.org/event/early-voting/2028-08-19/
END:VEVENT
BEGIN:VEVENT
DTSTART;TZID=America/New_York:20280820T083000
DTEND;TZID=America/New_York:20280820T170000
DTSTAMP:20260423T183614
CREATED:20250910T025501Z
LAST-MODIFIED:20250910T025507Z
UID:10001721-1850373000-1850403600@saludagop.org
SUMMARY:Early Voting
DESCRIPTION:
URL:https://saludagop.org/event/early-voting/2028-08-20/
END:VEVENT
BEGIN:VEVENT
DTSTART;TZID=America/New_York:20280821T083000
DTEND;TZID=America/New_York:20280821T170000
DTSTAMP:20260423T183614
CREATED:20250910T025501Z
LAST-MODIFIED:20250910T025507Z
UID:10001722-1850459400-1850490000@saludagop.org
SUMMARY:Early Voting
DESCRIPTION:
URL:https://saludagop.org/event/early-voting/2028-08-21/
END:VEVENT
BEGIN:VEVENT
DTSTART;TZID=America/New_York:20280822T083000
DTEND;TZID=America/New_York:20280822T170000
DTSTAMP:20260423T183614
CREATED:20250910T025501Z
LAST-MODIFIED:20250910T025507Z
UID:10001723-1850545800-1850576400@saludagop.org
SUMMARY:Early Voting
DESCRIPTION:
URL:https://saludagop.org/event/early-voting/2028-08-22/
END:VEVENT
BEGIN:VEVENT
DTSTART;TZID=America/New_York:20280823T083000
DTEND;TZID=America/New_York:20280823T170000
DTSTAMP:20260423T183614
CREATED:20250910T025501Z
LAST-MODIFIED:20250910T025507Z
UID:10001724-1850632200-1850662800@saludagop.org
SUMMARY:Early Voting
DESCRIPTION:
URL:https://saludagop.org/event/early-voting/2028-08-23/
END:VEVENT
BEGIN:VEVENT
DTSTART;TZID=America/New_York:20280824T083000
DTEND;TZID=America/New_York:20280824T170000
DTSTAMP:20260423T183614
CREATED:20250910T025501Z
LAST-MODIFIED:20250910T025507Z
UID:10001725-1850718600-1850749200@saludagop.org
SUMMARY:Early Voting
DESCRIPTION:
URL:https://saludagop.org/event/early-voting/2028-08-24/
END:VEVENT
BEGIN:VEVENT
DTSTART;TZID=America/New_York:20280825T083000
DTEND;TZID=America/New_York:20280825T170000
DTSTAMP:20260423T183614
CREATED:20250910T025501Z
LAST-MODIFIED:20250910T025507Z
UID:10001726-1850805000-1850835600@saludagop.org
SUMMARY:Early Voting
DESCRIPTION:
URL:https://saludagop.org/event/early-voting/2028-08-25/
END:VEVENT
BEGIN:VEVENT
DTSTART;TZID=America/New_York:20280826T083000
DTEND;TZID=America/New_York:20280826T170000
DTSTAMP:20260423T183614
CREATED:20250910T025501Z
LAST-MODIFIED:20250910T025507Z
UID:10001727-1850891400-1850922000@saludagop.org
SUMMARY:Early Voting
DESCRIPTION:
URL:https://saludagop.org/event/early-voting/2028-08-26/
END:VEVENT
BEGIN:VEVENT
DTSTART;TZID=America/New_York:20280827T083000
DTEND;TZID=America/New_York:20280827T170000
DTSTAMP:20260423T183614
CREATED:20250910T025501Z
LAST-MODIFIED:20250910T025507Z
UID:10001728-1850977800-1851008400@saludagop.org
SUMMARY:Early Voting
DESCRIPTION:
URL:https://saludagop.org/event/early-voting/2028-08-27/
END:VEVENT
BEGIN:VEVENT
DTSTART;TZID=America/New_York:20280828T083000
DTEND;TZID=America/New_York:20280828T170000
DTSTAMP:20260423T183614
CREATED:20250910T025501Z
LAST-MODIFIED:20250910T025507Z
UID:10001729-1851064200-1851094800@saludagop.org
SUMMARY:Early Voting
DESCRIPTION:
URL:https://saludagop.org/event/early-voting/2028-08-28/
END:VEVENT
BEGIN:VEVENT
DTSTART;TZID=America/New_York:20280828T180000
DTEND;TZID=America/New_York:20280828T200000
DTSTAMP:20260423T183614
CREATED:20251215T025208Z
LAST-MODIFIED:20251215T025554Z
UID:10002628-1851098400-1851105600@saludagop.org
SUMMARY:Saluda GOP Monthly Meeting
DESCRIPTION:Our Monthly Members meetings usually start with a meal at 6pm.  No charge\, but donations are appreciated!  We usually feature a guest speaker and a short business meeting afterwards when needed. \n\n\n\nThe public is welcome to attend.
URL:https://saludagop.org/event/saluda-gop-monthly-meeting-4/2028-08-28/
LOCATION:Saluda Presbyterian Church\, 103 W. Highland St.\, Saluda\, SC\, 29138\, United States
ORGANIZER;CN="The Saluda County Republican Party":MAILTO:saludaGOP@gmail.com
END:VEVENT
BEGIN:VEVENT
DTSTART;TZID=America/New_York:20280829T083000
DTEND;TZID=America/New_York:20280829T170000
DTSTAMP:20260423T183614
CREATED:20250910T025501Z
LAST-MODIFIED:20250910T025507Z
UID:10001730-1851150600-1851181200@saludagop.org
SUMMARY:Early Voting
DESCRIPTION:
URL:https://saludagop.org/event/early-voting/2028-08-29/
END:VEVENT
BEGIN:VEVENT
DTSTART;TZID=America/New_York:20280830T083000
DTEND;TZID=America/New_York:20280830T170000
DTSTAMP:20260423T183614
CREATED:20250910T025501Z
LAST-MODIFIED:20250910T025507Z
UID:10001731-1851237000-1851267600@saludagop.org
SUMMARY:Early Voting
DESCRIPTION:
URL:https://saludagop.org/event/early-voting/2028-08-30/
END:VEVENT
BEGIN:VEVENT
DTSTART;TZID=America/New_York:20280831T083000
DTEND;TZID=America/New_York:20280831T170000
DTSTAMP:20260423T183614
CREATED:20250910T025501Z
LAST-MODIFIED:20250910T025507Z
UID:10001732-1851323400-1851354000@saludagop.org
SUMMARY:Early Voting
DESCRIPTION:
URL:https://saludagop.org/event/early-voting/2028-08-31/
END:VEVENT
BEGIN:VEVENT
DTSTART;TZID=America/New_York:20280901T083000
DTEND;TZID=America/New_York:20280901T170000
DTSTAMP:20260423T183614
CREATED:20250910T025501Z
LAST-MODIFIED:20250910T025507Z
UID:10001733-1851409800-1851440400@saludagop.org
SUMMARY:Early Voting
DESCRIPTION:
URL:https://saludagop.org/event/early-voting/2028-09-01/
END:VEVENT
BEGIN:VEVENT
DTSTART;TZID=America/New_York:20280902T083000
DTEND;TZID=America/New_York:20280902T170000
DTSTAMP:20260423T183614
CREATED:20250910T025501Z
LAST-MODIFIED:20250910T025507Z
UID:10001734-1851496200-1851526800@saludagop.org
SUMMARY:Early Voting
DESCRIPTION:
URL:https://saludagop.org/event/early-voting/2028-09-02/
END:VEVENT
BEGIN:VEVENT
DTSTART;TZID=America/New_York:20280903T083000
DTEND;TZID=America/New_York:20280903T170000
DTSTAMP:20260423T183614
CREATED:20250910T025501Z
LAST-MODIFIED:20250910T025507Z
UID:10001735-1851582600-1851613200@saludagop.org
SUMMARY:Early Voting
DESCRIPTION:
URL:https://saludagop.org/event/early-voting/2028-09-03/
END:VEVENT
BEGIN:VEVENT
DTSTART;TZID=America/New_York:20280904T083000
DTEND;TZID=America/New_York:20280904T170000
DTSTAMP:20260423T183614
CREATED:20250910T025501Z
LAST-MODIFIED:20250910T025507Z
UID:10001736-1851669000-1851699600@saludagop.org
SUMMARY:Early Voting
DESCRIPTION:
URL:https://saludagop.org/event/early-voting/2028-09-04/
END:VEVENT
BEGIN:VEVENT
DTSTART;TZID=America/New_York:20280905T083000
DTEND;TZID=America/New_York:20280905T170000
DTSTAMP:20260423T183614
CREATED:20250910T025501Z
LAST-MODIFIED:20250910T025507Z
UID:10001737-1851755400-1851786000@saludagop.org
SUMMARY:Early Voting
DESCRIPTION:
URL:https://saludagop.org/event/early-voting/2028-09-05/
END:VEVENT
BEGIN:VEVENT
DTSTART;TZID=America/New_York:20280905T180000
DTEND;TZID=America/New_York:20280905T190000
DTSTAMP:20260423T183614
CREATED:20250509T051219Z
LAST-MODIFIED:20250512T063559Z
UID:10000052-1851789600-1851793200@saludagop.org
SUMMARY:Saluda Town Council Meeting
DESCRIPTION:Monthly Town Council Meeting
URL:https://saludagop.org/event/saluda-town-council-meeting/2028-09-05/
LOCATION:Saluda Town Hall\, 100 South Jefferson St.\, Saluda\, SC\, 29138\, United States
END:VEVENT
BEGIN:VEVENT
DTSTART;TZID=America/New_York:20280906T083000
DTEND;TZID=America/New_York:20280906T170000
DTSTAMP:20260423T183614
CREATED:20250910T025501Z
LAST-MODIFIED:20250910T025507Z
UID:10001738-1851841800-1851872400@saludagop.org
SUMMARY:Early Voting
DESCRIPTION:
URL:https://saludagop.org/event/early-voting/2028-09-06/
END:VEVENT
BEGIN:VEVENT
DTSTART;TZID=America/New_York:20280907T083000
DTEND;TZID=America/New_York:20280907T170000
DTSTAMP:20260423T183614
CREATED:20250910T025501Z
LAST-MODIFIED:20250910T025507Z
UID:10001739-1851928200-1851958800@saludagop.org
SUMMARY:Early Voting
DESCRIPTION:
URL:https://saludagop.org/event/early-voting/2028-09-07/
END:VEVENT
BEGIN:VEVENT
DTSTART;TZID=America/New_York:20280908T083000
DTEND;TZID=America/New_York:20280908T170000
DTSTAMP:20260423T183614
CREATED:20250910T025501Z
LAST-MODIFIED:20250910T025507Z
UID:10001740-1852014600-1852045200@saludagop.org
SUMMARY:Early Voting
DESCRIPTION:
URL:https://saludagop.org/event/early-voting/2028-09-08/
END:VEVENT
BEGIN:VEVENT
DTSTART;TZID=America/New_York:20280909T083000
DTEND;TZID=America/New_York:20280909T170000
DTSTAMP:20260423T183614
CREATED:20250910T025501Z
LAST-MODIFIED:20250910T025507Z
UID:10001741-1852101000-1852131600@saludagop.org
SUMMARY:Early Voting
DESCRIPTION:
URL:https://saludagop.org/event/early-voting/2028-09-09/
END:VEVENT
BEGIN:VEVENT
DTSTART;TZID=America/New_York:20280910T083000
DTEND;TZID=America/New_York:20280910T170000
DTSTAMP:20260423T183614
CREATED:20250910T025501Z
LAST-MODIFIED:20250910T025507Z
UID:10001742-1852187400-1852218000@saludagop.org
SUMMARY:Early Voting
DESCRIPTION:
URL:https://saludagop.org/event/early-voting/2028-09-10/
END:VEVENT
BEGIN:VEVENT
DTSTART;TZID=America/New_York:20280911T083000
DTEND;TZID=America/New_York:20280911T170000
DTSTAMP:20260423T183614
CREATED:20250910T025501Z
LAST-MODIFIED:20250910T025507Z
UID:10001743-1852273800-1852304400@saludagop.org
SUMMARY:Early Voting
DESCRIPTION:
URL:https://saludagop.org/event/early-voting/2028-09-11/
END:VEVENT
BEGIN:VEVENT
DTSTART;TZID=America/New_York:20280911T180000
DTEND;TZID=America/New_York:20280911T190000
DTSTAMP:20260423T183614
CREATED:20250509T050406Z
LAST-MODIFIED:20250512T063927Z
UID:10000372-1852308000-1852311600@saludagop.org
SUMMARY:County Council Meeting
DESCRIPTION:
URL:https://saludagop.org/event/county-council-meeting/2028-09-11/
LOCATION:Saluda County Administrative Offices\, 400 W. Highland St.\, Saluda\, SC\, 29138\, United States
END:VEVENT
BEGIN:VEVENT
DTSTART;TZID=America/New_York:20280912T083000
DTEND;TZID=America/New_York:20280912T170000
DTSTAMP:20260423T183614
CREATED:20250910T025501Z
LAST-MODIFIED:20250910T025507Z
UID:10001744-1852360200-1852390800@saludagop.org
SUMMARY:Early Voting
DESCRIPTION:
URL:https://saludagop.org/event/early-voting/2028-09-12/
END:VEVENT
END:VCALENDAR