BEGIN:VCALENDAR
VERSION:2.0
PRODID:-//Saluda GOP - ECPv6.15.20//NONSGML v1.0//EN
CALSCALE:GREGORIAN
METHOD:PUBLISH
X-ORIGINAL-URL:https://saludagop.org
X-WR-CALDESC:Events for Saluda GOP
REFRESH-INTERVAL;VALUE=DURATION:PT1H
X-Robots-Tag:noindex
X-PUBLISHED-TTL:PT1H
BEGIN:VTIMEZONE
TZID:America/New_York
BEGIN:DAYLIGHT
TZOFFSETFROM:-0500
TZOFFSETTO:-0400
TZNAME:EDT
DTSTART:20270314T070000
END:DAYLIGHT
BEGIN:STANDARD
TZOFFSETFROM:-0400
TZOFFSETTO:-0500
TZNAME:EST
DTSTART:20271107T060000
END:STANDARD
BEGIN:DAYLIGHT
TZOFFSETFROM:-0500
TZOFFSETTO:-0400
TZNAME:EDT
DTSTART:20280312T070000
END:DAYLIGHT
BEGIN:STANDARD
TZOFFSETFROM:-0400
TZOFFSETTO:-0500
TZNAME:EST
DTSTART:20281105T060000
END:STANDARD
BEGIN:DAYLIGHT
TZOFFSETFROM:-0500
TZOFFSETTO:-0400
TZNAME:EDT
DTSTART:20290311T070000
END:DAYLIGHT
BEGIN:STANDARD
TZOFFSETFROM:-0400
TZOFFSETTO:-0500
TZNAME:EST
DTSTART:20291104T060000
END:STANDARD
END:VTIMEZONE
BEGIN:VEVENT
DTSTART;TZID=America/New_York:20280706T083000
DTEND;TZID=America/New_York:20280706T170000
DTSTAMP:20260423T121127
CREATED:20250910T025501Z
LAST-MODIFIED:20250910T025507Z
UID:10001676-1846485000-1846515600@saludagop.org
SUMMARY:Early Voting
DESCRIPTION:
URL:https://saludagop.org/event/early-voting/2028-07-06/
END:VEVENT
BEGIN:VEVENT
DTSTART;TZID=America/New_York:20280707T083000
DTEND;TZID=America/New_York:20280707T170000
DTSTAMP:20260423T121127
CREATED:20250910T025501Z
LAST-MODIFIED:20250910T025507Z
UID:10001677-1846571400-1846602000@saludagop.org
SUMMARY:Early Voting
DESCRIPTION:
URL:https://saludagop.org/event/early-voting/2028-07-07/
END:VEVENT
BEGIN:VEVENT
DTSTART;TZID=America/New_York:20280708T083000
DTEND;TZID=America/New_York:20280708T170000
DTSTAMP:20260423T121127
CREATED:20250910T025501Z
LAST-MODIFIED:20250910T025507Z
UID:10001678-1846657800-1846688400@saludagop.org
SUMMARY:Early Voting
DESCRIPTION:
URL:https://saludagop.org/event/early-voting/2028-07-08/
END:VEVENT
BEGIN:VEVENT
DTSTART;TZID=America/New_York:20280709T083000
DTEND;TZID=America/New_York:20280709T170000
DTSTAMP:20260423T121127
CREATED:20250910T025501Z
LAST-MODIFIED:20250910T025507Z
UID:10001679-1846744200-1846774800@saludagop.org
SUMMARY:Early Voting
DESCRIPTION:
URL:https://saludagop.org/event/early-voting/2028-07-09/
END:VEVENT
BEGIN:VEVENT
DTSTART;TZID=America/New_York:20280710T083000
DTEND;TZID=America/New_York:20280710T170000
DTSTAMP:20260423T121127
CREATED:20250910T025501Z
LAST-MODIFIED:20250910T025507Z
UID:10001680-1846830600-1846861200@saludagop.org
SUMMARY:Early Voting
DESCRIPTION:
URL:https://saludagop.org/event/early-voting/2028-07-10/
END:VEVENT
BEGIN:VEVENT
DTSTART;TZID=America/New_York:20280710T180000
DTEND;TZID=America/New_York:20280710T190000
DTSTAMP:20260423T121127
CREATED:20250509T050406Z
LAST-MODIFIED:20250512T063927Z
UID:10000370-1846864800-1846868400@saludagop.org
SUMMARY:County Council Meeting
DESCRIPTION:
URL:https://saludagop.org/event/county-council-meeting/2028-07-10/
LOCATION:Saluda County Administrative Offices\, 400 W. Highland St.\, Saluda\, SC\, 29138\, United States
END:VEVENT
BEGIN:VEVENT
DTSTART;TZID=America/New_York:20280711T083000
DTEND;TZID=America/New_York:20280711T170000
DTSTAMP:20260423T121127
CREATED:20250910T025501Z
LAST-MODIFIED:20250910T025507Z
UID:10001681-1846917000-1846947600@saludagop.org
SUMMARY:Early Voting
DESCRIPTION:
URL:https://saludagop.org/event/early-voting/2028-07-11/
END:VEVENT
BEGIN:VEVENT
DTSTART;TZID=America/New_York:20280712T083000
DTEND;TZID=America/New_York:20280712T170000
DTSTAMP:20260423T121127
CREATED:20250910T025501Z
LAST-MODIFIED:20250910T025507Z
UID:10001682-1847003400-1847034000@saludagop.org
SUMMARY:Early Voting
DESCRIPTION:
URL:https://saludagop.org/event/early-voting/2028-07-12/
END:VEVENT
BEGIN:VEVENT
DTSTART;TZID=America/New_York:20280713T083000
DTEND;TZID=America/New_York:20280713T170000
DTSTAMP:20260423T121127
CREATED:20250910T025501Z
LAST-MODIFIED:20250910T025507Z
UID:10001683-1847089800-1847120400@saludagop.org
SUMMARY:Early Voting
DESCRIPTION:
URL:https://saludagop.org/event/early-voting/2028-07-13/
END:VEVENT
BEGIN:VEVENT
DTSTART;TZID=America/New_York:20280713T183000
DTEND;TZID=America/New_York:20280713T200000
DTSTAMP:20260423T121127
CREATED:20260318T163009Z
LAST-MODIFIED:20260318T175824Z
UID:10002686-1847125800-1847131200@saludagop.org
SUMMARY:Steering Committee
DESCRIPTION:This is the monthly meeting of the Saluda County Steering Committee.  The members are: \n\n\n\nAmy Potts\, ChairGreg SanderJay DunbarKim ParigorisBen WardRuss TerrellDeb Camp \n\n\n\nThis committee discusses ongoing plans and ideas to bring forward at the next business meeting.
URL:https://saludagop.org/event/committees-cocktails-coca-colas-2/2028-07-13/
LOCATION:Saluda Presbyterian Church\, 103 W. Highland St.\, Saluda\, SC\, 29138\, United States
ORGANIZER;CN="The Saluda County Republican Party":MAILTO:saludaGOP@gmail.com
END:VEVENT
BEGIN:VEVENT
DTSTART;TZID=America/New_York:20280714T083000
DTEND;TZID=America/New_York:20280714T170000
DTSTAMP:20260423T121127
CREATED:20250910T025501Z
LAST-MODIFIED:20250910T025507Z
UID:10001684-1847176200-1847206800@saludagop.org
SUMMARY:Early Voting
DESCRIPTION:
URL:https://saludagop.org/event/early-voting/2028-07-14/
END:VEVENT
BEGIN:VEVENT
DTSTART;TZID=America/New_York:20280715T083000
DTEND;TZID=America/New_York:20280715T170000
DTSTAMP:20260423T121127
CREATED:20250910T025501Z
LAST-MODIFIED:20250910T025507Z
UID:10001685-1847262600-1847293200@saludagop.org
SUMMARY:Early Voting
DESCRIPTION:
URL:https://saludagop.org/event/early-voting/2028-07-15/
END:VEVENT
BEGIN:VEVENT
DTSTART;TZID=America/New_York:20280716T083000
DTEND;TZID=America/New_York:20280716T170000
DTSTAMP:20260423T121127
CREATED:20250910T025501Z
LAST-MODIFIED:20250910T025507Z
UID:10001686-1847349000-1847379600@saludagop.org
SUMMARY:Early Voting
DESCRIPTION:
URL:https://saludagop.org/event/early-voting/2028-07-16/
END:VEVENT
BEGIN:VEVENT
DTSTART;TZID=America/New_York:20280717T083000
DTEND;TZID=America/New_York:20280717T170000
DTSTAMP:20260423T121127
CREATED:20250910T025501Z
LAST-MODIFIED:20250910T025507Z
UID:10001687-1847435400-1847466000@saludagop.org
SUMMARY:Early Voting
DESCRIPTION:
URL:https://saludagop.org/event/early-voting/2028-07-17/
END:VEVENT
BEGIN:VEVENT
DTSTART;TZID=America/New_York:20280718T083000
DTEND;TZID=America/New_York:20280718T170000
DTSTAMP:20260423T121127
CREATED:20250910T025501Z
LAST-MODIFIED:20250910T025507Z
UID:10001688-1847521800-1847552400@saludagop.org
SUMMARY:Early Voting
DESCRIPTION:
URL:https://saludagop.org/event/early-voting/2028-07-18/
END:VEVENT
BEGIN:VEVENT
DTSTART;TZID=America/New_York:20280719T083000
DTEND;TZID=America/New_York:20280719T170000
DTSTAMP:20260423T121127
CREATED:20250910T025501Z
LAST-MODIFIED:20250910T025507Z
UID:10001689-1847608200-1847638800@saludagop.org
SUMMARY:Early Voting
DESCRIPTION:
URL:https://saludagop.org/event/early-voting/2028-07-19/
END:VEVENT
BEGIN:VEVENT
DTSTART;TZID=America/New_York:20280720T083000
DTEND;TZID=America/New_York:20280720T170000
DTSTAMP:20260423T121127
CREATED:20250910T025501Z
LAST-MODIFIED:20250910T025507Z
UID:10001690-1847694600-1847725200@saludagop.org
SUMMARY:Early Voting
DESCRIPTION:
URL:https://saludagop.org/event/early-voting/2028-07-20/
END:VEVENT
BEGIN:VEVENT
DTSTART;TZID=America/New_York:20280721T083000
DTEND;TZID=America/New_York:20280721T170000
DTSTAMP:20260423T121127
CREATED:20250910T025501Z
LAST-MODIFIED:20250910T025507Z
UID:10001691-1847781000-1847811600@saludagop.org
SUMMARY:Early Voting
DESCRIPTION:
URL:https://saludagop.org/event/early-voting/2028-07-21/
END:VEVENT
BEGIN:VEVENT
DTSTART;TZID=America/New_York:20280722T083000
DTEND;TZID=America/New_York:20280722T170000
DTSTAMP:20260423T121127
CREATED:20250910T025501Z
LAST-MODIFIED:20250910T025507Z
UID:10001692-1847867400-1847898000@saludagop.org
SUMMARY:Early Voting
DESCRIPTION:
URL:https://saludagop.org/event/early-voting/2028-07-22/
END:VEVENT
BEGIN:VEVENT
DTSTART;TZID=America/New_York:20280723T083000
DTEND;TZID=America/New_York:20280723T170000
DTSTAMP:20260423T121127
CREATED:20250910T025501Z
LAST-MODIFIED:20250910T025507Z
UID:10001693-1847953800-1847984400@saludagop.org
SUMMARY:Early Voting
DESCRIPTION:
URL:https://saludagop.org/event/early-voting/2028-07-23/
END:VEVENT
BEGIN:VEVENT
DTSTART;TZID=America/New_York:20280724T083000
DTEND;TZID=America/New_York:20280724T170000
DTSTAMP:20260423T121127
CREATED:20250910T025501Z
LAST-MODIFIED:20250910T025507Z
UID:10001694-1848040200-1848070800@saludagop.org
SUMMARY:Early Voting
DESCRIPTION:
URL:https://saludagop.org/event/early-voting/2028-07-24/
END:VEVENT
BEGIN:VEVENT
DTSTART;TZID=America/New_York:20280724T180000
DTEND;TZID=America/New_York:20280724T200000
DTSTAMP:20260423T121127
CREATED:20251215T025208Z
LAST-MODIFIED:20251215T025554Z
UID:10002627-1848074400-1848081600@saludagop.org
SUMMARY:Saluda GOP Monthly Meeting
DESCRIPTION:Our Monthly Members meetings usually start with a meal at 6pm.  No charge\, but donations are appreciated!  We usually feature a guest speaker and a short business meeting afterwards when needed. \n\n\n\nThe public is welcome to attend.
URL:https://saludagop.org/event/saluda-gop-monthly-meeting-4/2028-07-24/
LOCATION:Saluda Presbyterian Church\, 103 W. Highland St.\, Saluda\, SC\, 29138\, United States
ORGANIZER;CN="The Saluda County Republican Party":MAILTO:saludaGOP@gmail.com
END:VEVENT
BEGIN:VEVENT
DTSTART;TZID=America/New_York:20280725T083000
DTEND;TZID=America/New_York:20280725T170000
DTSTAMP:20260423T121127
CREATED:20250910T025501Z
LAST-MODIFIED:20250910T025507Z
UID:10001695-1848126600-1848157200@saludagop.org
SUMMARY:Early Voting
DESCRIPTION:
URL:https://saludagop.org/event/early-voting/2028-07-25/
END:VEVENT
BEGIN:VEVENT
DTSTART;TZID=America/New_York:20280726T083000
DTEND;TZID=America/New_York:20280726T170000
DTSTAMP:20260423T121127
CREATED:20250910T025501Z
LAST-MODIFIED:20250910T025507Z
UID:10001696-1848213000-1848243600@saludagop.org
SUMMARY:Early Voting
DESCRIPTION:
URL:https://saludagop.org/event/early-voting/2028-07-26/
END:VEVENT
BEGIN:VEVENT
DTSTART;TZID=America/New_York:20280727T083000
DTEND;TZID=America/New_York:20280727T170000
DTSTAMP:20260423T121127
CREATED:20250910T025501Z
LAST-MODIFIED:20250910T025507Z
UID:10001697-1848299400-1848330000@saludagop.org
SUMMARY:Early Voting
DESCRIPTION:
URL:https://saludagop.org/event/early-voting/2028-07-27/
END:VEVENT
BEGIN:VEVENT
DTSTART;TZID=America/New_York:20280728T083000
DTEND;TZID=America/New_York:20280728T170000
DTSTAMP:20260423T121127
CREATED:20250910T025501Z
LAST-MODIFIED:20250910T025507Z
UID:10001698-1848385800-1848416400@saludagop.org
SUMMARY:Early Voting
DESCRIPTION:
URL:https://saludagop.org/event/early-voting/2028-07-28/
END:VEVENT
BEGIN:VEVENT
DTSTART;TZID=America/New_York:20280729T083000
DTEND;TZID=America/New_York:20280729T170000
DTSTAMP:20260423T121127
CREATED:20250910T025501Z
LAST-MODIFIED:20250910T025507Z
UID:10001699-1848472200-1848502800@saludagop.org
SUMMARY:Early Voting
DESCRIPTION:
URL:https://saludagop.org/event/early-voting/2028-07-29/
END:VEVENT
BEGIN:VEVENT
DTSTART;TZID=America/New_York:20280730T083000
DTEND;TZID=America/New_York:20280730T170000
DTSTAMP:20260423T121127
CREATED:20250910T025501Z
LAST-MODIFIED:20250910T025507Z
UID:10001700-1848558600-1848589200@saludagop.org
SUMMARY:Early Voting
DESCRIPTION:
URL:https://saludagop.org/event/early-voting/2028-07-30/
END:VEVENT
BEGIN:VEVENT
DTSTART;TZID=America/New_York:20280731T083000
DTEND;TZID=America/New_York:20280731T170000
DTSTAMP:20260423T121127
CREATED:20250910T025501Z
LAST-MODIFIED:20250910T025507Z
UID:10001701-1848645000-1848675600@saludagop.org
SUMMARY:Early Voting
DESCRIPTION:
URL:https://saludagop.org/event/early-voting/2028-07-31/
END:VEVENT
BEGIN:VEVENT
DTSTART;TZID=America/New_York:20280801T083000
DTEND;TZID=America/New_York:20280801T170000
DTSTAMP:20260423T121127
CREATED:20250910T025501Z
LAST-MODIFIED:20250910T025507Z
UID:10001702-1848731400-1848762000@saludagop.org
SUMMARY:Early Voting
DESCRIPTION:
URL:https://saludagop.org/event/early-voting/2028-08-01/
END:VEVENT
END:VCALENDAR