BEGIN:VCALENDAR
VERSION:2.0
PRODID:-//Saluda GOP - ECPv6.15.20//NONSGML v1.0//EN
CALSCALE:GREGORIAN
METHOD:PUBLISH
X-ORIGINAL-URL:https://saludagop.org
X-WR-CALDESC:Events for Saluda GOP
REFRESH-INTERVAL;VALUE=DURATION:PT1H
X-Robots-Tag:noindex
X-PUBLISHED-TTL:PT1H
BEGIN:VTIMEZONE
TZID:America/New_York
BEGIN:DAYLIGHT
TZOFFSETFROM:-0500
TZOFFSETTO:-0400
TZNAME:EDT
DTSTART:20260308T070000
END:DAYLIGHT
BEGIN:STANDARD
TZOFFSETFROM:-0400
TZOFFSETTO:-0500
TZNAME:EST
DTSTART:20261101T060000
END:STANDARD
BEGIN:DAYLIGHT
TZOFFSETFROM:-0500
TZOFFSETTO:-0400
TZNAME:EDT
DTSTART:20270314T070000
END:DAYLIGHT
BEGIN:STANDARD
TZOFFSETFROM:-0400
TZOFFSETTO:-0500
TZNAME:EST
DTSTART:20271107T060000
END:STANDARD
BEGIN:DAYLIGHT
TZOFFSETFROM:-0500
TZOFFSETTO:-0400
TZNAME:EDT
DTSTART:20280312T070000
END:DAYLIGHT
BEGIN:STANDARD
TZOFFSETFROM:-0400
TZOFFSETTO:-0500
TZNAME:EST
DTSTART:20281105T060000
END:STANDARD
END:VTIMEZONE
BEGIN:VEVENT
DTSTART;TZID=America/New_York:20271014T183000
DTEND;TZID=America/New_York:20271014T200000
DTSTAMP:20260421T170346
CREATED:20260318T163009Z
LAST-MODIFIED:20260318T175824Z
UID:10002677-1823538600-1823544000@saludagop.org
SUMMARY:Steering Committee
DESCRIPTION:This is the monthly meeting of the Saluda County Steering Committee.  The members are: \n\n\n\nAmy Potts\, ChairGreg SanderJay DunbarKim ParigorisBen WardRuss TerrellDeb Camp \n\n\n\nThis committee discusses ongoing plans and ideas to bring forward at the next business meeting.
URL:https://saludagop.org/event/committees-cocktails-coca-colas-2/2027-10-14/
LOCATION:Saluda Presbyterian Church\, 103 W. Highland St.\, Saluda\, SC\, 29138\, United States
ORGANIZER;CN="The Saluda County Republican Party":MAILTO:saludaGOP@gmail.com
END:VEVENT
BEGIN:VEVENT
DTSTART;TZID=America/New_York:20271015T083000
DTEND;TZID=America/New_York:20271015T170000
DTSTAMP:20260421T170346
CREATED:20250910T025501Z
LAST-MODIFIED:20250910T025507Z
UID:10001411-1823589000-1823619600@saludagop.org
SUMMARY:Early Voting
DESCRIPTION:
URL:https://saludagop.org/event/early-voting/2027-10-15/
END:VEVENT
BEGIN:VEVENT
DTSTART;TZID=America/New_York:20271016T083000
DTEND;TZID=America/New_York:20271016T170000
DTSTAMP:20260421T170346
CREATED:20250910T025501Z
LAST-MODIFIED:20250910T025507Z
UID:10001412-1823675400-1823706000@saludagop.org
SUMMARY:Early Voting
DESCRIPTION:
URL:https://saludagop.org/event/early-voting/2027-10-16/
END:VEVENT
BEGIN:VEVENT
DTSTART;TZID=America/New_York:20271017T083000
DTEND;TZID=America/New_York:20271017T170000
DTSTAMP:20260421T170346
CREATED:20250910T025501Z
LAST-MODIFIED:20250910T025507Z
UID:10001413-1823761800-1823792400@saludagop.org
SUMMARY:Early Voting
DESCRIPTION:
URL:https://saludagop.org/event/early-voting/2027-10-17/
END:VEVENT
BEGIN:VEVENT
DTSTART;TZID=America/New_York:20271018T083000
DTEND;TZID=America/New_York:20271018T170000
DTSTAMP:20260421T170346
CREATED:20250910T025501Z
LAST-MODIFIED:20250910T025507Z
UID:10001414-1823848200-1823878800@saludagop.org
SUMMARY:Early Voting
DESCRIPTION:
URL:https://saludagop.org/event/early-voting/2027-10-18/
END:VEVENT
BEGIN:VEVENT
DTSTART;TZID=America/New_York:20271019T083000
DTEND;TZID=America/New_York:20271019T170000
DTSTAMP:20260421T170346
CREATED:20250910T025501Z
LAST-MODIFIED:20250910T025507Z
UID:10001415-1823934600-1823965200@saludagop.org
SUMMARY:Early Voting
DESCRIPTION:
URL:https://saludagop.org/event/early-voting/2027-10-19/
END:VEVENT
BEGIN:VEVENT
DTSTART;TZID=America/New_York:20271020T083000
DTEND;TZID=America/New_York:20271020T170000
DTSTAMP:20260421T170346
CREATED:20250910T025501Z
LAST-MODIFIED:20250910T025507Z
UID:10001416-1824021000-1824051600@saludagop.org
SUMMARY:Early Voting
DESCRIPTION:
URL:https://saludagop.org/event/early-voting/2027-10-20/
END:VEVENT
BEGIN:VEVENT
DTSTART;TZID=America/New_York:20271021T083000
DTEND;TZID=America/New_York:20271021T170000
DTSTAMP:20260421T170346
CREATED:20250910T025501Z
LAST-MODIFIED:20250910T025507Z
UID:10001417-1824107400-1824138000@saludagop.org
SUMMARY:Early Voting
DESCRIPTION:
URL:https://saludagop.org/event/early-voting/2027-10-21/
END:VEVENT
BEGIN:VEVENT
DTSTART;TZID=America/New_York:20271022T083000
DTEND;TZID=America/New_York:20271022T170000
DTSTAMP:20260421T170346
CREATED:20250910T025501Z
LAST-MODIFIED:20250910T025507Z
UID:10001418-1824193800-1824224400@saludagop.org
SUMMARY:Early Voting
DESCRIPTION:
URL:https://saludagop.org/event/early-voting/2027-10-22/
END:VEVENT
BEGIN:VEVENT
DTSTART;TZID=America/New_York:20271023T083000
DTEND;TZID=America/New_York:20271023T170000
DTSTAMP:20260421T170346
CREATED:20250910T025501Z
LAST-MODIFIED:20250910T025507Z
UID:10001419-1824280200-1824310800@saludagop.org
SUMMARY:Early Voting
DESCRIPTION:
URL:https://saludagop.org/event/early-voting/2027-10-23/
END:VEVENT
BEGIN:VEVENT
DTSTART;TZID=America/New_York:20271024T083000
DTEND;TZID=America/New_York:20271024T170000
DTSTAMP:20260421T170346
CREATED:20250910T025501Z
LAST-MODIFIED:20250910T025507Z
UID:10001420-1824366600-1824397200@saludagop.org
SUMMARY:Early Voting
DESCRIPTION:
URL:https://saludagop.org/event/early-voting/2027-10-24/
END:VEVENT
BEGIN:VEVENT
DTSTART;TZID=America/New_York:20271025T083000
DTEND;TZID=America/New_York:20271025T170000
DTSTAMP:20260421T170346
CREATED:20250910T025501Z
LAST-MODIFIED:20250910T025507Z
UID:10001421-1824453000-1824483600@saludagop.org
SUMMARY:Early Voting
DESCRIPTION:
URL:https://saludagop.org/event/early-voting/2027-10-25/
END:VEVENT
BEGIN:VEVENT
DTSTART;TZID=America/New_York:20271025T180000
DTEND;TZID=America/New_York:20271025T200000
DTSTAMP:20260421T170346
CREATED:20251215T025208Z
LAST-MODIFIED:20251215T025554Z
UID:10002618-1824487200-1824494400@saludagop.org
SUMMARY:Saluda GOP Monthly Meeting
DESCRIPTION:Our Monthly Members meetings usually start with a meal at 6pm.  No charge\, but donations are appreciated!  We usually feature a guest speaker and a short business meeting afterwards when needed. \n\n\n\nThe public is welcome to attend.
URL:https://saludagop.org/event/saluda-gop-monthly-meeting-4/2027-10-25/
LOCATION:Saluda Presbyterian Church\, 103 W. Highland St.\, Saluda\, SC\, 29138\, United States
ORGANIZER;CN="The Saluda County Republican Party":MAILTO:saludaGOP@gmail.com
END:VEVENT
BEGIN:VEVENT
DTSTART;TZID=America/New_York:20271026T083000
DTEND;TZID=America/New_York:20271026T170000
DTSTAMP:20260421T170346
CREATED:20250910T025501Z
LAST-MODIFIED:20250910T025507Z
UID:10001422-1824539400-1824570000@saludagop.org
SUMMARY:Early Voting
DESCRIPTION:
URL:https://saludagop.org/event/early-voting/2027-10-26/
END:VEVENT
BEGIN:VEVENT
DTSTART;TZID=America/New_York:20271027T083000
DTEND;TZID=America/New_York:20271027T170000
DTSTAMP:20260421T170346
CREATED:20250910T025501Z
LAST-MODIFIED:20250910T025507Z
UID:10001423-1824625800-1824656400@saludagop.org
SUMMARY:Early Voting
DESCRIPTION:
URL:https://saludagop.org/event/early-voting/2027-10-27/
END:VEVENT
BEGIN:VEVENT
DTSTART;TZID=America/New_York:20271028T083000
DTEND;TZID=America/New_York:20271028T170000
DTSTAMP:20260421T170346
CREATED:20250910T025501Z
LAST-MODIFIED:20250910T025507Z
UID:10001424-1824712200-1824742800@saludagop.org
SUMMARY:Early Voting
DESCRIPTION:
URL:https://saludagop.org/event/early-voting/2027-10-28/
END:VEVENT
BEGIN:VEVENT
DTSTART;TZID=America/New_York:20271029T083000
DTEND;TZID=America/New_York:20271029T170000
DTSTAMP:20260421T170346
CREATED:20250910T025501Z
LAST-MODIFIED:20250910T025507Z
UID:10001425-1824798600-1824829200@saludagop.org
SUMMARY:Early Voting
DESCRIPTION:
URL:https://saludagop.org/event/early-voting/2027-10-29/
END:VEVENT
BEGIN:VEVENT
DTSTART;TZID=America/New_York:20271030T083000
DTEND;TZID=America/New_York:20271030T170000
DTSTAMP:20260421T170346
CREATED:20250910T025501Z
LAST-MODIFIED:20250910T025507Z
UID:10001426-1824885000-1824915600@saludagop.org
SUMMARY:Early Voting
DESCRIPTION:
URL:https://saludagop.org/event/early-voting/2027-10-30/
END:VEVENT
BEGIN:VEVENT
DTSTART;TZID=America/New_York:20271031T083000
DTEND;TZID=America/New_York:20271031T170000
DTSTAMP:20260421T170346
CREATED:20250910T025501Z
LAST-MODIFIED:20250910T025507Z
UID:10001427-1824971400-1825002000@saludagop.org
SUMMARY:Early Voting
DESCRIPTION:
URL:https://saludagop.org/event/early-voting/2027-10-31/
END:VEVENT
BEGIN:VEVENT
DTSTART;TZID=America/New_York:20271101T083000
DTEND;TZID=America/New_York:20271101T170000
DTSTAMP:20260421T170346
CREATED:20250910T025501Z
LAST-MODIFIED:20250910T025507Z
UID:10001428-1825057800-1825088400@saludagop.org
SUMMARY:Early Voting
DESCRIPTION:
URL:https://saludagop.org/event/early-voting/2027-11-01/
END:VEVENT
BEGIN:VEVENT
DTSTART;TZID=America/New_York:20271102T083000
DTEND;TZID=America/New_York:20271102T170000
DTSTAMP:20260421T170346
CREATED:20250910T025501Z
LAST-MODIFIED:20250910T025507Z
UID:10001429-1825144200-1825174800@saludagop.org
SUMMARY:Early Voting
DESCRIPTION:
URL:https://saludagop.org/event/early-voting/2027-11-02/
END:VEVENT
BEGIN:VEVENT
DTSTART;TZID=America/New_York:20271102T180000
DTEND;TZID=America/New_York:20271102T190000
DTSTAMP:20260421T170346
CREATED:20250509T051219Z
LAST-MODIFIED:20250512T063559Z
UID:10000042-1825178400-1825182000@saludagop.org
SUMMARY:Saluda Town Council Meeting
DESCRIPTION:Monthly Town Council Meeting
URL:https://saludagop.org/event/saluda-town-council-meeting/2027-11-02/
LOCATION:Saluda Town Hall\, 100 South Jefferson St.\, Saluda\, SC\, 29138\, United States
END:VEVENT
BEGIN:VEVENT
DTSTART;TZID=America/New_York:20271103T083000
DTEND;TZID=America/New_York:20271103T170000
DTSTAMP:20260421T170346
CREATED:20250910T025501Z
LAST-MODIFIED:20250910T025507Z
UID:10001430-1825230600-1825261200@saludagop.org
SUMMARY:Early Voting
DESCRIPTION:
URL:https://saludagop.org/event/early-voting/2027-11-03/
END:VEVENT
BEGIN:VEVENT
DTSTART;TZID=America/New_York:20271104T083000
DTEND;TZID=America/New_York:20271104T170000
DTSTAMP:20260421T170346
CREATED:20250910T025501Z
LAST-MODIFIED:20250910T025507Z
UID:10001431-1825317000-1825347600@saludagop.org
SUMMARY:Early Voting
DESCRIPTION:
URL:https://saludagop.org/event/early-voting/2027-11-04/
END:VEVENT
BEGIN:VEVENT
DTSTART;TZID=America/New_York:20271105T083000
DTEND;TZID=America/New_York:20271105T170000
DTSTAMP:20260421T170346
CREATED:20250910T025501Z
LAST-MODIFIED:20250910T025507Z
UID:10001432-1825403400-1825434000@saludagop.org
SUMMARY:Early Voting
DESCRIPTION:
URL:https://saludagop.org/event/early-voting/2027-11-05/
END:VEVENT
BEGIN:VEVENT
DTSTART;TZID=America/New_York:20271106T083000
DTEND;TZID=America/New_York:20271106T170000
DTSTAMP:20260421T170346
CREATED:20250910T025501Z
LAST-MODIFIED:20250910T025507Z
UID:10001433-1825489800-1825520400@saludagop.org
SUMMARY:Early Voting
DESCRIPTION:
URL:https://saludagop.org/event/early-voting/2027-11-06/
END:VEVENT
BEGIN:VEVENT
DTSTART;TZID=America/New_York:20271107T083000
DTEND;TZID=America/New_York:20271107T170000
DTSTAMP:20260421T170346
CREATED:20250910T025501Z
LAST-MODIFIED:20250910T025507Z
UID:10001434-1825576200-1825606800@saludagop.org
SUMMARY:Early Voting
DESCRIPTION:
URL:https://saludagop.org/event/early-voting/2027-11-07/
END:VEVENT
BEGIN:VEVENT
DTSTART;TZID=America/New_York:20271108T083000
DTEND;TZID=America/New_York:20271108T170000
DTSTAMP:20260421T170346
CREATED:20250910T025501Z
LAST-MODIFIED:20250910T025507Z
UID:10001435-1825662600-1825693200@saludagop.org
SUMMARY:Early Voting
DESCRIPTION:
URL:https://saludagop.org/event/early-voting/2027-11-08/
END:VEVENT
BEGIN:VEVENT
DTSTART;TZID=America/New_York:20271108T180000
DTEND;TZID=America/New_York:20271108T190000
DTSTAMP:20260421T170346
CREATED:20250509T050406Z
LAST-MODIFIED:20250512T063927Z
UID:10000362-1825696800-1825700400@saludagop.org
SUMMARY:County Council Meeting
DESCRIPTION:
URL:https://saludagop.org/event/county-council-meeting/2027-11-08/
LOCATION:Saluda County Administrative Offices\, 400 W. Highland St.\, Saluda\, SC\, 29138\, United States
END:VEVENT
BEGIN:VEVENT
DTSTART;TZID=America/New_York:20271109T083000
DTEND;TZID=America/New_York:20271109T170000
DTSTAMP:20260421T170346
CREATED:20250910T025501Z
LAST-MODIFIED:20250910T025507Z
UID:10001436-1825749000-1825779600@saludagop.org
SUMMARY:Early Voting
DESCRIPTION:
URL:https://saludagop.org/event/early-voting/2027-11-09/
END:VEVENT
END:VCALENDAR