BEGIN:VCALENDAR
VERSION:2.0
PRODID:-//Saluda GOP - ECPv6.15.20//NONSGML v1.0//EN
CALSCALE:GREGORIAN
METHOD:PUBLISH
X-ORIGINAL-URL:https://saludagop.org
X-WR-CALDESC:Events for Saluda GOP
REFRESH-INTERVAL;VALUE=DURATION:PT1H
X-Robots-Tag:noindex
X-PUBLISHED-TTL:PT1H
BEGIN:VTIMEZONE
TZID:America/New_York
BEGIN:DAYLIGHT
TZOFFSETFROM:-0500
TZOFFSETTO:-0400
TZNAME:EDT
DTSTART:20260308T070000
END:DAYLIGHT
BEGIN:STANDARD
TZOFFSETFROM:-0400
TZOFFSETTO:-0500
TZNAME:EST
DTSTART:20261101T060000
END:STANDARD
BEGIN:DAYLIGHT
TZOFFSETFROM:-0500
TZOFFSETTO:-0400
TZNAME:EDT
DTSTART:20270314T070000
END:DAYLIGHT
BEGIN:STANDARD
TZOFFSETFROM:-0400
TZOFFSETTO:-0500
TZNAME:EST
DTSTART:20271107T060000
END:STANDARD
BEGIN:DAYLIGHT
TZOFFSETFROM:-0500
TZOFFSETTO:-0400
TZNAME:EDT
DTSTART:20280312T070000
END:DAYLIGHT
BEGIN:STANDARD
TZOFFSETFROM:-0400
TZOFFSETTO:-0500
TZNAME:EST
DTSTART:20281105T060000
END:STANDARD
END:VTIMEZONE
BEGIN:VEVENT
DTSTART;TZID=America/New_York:20270711T083000
DTEND;TZID=America/New_York:20270711T170000
DTSTAMP:20260421T012524
CREATED:20250910T025501Z
LAST-MODIFIED:20250910T025507Z
UID:10001315-1815294600-1815325200@saludagop.org
SUMMARY:Early Voting
DESCRIPTION:
URL:https://saludagop.org/event/early-voting/2027-07-11/
END:VEVENT
BEGIN:VEVENT
DTSTART;TZID=America/New_York:20270712T083000
DTEND;TZID=America/New_York:20270712T170000
DTSTAMP:20260421T012524
CREATED:20250910T025501Z
LAST-MODIFIED:20250910T025507Z
UID:10001316-1815381000-1815411600@saludagop.org
SUMMARY:Early Voting
DESCRIPTION:
URL:https://saludagop.org/event/early-voting/2027-07-12/
END:VEVENT
BEGIN:VEVENT
DTSTART;TZID=America/New_York:20270712T180000
DTEND;TZID=America/New_York:20270712T190000
DTSTAMP:20260421T012524
CREATED:20250509T050406Z
LAST-MODIFIED:20250512T063927Z
UID:10000358-1815415200-1815418800@saludagop.org
SUMMARY:County Council Meeting
DESCRIPTION:
URL:https://saludagop.org/event/county-council-meeting/2027-07-12/
LOCATION:Saluda County Administrative Offices\, 400 W. Highland St.\, Saluda\, SC\, 29138\, United States
END:VEVENT
BEGIN:VEVENT
DTSTART;TZID=America/New_York:20270713T083000
DTEND;TZID=America/New_York:20270713T170000
DTSTAMP:20260421T012524
CREATED:20250910T025501Z
LAST-MODIFIED:20250910T025507Z
UID:10001317-1815467400-1815498000@saludagop.org
SUMMARY:Early Voting
DESCRIPTION:
URL:https://saludagop.org/event/early-voting/2027-07-13/
END:VEVENT
BEGIN:VEVENT
DTSTART;TZID=America/New_York:20270714T083000
DTEND;TZID=America/New_York:20270714T170000
DTSTAMP:20260421T012524
CREATED:20250910T025501Z
LAST-MODIFIED:20250910T025507Z
UID:10001318-1815553800-1815584400@saludagop.org
SUMMARY:Early Voting
DESCRIPTION:
URL:https://saludagop.org/event/early-voting/2027-07-14/
END:VEVENT
BEGIN:VEVENT
DTSTART;TZID=America/New_York:20270715T083000
DTEND;TZID=America/New_York:20270715T170000
DTSTAMP:20260421T012524
CREATED:20250910T025501Z
LAST-MODIFIED:20250910T025507Z
UID:10001319-1815640200-1815670800@saludagop.org
SUMMARY:Early Voting
DESCRIPTION:
URL:https://saludagop.org/event/early-voting/2027-07-15/
END:VEVENT
BEGIN:VEVENT
DTSTART;TZID=America/New_York:20270716T083000
DTEND;TZID=America/New_York:20270716T170000
DTSTAMP:20260421T012524
CREATED:20250910T025501Z
LAST-MODIFIED:20250910T025507Z
UID:10001320-1815726600-1815757200@saludagop.org
SUMMARY:Early Voting
DESCRIPTION:
URL:https://saludagop.org/event/early-voting/2027-07-16/
END:VEVENT
BEGIN:VEVENT
DTSTART;TZID=America/New_York:20270717T083000
DTEND;TZID=America/New_York:20270717T170000
DTSTAMP:20260421T012524
CREATED:20250910T025501Z
LAST-MODIFIED:20250910T025507Z
UID:10001321-1815813000-1815843600@saludagop.org
SUMMARY:Early Voting
DESCRIPTION:
URL:https://saludagop.org/event/early-voting/2027-07-17/
END:VEVENT
BEGIN:VEVENT
DTSTART;TZID=America/New_York:20270718T083000
DTEND;TZID=America/New_York:20270718T170000
DTSTAMP:20260421T012524
CREATED:20250910T025501Z
LAST-MODIFIED:20250910T025507Z
UID:10001322-1815899400-1815930000@saludagop.org
SUMMARY:Early Voting
DESCRIPTION:
URL:https://saludagop.org/event/early-voting/2027-07-18/
END:VEVENT
BEGIN:VEVENT
DTSTART;TZID=America/New_York:20270719T083000
DTEND;TZID=America/New_York:20270719T170000
DTSTAMP:20260421T012524
CREATED:20250910T025501Z
LAST-MODIFIED:20250910T025507Z
UID:10001323-1815985800-1816016400@saludagop.org
SUMMARY:Early Voting
DESCRIPTION:
URL:https://saludagop.org/event/early-voting/2027-07-19/
END:VEVENT
BEGIN:VEVENT
DTSTART;TZID=America/New_York:20270720T083000
DTEND;TZID=America/New_York:20270720T170000
DTSTAMP:20260421T012524
CREATED:20250910T025501Z
LAST-MODIFIED:20250910T025507Z
UID:10001324-1816072200-1816102800@saludagop.org
SUMMARY:Early Voting
DESCRIPTION:
URL:https://saludagop.org/event/early-voting/2027-07-20/
END:VEVENT
BEGIN:VEVENT
DTSTART;TZID=America/New_York:20270721T083000
DTEND;TZID=America/New_York:20270721T170000
DTSTAMP:20260421T012524
CREATED:20250910T025501Z
LAST-MODIFIED:20250910T025507Z
UID:10001325-1816158600-1816189200@saludagop.org
SUMMARY:Early Voting
DESCRIPTION:
URL:https://saludagop.org/event/early-voting/2027-07-21/
END:VEVENT
BEGIN:VEVENT
DTSTART;TZID=America/New_York:20270722T083000
DTEND;TZID=America/New_York:20270722T170000
DTSTAMP:20260421T012524
CREATED:20250910T025501Z
LAST-MODIFIED:20250910T025507Z
UID:10001326-1816245000-1816275600@saludagop.org
SUMMARY:Early Voting
DESCRIPTION:
URL:https://saludagop.org/event/early-voting/2027-07-22/
END:VEVENT
BEGIN:VEVENT
DTSTART;TZID=America/New_York:20270723T083000
DTEND;TZID=America/New_York:20270723T170000
DTSTAMP:20260421T012524
CREATED:20250910T025501Z
LAST-MODIFIED:20250910T025507Z
UID:10001327-1816331400-1816362000@saludagop.org
SUMMARY:Early Voting
DESCRIPTION:
URL:https://saludagop.org/event/early-voting/2027-07-23/
END:VEVENT
BEGIN:VEVENT
DTSTART;TZID=America/New_York:20270724T083000
DTEND;TZID=America/New_York:20270724T170000
DTSTAMP:20260421T012524
CREATED:20250910T025501Z
LAST-MODIFIED:20250910T025507Z
UID:10001328-1816417800-1816448400@saludagop.org
SUMMARY:Early Voting
DESCRIPTION:
URL:https://saludagop.org/event/early-voting/2027-07-24/
END:VEVENT
BEGIN:VEVENT
DTSTART;TZID=America/New_York:20270725T083000
DTEND;TZID=America/New_York:20270725T170000
DTSTAMP:20260421T012524
CREATED:20250910T025501Z
LAST-MODIFIED:20250910T025507Z
UID:10001329-1816504200-1816534800@saludagop.org
SUMMARY:Early Voting
DESCRIPTION:
URL:https://saludagop.org/event/early-voting/2027-07-25/
END:VEVENT
BEGIN:VEVENT
DTSTART;TZID=America/New_York:20270726T083000
DTEND;TZID=America/New_York:20270726T170000
DTSTAMP:20260421T012524
CREATED:20250910T025501Z
LAST-MODIFIED:20250910T025507Z
UID:10001330-1816590600-1816621200@saludagop.org
SUMMARY:Early Voting
DESCRIPTION:
URL:https://saludagop.org/event/early-voting/2027-07-26/
END:VEVENT
BEGIN:VEVENT
DTSTART;TZID=America/New_York:20270726T180000
DTEND;TZID=America/New_York:20270726T200000
DTSTAMP:20260421T012524
CREATED:20251215T025208Z
LAST-MODIFIED:20251215T025554Z
UID:10002615-1816624800-1816632000@saludagop.org
SUMMARY:Saluda GOP Monthly Meeting
DESCRIPTION:Our Monthly Members meetings usually start with a meal at 6pm.  No charge\, but donations are appreciated!  We usually feature a guest speaker and a short business meeting afterwards when needed. \n\n\n\nThe public is welcome to attend.
URL:https://saludagop.org/event/saluda-gop-monthly-meeting-4/2027-07-26/
LOCATION:Saluda Presbyterian Church\, 103 W. Highland St.\, Saluda\, SC\, 29138\, United States
ORGANIZER;CN="The Saluda County Republican Party":MAILTO:saludaGOP@gmail.com
END:VEVENT
BEGIN:VEVENT
DTSTART;TZID=America/New_York:20270727T083000
DTEND;TZID=America/New_York:20270727T170000
DTSTAMP:20260421T012524
CREATED:20250910T025501Z
LAST-MODIFIED:20250910T025507Z
UID:10001331-1816677000-1816707600@saludagop.org
SUMMARY:Early Voting
DESCRIPTION:
URL:https://saludagop.org/event/early-voting/2027-07-27/
END:VEVENT
BEGIN:VEVENT
DTSTART;TZID=America/New_York:20270728T083000
DTEND;TZID=America/New_York:20270728T170000
DTSTAMP:20260421T012524
CREATED:20250910T025501Z
LAST-MODIFIED:20250910T025507Z
UID:10001332-1816763400-1816794000@saludagop.org
SUMMARY:Early Voting
DESCRIPTION:
URL:https://saludagop.org/event/early-voting/2027-07-28/
END:VEVENT
BEGIN:VEVENT
DTSTART;TZID=America/New_York:20270729T083000
DTEND;TZID=America/New_York:20270729T170000
DTSTAMP:20260421T012524
CREATED:20250910T025501Z
LAST-MODIFIED:20250910T025507Z
UID:10001333-1816849800-1816880400@saludagop.org
SUMMARY:Early Voting
DESCRIPTION:
URL:https://saludagop.org/event/early-voting/2027-07-29/
END:VEVENT
BEGIN:VEVENT
DTSTART;TZID=America/New_York:20270730T083000
DTEND;TZID=America/New_York:20270730T170000
DTSTAMP:20260421T012524
CREATED:20250910T025501Z
LAST-MODIFIED:20250910T025507Z
UID:10001334-1816936200-1816966800@saludagop.org
SUMMARY:Early Voting
DESCRIPTION:
URL:https://saludagop.org/event/early-voting/2027-07-30/
END:VEVENT
BEGIN:VEVENT
DTSTART;TZID=America/New_York:20270731T083000
DTEND;TZID=America/New_York:20270731T170000
DTSTAMP:20260421T012524
CREATED:20250910T025501Z
LAST-MODIFIED:20250910T025507Z
UID:10001335-1817022600-1817053200@saludagop.org
SUMMARY:Early Voting
DESCRIPTION:
URL:https://saludagop.org/event/early-voting/2027-07-31/
END:VEVENT
BEGIN:VEVENT
DTSTART;TZID=America/New_York:20270801T083000
DTEND;TZID=America/New_York:20270801T170000
DTSTAMP:20260421T012524
CREATED:20250910T025501Z
LAST-MODIFIED:20250910T025507Z
UID:10001336-1817109000-1817139600@saludagop.org
SUMMARY:Early Voting
DESCRIPTION:
URL:https://saludagop.org/event/early-voting/2027-08-01/
END:VEVENT
BEGIN:VEVENT
DTSTART;TZID=America/New_York:20270802T083000
DTEND;TZID=America/New_York:20270802T170000
DTSTAMP:20260421T012524
CREATED:20250910T025501Z
LAST-MODIFIED:20250910T025507Z
UID:10001337-1817195400-1817226000@saludagop.org
SUMMARY:Early Voting
DESCRIPTION:
URL:https://saludagop.org/event/early-voting/2027-08-02/
END:VEVENT
BEGIN:VEVENT
DTSTART;TZID=America/New_York:20270803T083000
DTEND;TZID=America/New_York:20270803T170000
DTSTAMP:20260421T012524
CREATED:20250910T025501Z
LAST-MODIFIED:20250910T025507Z
UID:10001338-1817281800-1817312400@saludagop.org
SUMMARY:Early Voting
DESCRIPTION:
URL:https://saludagop.org/event/early-voting/2027-08-03/
END:VEVENT
BEGIN:VEVENT
DTSTART;TZID=America/New_York:20270803T180000
DTEND;TZID=America/New_York:20270803T190000
DTSTAMP:20260421T012524
CREATED:20250509T051219Z
LAST-MODIFIED:20250512T063559Z
UID:10000039-1817316000-1817319600@saludagop.org
SUMMARY:Saluda Town Council Meeting
DESCRIPTION:Monthly Town Council Meeting
URL:https://saludagop.org/event/saluda-town-council-meeting/2027-08-03/
LOCATION:Saluda Town Hall\, 100 South Jefferson St.\, Saluda\, SC\, 29138\, United States
END:VEVENT
BEGIN:VEVENT
DTSTART;TZID=America/New_York:20270804T083000
DTEND;TZID=America/New_York:20270804T170000
DTSTAMP:20260421T012524
CREATED:20250910T025501Z
LAST-MODIFIED:20250910T025507Z
UID:10001339-1817368200-1817398800@saludagop.org
SUMMARY:Early Voting
DESCRIPTION:
URL:https://saludagop.org/event/early-voting/2027-08-04/
END:VEVENT
BEGIN:VEVENT
DTSTART;TZID=America/New_York:20270805T083000
DTEND;TZID=America/New_York:20270805T170000
DTSTAMP:20260421T012524
CREATED:20250910T025501Z
LAST-MODIFIED:20250910T025507Z
UID:10001340-1817454600-1817485200@saludagop.org
SUMMARY:Early Voting
DESCRIPTION:
URL:https://saludagop.org/event/early-voting/2027-08-05/
END:VEVENT
BEGIN:VEVENT
DTSTART;TZID=America/New_York:20270806T083000
DTEND;TZID=America/New_York:20270806T170000
DTSTAMP:20260421T012524
CREATED:20250910T025501Z
LAST-MODIFIED:20250910T025507Z
UID:10001341-1817541000-1817571600@saludagop.org
SUMMARY:Early Voting
DESCRIPTION:
URL:https://saludagop.org/event/early-voting/2027-08-06/
END:VEVENT
END:VCALENDAR