BEGIN:VCALENDAR
VERSION:2.0
PRODID:-//Saluda GOP - ECPv6.15.20//NONSGML v1.0//EN
CALSCALE:GREGORIAN
METHOD:PUBLISH
X-WR-CALNAME:Saluda GOP
X-ORIGINAL-URL:https://saludagop.org
X-WR-CALDESC:Events for Saluda GOP
REFRESH-INTERVAL;VALUE=DURATION:PT1H
X-Robots-Tag:noindex
X-PUBLISHED-TTL:PT1H
BEGIN:VTIMEZONE
TZID:America/New_York
BEGIN:DAYLIGHT
TZOFFSETFROM:-0500
TZOFFSETTO:-0400
TZNAME:EDT
DTSTART:20280312T070000
END:DAYLIGHT
BEGIN:STANDARD
TZOFFSETFROM:-0400
TZOFFSETTO:-0500
TZNAME:EST
DTSTART:20281105T060000
END:STANDARD
BEGIN:DAYLIGHT
TZOFFSETFROM:-0500
TZOFFSETTO:-0400
TZNAME:EDT
DTSTART:20290311T070000
END:DAYLIGHT
BEGIN:STANDARD
TZOFFSETFROM:-0400
TZOFFSETTO:-0500
TZNAME:EST
DTSTART:20291104T060000
END:STANDARD
BEGIN:DAYLIGHT
TZOFFSETFROM:-0500
TZOFFSETTO:-0400
TZNAME:EDT
DTSTART:20300310T070000
END:DAYLIGHT
BEGIN:STANDARD
TZOFFSETFROM:-0400
TZOFFSETTO:-0500
TZNAME:EST
DTSTART:20301103T060000
END:STANDARD
END:VTIMEZONE
BEGIN:VEVENT
DTSTART;TZID=America/New_York:20290325T083000
DTEND;TZID=America/New_York:20290325T170000
DTSTAMP:20260425T002342
CREATED:20250910T025501Z
LAST-MODIFIED:20250910T025507Z
UID:10001938-1869121800-1869152400@saludagop.org
SUMMARY:Early Voting
DESCRIPTION:
URL:https://saludagop.org/event/early-voting/2029-03-25/
END:VEVENT
BEGIN:VEVENT
DTSTART;TZID=America/New_York:20290326T083000
DTEND;TZID=America/New_York:20290326T170000
DTSTAMP:20260425T002342
CREATED:20250910T025501Z
LAST-MODIFIED:20250910T025507Z
UID:10001939-1869208200-1869238800@saludagop.org
SUMMARY:Early Voting
DESCRIPTION:
URL:https://saludagop.org/event/early-voting/2029-03-26/
END:VEVENT
BEGIN:VEVENT
DTSTART;TZID=America/New_York:20290326T180000
DTEND;TZID=America/New_York:20290326T200000
DTSTAMP:20260425T002342
CREATED:20251215T025208Z
LAST-MODIFIED:20251215T025554Z
UID:10002635-1869242400-1869249600@saludagop.org
SUMMARY:Saluda GOP Monthly Meeting
DESCRIPTION:Our Monthly Members meetings usually start with a meal at 6pm.  No charge\, but donations are appreciated!  We usually feature a guest speaker and a short business meeting afterwards when needed. \n\n\n\nThe public is welcome to attend.
URL:https://saludagop.org/event/saluda-gop-monthly-meeting-4/2029-03-26/
LOCATION:Saluda Presbyterian Church\, 103 W. Highland St.\, Saluda\, SC\, 29138\, United States
ORGANIZER;CN="The Saluda County Republican Party":MAILTO:saludaGOP@gmail.com
END:VEVENT
BEGIN:VEVENT
DTSTART;TZID=America/New_York:20290327T083000
DTEND;TZID=America/New_York:20290327T170000
DTSTAMP:20260425T002342
CREATED:20250910T025501Z
LAST-MODIFIED:20250910T025507Z
UID:10001940-1869294600-1869325200@saludagop.org
SUMMARY:Early Voting
DESCRIPTION:
URL:https://saludagop.org/event/early-voting/2029-03-27/
END:VEVENT
BEGIN:VEVENT
DTSTART;TZID=America/New_York:20290328T083000
DTEND;TZID=America/New_York:20290328T170000
DTSTAMP:20260425T002342
CREATED:20250910T025501Z
LAST-MODIFIED:20250910T025507Z
UID:10001941-1869381000-1869411600@saludagop.org
SUMMARY:Early Voting
DESCRIPTION:
URL:https://saludagop.org/event/early-voting/2029-03-28/
END:VEVENT
BEGIN:VEVENT
DTSTART;TZID=America/New_York:20290329T083000
DTEND;TZID=America/New_York:20290329T170000
DTSTAMP:20260425T002342
CREATED:20250910T025501Z
LAST-MODIFIED:20250910T025507Z
UID:10001942-1869467400-1869498000@saludagop.org
SUMMARY:Early Voting
DESCRIPTION:
URL:https://saludagop.org/event/early-voting/2029-03-29/
END:VEVENT
BEGIN:VEVENT
DTSTART;TZID=America/New_York:20290330T083000
DTEND;TZID=America/New_York:20290330T170000
DTSTAMP:20260425T002342
CREATED:20250910T025501Z
LAST-MODIFIED:20250910T025507Z
UID:10001943-1869553800-1869584400@saludagop.org
SUMMARY:Early Voting
DESCRIPTION:
URL:https://saludagop.org/event/early-voting/2029-03-30/
END:VEVENT
BEGIN:VEVENT
DTSTART;TZID=America/New_York:20290331T083000
DTEND;TZID=America/New_York:20290331T170000
DTSTAMP:20260425T002342
CREATED:20250910T025501Z
LAST-MODIFIED:20250910T025507Z
UID:10001944-1869640200-1869670800@saludagop.org
SUMMARY:Early Voting
DESCRIPTION:
URL:https://saludagop.org/event/early-voting/2029-03-31/
END:VEVENT
BEGIN:VEVENT
DTSTART;TZID=America/New_York:20290401T083000
DTEND;TZID=America/New_York:20290401T170000
DTSTAMP:20260425T002342
CREATED:20250910T025501Z
LAST-MODIFIED:20250910T025507Z
UID:10001945-1869726600-1869757200@saludagop.org
SUMMARY:Early Voting
DESCRIPTION:
URL:https://saludagop.org/event/early-voting/2029-04-01/
END:VEVENT
BEGIN:VEVENT
DTSTART;TZID=America/New_York:20290402T083000
DTEND;TZID=America/New_York:20290402T170000
DTSTAMP:20260425T002342
CREATED:20250910T025501Z
LAST-MODIFIED:20250910T025507Z
UID:10001946-1869813000-1869843600@saludagop.org
SUMMARY:Early Voting
DESCRIPTION:
URL:https://saludagop.org/event/early-voting/2029-04-02/
END:VEVENT
BEGIN:VEVENT
DTSTART;TZID=America/New_York:20290403T083000
DTEND;TZID=America/New_York:20290403T170000
DTSTAMP:20260425T002342
CREATED:20250910T025501Z
LAST-MODIFIED:20250910T025507Z
UID:10001947-1869899400-1869930000@saludagop.org
SUMMARY:Early Voting
DESCRIPTION:
URL:https://saludagop.org/event/early-voting/2029-04-03/
END:VEVENT
BEGIN:VEVENT
DTSTART;TZID=America/New_York:20290403T180000
DTEND;TZID=America/New_York:20290403T190000
DTSTAMP:20260425T002342
CREATED:20250509T051219Z
LAST-MODIFIED:20250512T063559Z
UID:10000059-1869933600-1869937200@saludagop.org
SUMMARY:Saluda Town Council Meeting
DESCRIPTION:Monthly Town Council Meeting
URL:https://saludagop.org/event/saluda-town-council-meeting/2029-04-03/
LOCATION:Saluda Town Hall\, 100 South Jefferson St.\, Saluda\, SC\, 29138\, United States
END:VEVENT
BEGIN:VEVENT
DTSTART;TZID=America/New_York:20290404T083000
DTEND;TZID=America/New_York:20290404T170000
DTSTAMP:20260425T002342
CREATED:20250910T025501Z
LAST-MODIFIED:20250910T025507Z
UID:10001948-1869985800-1870016400@saludagop.org
SUMMARY:Early Voting
DESCRIPTION:
URL:https://saludagop.org/event/early-voting/2029-04-04/
END:VEVENT
BEGIN:VEVENT
DTSTART;TZID=America/New_York:20290405T083000
DTEND;TZID=America/New_York:20290405T170000
DTSTAMP:20260425T002342
CREATED:20250910T025501Z
LAST-MODIFIED:20250910T025507Z
UID:10001949-1870072200-1870102800@saludagop.org
SUMMARY:Early Voting
DESCRIPTION:
URL:https://saludagop.org/event/early-voting/2029-04-05/
END:VEVENT
BEGIN:VEVENT
DTSTART;TZID=America/New_York:20290406T083000
DTEND;TZID=America/New_York:20290406T170000
DTSTAMP:20260425T002342
CREATED:20250910T025501Z
LAST-MODIFIED:20250910T025507Z
UID:10001950-1870158600-1870189200@saludagop.org
SUMMARY:Early Voting
DESCRIPTION:
URL:https://saludagop.org/event/early-voting/2029-04-06/
END:VEVENT
BEGIN:VEVENT
DTSTART;TZID=America/New_York:20290407T083000
DTEND;TZID=America/New_York:20290407T170000
DTSTAMP:20260425T002342
CREATED:20250910T025501Z
LAST-MODIFIED:20250910T025507Z
UID:10001951-1870245000-1870275600@saludagop.org
SUMMARY:Early Voting
DESCRIPTION:
URL:https://saludagop.org/event/early-voting/2029-04-07/
END:VEVENT
BEGIN:VEVENT
DTSTART;TZID=America/New_York:20290408T083000
DTEND;TZID=America/New_York:20290408T170000
DTSTAMP:20260425T002342
CREATED:20250910T025501Z
LAST-MODIFIED:20250910T025507Z
UID:10001952-1870331400-1870362000@saludagop.org
SUMMARY:Early Voting
DESCRIPTION:
URL:https://saludagop.org/event/early-voting/2029-04-08/
END:VEVENT
BEGIN:VEVENT
DTSTART;TZID=America/New_York:20290409T083000
DTEND;TZID=America/New_York:20290409T170000
DTSTAMP:20260425T002342
CREATED:20250910T025501Z
LAST-MODIFIED:20250910T025507Z
UID:10001953-1870417800-1870448400@saludagop.org
SUMMARY:Early Voting
DESCRIPTION:
URL:https://saludagop.org/event/early-voting/2029-04-09/
END:VEVENT
BEGIN:VEVENT
DTSTART;TZID=America/New_York:20290409T180000
DTEND;TZID=America/New_York:20290409T190000
DTSTAMP:20260425T002342
CREATED:20250509T050406Z
LAST-MODIFIED:20250512T063927Z
UID:10000379-1870452000-1870455600@saludagop.org
SUMMARY:County Council Meeting
DESCRIPTION:
URL:https://saludagop.org/event/county-council-meeting/2029-04-09/
LOCATION:Saluda County Administrative Offices\, 400 W. Highland St.\, Saluda\, SC\, 29138\, United States
END:VEVENT
BEGIN:VEVENT
DTSTART;TZID=America/New_York:20290410T083000
DTEND;TZID=America/New_York:20290410T170000
DTSTAMP:20260425T002342
CREATED:20250910T025501Z
LAST-MODIFIED:20250910T025507Z
UID:10001954-1870504200-1870534800@saludagop.org
SUMMARY:Early Voting
DESCRIPTION:
URL:https://saludagop.org/event/early-voting/2029-04-10/
END:VEVENT
BEGIN:VEVENT
DTSTART;TZID=America/New_York:20290411T083000
DTEND;TZID=America/New_York:20290411T170000
DTSTAMP:20260425T002342
CREATED:20250910T025501Z
LAST-MODIFIED:20250910T025507Z
UID:10001955-1870590600-1870621200@saludagop.org
SUMMARY:Early Voting
DESCRIPTION:
URL:https://saludagop.org/event/early-voting/2029-04-11/
END:VEVENT
BEGIN:VEVENT
DTSTART;TZID=America/New_York:20290412T083000
DTEND;TZID=America/New_York:20290412T170000
DTSTAMP:20260425T002342
CREATED:20250910T025501Z
LAST-MODIFIED:20250910T025507Z
UID:10001956-1870677000-1870707600@saludagop.org
SUMMARY:Early Voting
DESCRIPTION:
URL:https://saludagop.org/event/early-voting/2029-04-12/
END:VEVENT
BEGIN:VEVENT
DTSTART;TZID=America/New_York:20290412T183000
DTEND;TZID=America/New_York:20290412T200000
DTSTAMP:20260425T002342
CREATED:20260318T163009Z
LAST-MODIFIED:20260318T175824Z
UID:10002695-1870713000-1870718400@saludagop.org
SUMMARY:Steering Committee
DESCRIPTION:This is the monthly meeting of the Saluda County Steering Committee.  The members are: \n\n\n\nAmy Potts\, ChairGreg SanderJay DunbarKim ParigorisBen WardRuss TerrellDeb Camp \n\n\n\nThis committee discusses ongoing plans and ideas to bring forward at the next business meeting.
URL:https://saludagop.org/event/committees-cocktails-coca-colas-2/2029-04-12/
LOCATION:Saluda Presbyterian Church\, 103 W. Highland St.\, Saluda\, SC\, 29138\, United States
ORGANIZER;CN="The Saluda County Republican Party":MAILTO:saludaGOP@gmail.com
END:VEVENT
BEGIN:VEVENT
DTSTART;TZID=America/New_York:20290413T083000
DTEND;TZID=America/New_York:20290413T170000
DTSTAMP:20260425T002342
CREATED:20250910T025501Z
LAST-MODIFIED:20250910T025507Z
UID:10001957-1870763400-1870794000@saludagop.org
SUMMARY:Early Voting
DESCRIPTION:
URL:https://saludagop.org/event/early-voting/2029-04-13/
END:VEVENT
BEGIN:VEVENT
DTSTART;TZID=America/New_York:20290414T083000
DTEND;TZID=America/New_York:20290414T170000
DTSTAMP:20260425T002342
CREATED:20250910T025501Z
LAST-MODIFIED:20250910T025507Z
UID:10001958-1870849800-1870880400@saludagop.org
SUMMARY:Early Voting
DESCRIPTION:
URL:https://saludagop.org/event/early-voting/2029-04-14/
END:VEVENT
BEGIN:VEVENT
DTSTART;TZID=America/New_York:20290415T083000
DTEND;TZID=America/New_York:20290415T170000
DTSTAMP:20260425T002342
CREATED:20250910T025501Z
LAST-MODIFIED:20250910T025507Z
UID:10001959-1870936200-1870966800@saludagop.org
SUMMARY:Early Voting
DESCRIPTION:
URL:https://saludagop.org/event/early-voting/2029-04-15/
END:VEVENT
BEGIN:VEVENT
DTSTART;TZID=America/New_York:20290416T083000
DTEND;TZID=America/New_York:20290416T170000
DTSTAMP:20260425T002342
CREATED:20250910T025501Z
LAST-MODIFIED:20250910T025507Z
UID:10001960-1871022600-1871053200@saludagop.org
SUMMARY:Early Voting
DESCRIPTION:
URL:https://saludagop.org/event/early-voting/2029-04-16/
END:VEVENT
BEGIN:VEVENT
DTSTART;TZID=America/New_York:20290417T083000
DTEND;TZID=America/New_York:20290417T170000
DTSTAMP:20260425T002342
CREATED:20250910T025501Z
LAST-MODIFIED:20250910T025507Z
UID:10001961-1871109000-1871139600@saludagop.org
SUMMARY:Early Voting
DESCRIPTION:
URL:https://saludagop.org/event/early-voting/2029-04-17/
END:VEVENT
BEGIN:VEVENT
DTSTART;TZID=America/New_York:20290418T083000
DTEND;TZID=America/New_York:20290418T170000
DTSTAMP:20260425T002342
CREATED:20250910T025501Z
LAST-MODIFIED:20250910T025507Z
UID:10001962-1871195400-1871226000@saludagop.org
SUMMARY:Early Voting
DESCRIPTION:
URL:https://saludagop.org/event/early-voting/2029-04-18/
END:VEVENT
BEGIN:VEVENT
DTSTART;TZID=America/New_York:20290419T083000
DTEND;TZID=America/New_York:20290419T170000
DTSTAMP:20260425T002342
CREATED:20250910T025501Z
LAST-MODIFIED:20250910T025507Z
UID:10001963-1871281800-1871312400@saludagop.org
SUMMARY:Early Voting
DESCRIPTION:
URL:https://saludagop.org/event/early-voting/2029-04-19/
END:VEVENT
END:VCALENDAR