BEGIN:VCALENDAR
VERSION:2.0
PRODID:-//Saluda GOP - ECPv6.15.20//NONSGML v1.0//EN
CALSCALE:GREGORIAN
METHOD:PUBLISH
X-ORIGINAL-URL:https://saludagop.org
X-WR-CALDESC:Events for Saluda GOP
REFRESH-INTERVAL;VALUE=DURATION:PT1H
X-Robots-Tag:noindex
X-PUBLISHED-TTL:PT1H
BEGIN:VTIMEZONE
TZID:America/New_York
BEGIN:DAYLIGHT
TZOFFSETFROM:-0500
TZOFFSETTO:-0400
TZNAME:EDT
DTSTART:20280312T070000
END:DAYLIGHT
BEGIN:STANDARD
TZOFFSETFROM:-0400
TZOFFSETTO:-0500
TZNAME:EST
DTSTART:20281105T060000
END:STANDARD
BEGIN:DAYLIGHT
TZOFFSETFROM:-0500
TZOFFSETTO:-0400
TZNAME:EDT
DTSTART:20290311T070000
END:DAYLIGHT
BEGIN:STANDARD
TZOFFSETFROM:-0400
TZOFFSETTO:-0500
TZNAME:EST
DTSTART:20291104T060000
END:STANDARD
BEGIN:DAYLIGHT
TZOFFSETFROM:-0500
TZOFFSETTO:-0400
TZNAME:EDT
DTSTART:20300310T070000
END:DAYLIGHT
BEGIN:STANDARD
TZOFFSETFROM:-0400
TZOFFSETTO:-0500
TZNAME:EST
DTSTART:20301103T060000
END:STANDARD
END:VTIMEZONE
BEGIN:VEVENT
DTSTART;TZID=America/New_York:20290213T083000
DTEND;TZID=America/New_York:20290213T170000
DTSTAMP:20260424T192726
CREATED:20250910T025501Z
LAST-MODIFIED:20250910T025507Z
UID:10001898-1865665800-1865696400@saludagop.org
SUMMARY:Early Voting
DESCRIPTION:
URL:https://saludagop.org/event/early-voting/2029-02-13/
END:VEVENT
BEGIN:VEVENT
DTSTART;TZID=America/New_York:20290214T083000
DTEND;TZID=America/New_York:20290214T170000
DTSTAMP:20260424T192726
CREATED:20250910T025501Z
LAST-MODIFIED:20250910T025507Z
UID:10001899-1865752200-1865782800@saludagop.org
SUMMARY:Early Voting
DESCRIPTION:
URL:https://saludagop.org/event/early-voting/2029-02-14/
END:VEVENT
BEGIN:VEVENT
DTSTART;TZID=America/New_York:20290215T083000
DTEND;TZID=America/New_York:20290215T170000
DTSTAMP:20260424T192726
CREATED:20250910T025501Z
LAST-MODIFIED:20250910T025507Z
UID:10001900-1865838600-1865869200@saludagop.org
SUMMARY:Early Voting
DESCRIPTION:
URL:https://saludagop.org/event/early-voting/2029-02-15/
END:VEVENT
BEGIN:VEVENT
DTSTART;TZID=America/New_York:20290216T083000
DTEND;TZID=America/New_York:20290216T170000
DTSTAMP:20260424T192726
CREATED:20250910T025501Z
LAST-MODIFIED:20250910T025507Z
UID:10001901-1865925000-1865955600@saludagop.org
SUMMARY:Early Voting
DESCRIPTION:
URL:https://saludagop.org/event/early-voting/2029-02-16/
END:VEVENT
BEGIN:VEVENT
DTSTART;TZID=America/New_York:20290217T083000
DTEND;TZID=America/New_York:20290217T170000
DTSTAMP:20260424T192726
CREATED:20250910T025501Z
LAST-MODIFIED:20250910T025507Z
UID:10001902-1866011400-1866042000@saludagop.org
SUMMARY:Early Voting
DESCRIPTION:
URL:https://saludagop.org/event/early-voting/2029-02-17/
END:VEVENT
BEGIN:VEVENT
DTSTART;TZID=America/New_York:20290218T083000
DTEND;TZID=America/New_York:20290218T170000
DTSTAMP:20260424T192726
CREATED:20250910T025501Z
LAST-MODIFIED:20250910T025507Z
UID:10001903-1866097800-1866128400@saludagop.org
SUMMARY:Early Voting
DESCRIPTION:
URL:https://saludagop.org/event/early-voting/2029-02-18/
END:VEVENT
BEGIN:VEVENT
DTSTART;TZID=America/New_York:20290219T083000
DTEND;TZID=America/New_York:20290219T170000
DTSTAMP:20260424T192726
CREATED:20250910T025501Z
LAST-MODIFIED:20250910T025507Z
UID:10001904-1866184200-1866214800@saludagop.org
SUMMARY:Early Voting
DESCRIPTION:
URL:https://saludagop.org/event/early-voting/2029-02-19/
END:VEVENT
BEGIN:VEVENT
DTSTART;TZID=America/New_York:20290220T083000
DTEND;TZID=America/New_York:20290220T170000
DTSTAMP:20260424T192726
CREATED:20250910T025501Z
LAST-MODIFIED:20250910T025507Z
UID:10001905-1866270600-1866301200@saludagop.org
SUMMARY:Early Voting
DESCRIPTION:
URL:https://saludagop.org/event/early-voting/2029-02-20/
END:VEVENT
BEGIN:VEVENT
DTSTART;TZID=America/New_York:20290221T083000
DTEND;TZID=America/New_York:20290221T170000
DTSTAMP:20260424T192726
CREATED:20250910T025501Z
LAST-MODIFIED:20250910T025507Z
UID:10001906-1866357000-1866387600@saludagop.org
SUMMARY:Early Voting
DESCRIPTION:
URL:https://saludagop.org/event/early-voting/2029-02-21/
END:VEVENT
BEGIN:VEVENT
DTSTART;TZID=America/New_York:20290222T083000
DTEND;TZID=America/New_York:20290222T170000
DTSTAMP:20260424T192726
CREATED:20250910T025501Z
LAST-MODIFIED:20250910T025507Z
UID:10001907-1866443400-1866474000@saludagop.org
SUMMARY:Early Voting
DESCRIPTION:
URL:https://saludagop.org/event/early-voting/2029-02-22/
END:VEVENT
BEGIN:VEVENT
DTSTART;TZID=America/New_York:20290223T083000
DTEND;TZID=America/New_York:20290223T170000
DTSTAMP:20260424T192726
CREATED:20250910T025501Z
LAST-MODIFIED:20250910T025507Z
UID:10001908-1866529800-1866560400@saludagop.org
SUMMARY:Early Voting
DESCRIPTION:
URL:https://saludagop.org/event/early-voting/2029-02-23/
END:VEVENT
BEGIN:VEVENT
DTSTART;TZID=America/New_York:20290224T083000
DTEND;TZID=America/New_York:20290224T170000
DTSTAMP:20260424T192726
CREATED:20250910T025501Z
LAST-MODIFIED:20250910T025507Z
UID:10001909-1866616200-1866646800@saludagop.org
SUMMARY:Early Voting
DESCRIPTION:
URL:https://saludagop.org/event/early-voting/2029-02-24/
END:VEVENT
BEGIN:VEVENT
DTSTART;TZID=America/New_York:20290225T083000
DTEND;TZID=America/New_York:20290225T170000
DTSTAMP:20260424T192726
CREATED:20250910T025501Z
LAST-MODIFIED:20250910T025507Z
UID:10001910-1866702600-1866733200@saludagop.org
SUMMARY:Early Voting
DESCRIPTION:
URL:https://saludagop.org/event/early-voting/2029-02-25/
END:VEVENT
BEGIN:VEVENT
DTSTART;TZID=America/New_York:20290226T083000
DTEND;TZID=America/New_York:20290226T170000
DTSTAMP:20260424T192726
CREATED:20250910T025501Z
LAST-MODIFIED:20250910T025507Z
UID:10001911-1866789000-1866819600@saludagop.org
SUMMARY:Early Voting
DESCRIPTION:
URL:https://saludagop.org/event/early-voting/2029-02-26/
END:VEVENT
BEGIN:VEVENT
DTSTART;TZID=America/New_York:20290226T180000
DTEND;TZID=America/New_York:20290226T200000
DTSTAMP:20260424T192726
CREATED:20251215T025208Z
LAST-MODIFIED:20251215T025554Z
UID:10002634-1866823200-1866830400@saludagop.org
SUMMARY:Saluda GOP Monthly Meeting
DESCRIPTION:Our Monthly Members meetings usually start with a meal at 6pm.  No charge\, but donations are appreciated!  We usually feature a guest speaker and a short business meeting afterwards when needed. \n\n\n\nThe public is welcome to attend.
URL:https://saludagop.org/event/saluda-gop-monthly-meeting-4/2029-02-26/
LOCATION:Saluda Presbyterian Church\, 103 W. Highland St.\, Saluda\, SC\, 29138\, United States
ORGANIZER;CN="The Saluda County Republican Party":MAILTO:saludaGOP@gmail.com
END:VEVENT
BEGIN:VEVENT
DTSTART;TZID=America/New_York:20290227T083000
DTEND;TZID=America/New_York:20290227T170000
DTSTAMP:20260424T192726
CREATED:20250910T025501Z
LAST-MODIFIED:20250910T025507Z
UID:10001912-1866875400-1866906000@saludagop.org
SUMMARY:Early Voting
DESCRIPTION:
URL:https://saludagop.org/event/early-voting/2029-02-27/
END:VEVENT
BEGIN:VEVENT
DTSTART;TZID=America/New_York:20290228T083000
DTEND;TZID=America/New_York:20290228T170000
DTSTAMP:20260424T192726
CREATED:20250910T025501Z
LAST-MODIFIED:20250910T025507Z
UID:10001913-1866961800-1866992400@saludagop.org
SUMMARY:Early Voting
DESCRIPTION:
URL:https://saludagop.org/event/early-voting/2029-02-28/
END:VEVENT
BEGIN:VEVENT
DTSTART;TZID=America/New_York:20290301T083000
DTEND;TZID=America/New_York:20290301T170000
DTSTAMP:20260424T192726
CREATED:20250910T025501Z
LAST-MODIFIED:20250910T025507Z
UID:10001914-1867048200-1867078800@saludagop.org
SUMMARY:Early Voting
DESCRIPTION:
URL:https://saludagop.org/event/early-voting/2029-03-01/
END:VEVENT
BEGIN:VEVENT
DTSTART;TZID=America/New_York:20290302T083000
DTEND;TZID=America/New_York:20290302T170000
DTSTAMP:20260424T192726
CREATED:20250910T025501Z
LAST-MODIFIED:20250910T025507Z
UID:10001915-1867134600-1867165200@saludagop.org
SUMMARY:Early Voting
DESCRIPTION:
URL:https://saludagop.org/event/early-voting/2029-03-02/
END:VEVENT
BEGIN:VEVENT
DTSTART;TZID=America/New_York:20290303T083000
DTEND;TZID=America/New_York:20290303T170000
DTSTAMP:20260424T192726
CREATED:20250910T025501Z
LAST-MODIFIED:20250910T025507Z
UID:10001916-1867221000-1867251600@saludagop.org
SUMMARY:Early Voting
DESCRIPTION:
URL:https://saludagop.org/event/early-voting/2029-03-03/
END:VEVENT
BEGIN:VEVENT
DTSTART;TZID=America/New_York:20290304T083000
DTEND;TZID=America/New_York:20290304T170000
DTSTAMP:20260424T192726
CREATED:20250910T025501Z
LAST-MODIFIED:20250910T025507Z
UID:10001917-1867307400-1867338000@saludagop.org
SUMMARY:Early Voting
DESCRIPTION:
URL:https://saludagop.org/event/early-voting/2029-03-04/
END:VEVENT
BEGIN:VEVENT
DTSTART;TZID=America/New_York:20290305T083000
DTEND;TZID=America/New_York:20290305T170000
DTSTAMP:20260424T192726
CREATED:20250910T025501Z
LAST-MODIFIED:20250910T025507Z
UID:10001918-1867393800-1867424400@saludagop.org
SUMMARY:Early Voting
DESCRIPTION:
URL:https://saludagop.org/event/early-voting/2029-03-05/
END:VEVENT
BEGIN:VEVENT
DTSTART;TZID=America/New_York:20290306T083000
DTEND;TZID=America/New_York:20290306T170000
DTSTAMP:20260424T192726
CREATED:20250910T025501Z
LAST-MODIFIED:20250910T025507Z
UID:10001919-1867480200-1867510800@saludagop.org
SUMMARY:Early Voting
DESCRIPTION:
URL:https://saludagop.org/event/early-voting/2029-03-06/
END:VEVENT
BEGIN:VEVENT
DTSTART;TZID=America/New_York:20290306T180000
DTEND;TZID=America/New_York:20290306T190000
DTSTAMP:20260424T192726
CREATED:20250509T051219Z
LAST-MODIFIED:20250512T063559Z
UID:10000058-1867514400-1867518000@saludagop.org
SUMMARY:Saluda Town Council Meeting
DESCRIPTION:Monthly Town Council Meeting
URL:https://saludagop.org/event/saluda-town-council-meeting/2029-03-06/
LOCATION:Saluda Town Hall\, 100 South Jefferson St.\, Saluda\, SC\, 29138\, United States
END:VEVENT
BEGIN:VEVENT
DTSTART;TZID=America/New_York:20290307T083000
DTEND;TZID=America/New_York:20290307T170000
DTSTAMP:20260424T192726
CREATED:20250910T025501Z
LAST-MODIFIED:20250910T025507Z
UID:10001920-1867566600-1867597200@saludagop.org
SUMMARY:Early Voting
DESCRIPTION:
URL:https://saludagop.org/event/early-voting/2029-03-07/
END:VEVENT
BEGIN:VEVENT
DTSTART;TZID=America/New_York:20290308T083000
DTEND;TZID=America/New_York:20290308T170000
DTSTAMP:20260424T192726
CREATED:20250910T025501Z
LAST-MODIFIED:20250910T025507Z
UID:10001921-1867653000-1867683600@saludagop.org
SUMMARY:Early Voting
DESCRIPTION:
URL:https://saludagop.org/event/early-voting/2029-03-08/
END:VEVENT
BEGIN:VEVENT
DTSTART;TZID=America/New_York:20290308T183000
DTEND;TZID=America/New_York:20290308T200000
DTSTAMP:20260424T192726
CREATED:20260318T163009Z
LAST-MODIFIED:20260318T175824Z
UID:10002694-1867689000-1867694400@saludagop.org
SUMMARY:Steering Committee
DESCRIPTION:This is the monthly meeting of the Saluda County Steering Committee.  The members are: \n\n\n\nAmy Potts\, ChairGreg SanderJay DunbarKim ParigorisBen WardRuss TerrellDeb Camp \n\n\n\nThis committee discusses ongoing plans and ideas to bring forward at the next business meeting.
URL:https://saludagop.org/event/committees-cocktails-coca-colas-2/2029-03-08/
LOCATION:Saluda Presbyterian Church\, 103 W. Highland St.\, Saluda\, SC\, 29138\, United States
ORGANIZER;CN="The Saluda County Republican Party":MAILTO:saludaGOP@gmail.com
END:VEVENT
BEGIN:VEVENT
DTSTART;TZID=America/New_York:20290309T083000
DTEND;TZID=America/New_York:20290309T170000
DTSTAMP:20260424T192726
CREATED:20250910T025501Z
LAST-MODIFIED:20250910T025507Z
UID:10001922-1867739400-1867770000@saludagop.org
SUMMARY:Early Voting
DESCRIPTION:
URL:https://saludagop.org/event/early-voting/2029-03-09/
END:VEVENT
BEGIN:VEVENT
DTSTART;TZID=America/New_York:20290310T083000
DTEND;TZID=America/New_York:20290310T170000
DTSTAMP:20260424T192726
CREATED:20250910T025501Z
LAST-MODIFIED:20250910T025507Z
UID:10001923-1867825800-1867856400@saludagop.org
SUMMARY:Early Voting
DESCRIPTION:
URL:https://saludagop.org/event/early-voting/2029-03-10/
END:VEVENT
BEGIN:VEVENT
DTSTART;TZID=America/New_York:20290311T083000
DTEND;TZID=America/New_York:20290311T170000
DTSTAMP:20260424T192726
CREATED:20250910T025501Z
LAST-MODIFIED:20250910T025507Z
UID:10001924-1867912200-1867942800@saludagop.org
SUMMARY:Early Voting
DESCRIPTION:
URL:https://saludagop.org/event/early-voting/2029-03-11/
END:VEVENT
END:VCALENDAR