BEGIN:VCALENDAR
VERSION:2.0
PRODID:-//Saluda GOP - ECPv6.15.20//NONSGML v1.0//EN
CALSCALE:GREGORIAN
METHOD:PUBLISH
X-WR-CALNAME:Saluda GOP
X-ORIGINAL-URL:https://saludagop.org
X-WR-CALDESC:Events for Saluda GOP
REFRESH-INTERVAL;VALUE=DURATION:PT1H
X-Robots-Tag:noindex
X-PUBLISHED-TTL:PT1H
BEGIN:VTIMEZONE
TZID:America/New_York
BEGIN:DAYLIGHT
TZOFFSETFROM:-0500
TZOFFSETTO:-0400
TZNAME:EDT
DTSTART:20280312T070000
END:DAYLIGHT
BEGIN:STANDARD
TZOFFSETFROM:-0400
TZOFFSETTO:-0500
TZNAME:EST
DTSTART:20281105T060000
END:STANDARD
BEGIN:DAYLIGHT
TZOFFSETFROM:-0500
TZOFFSETTO:-0400
TZNAME:EDT
DTSTART:20290311T070000
END:DAYLIGHT
BEGIN:STANDARD
TZOFFSETFROM:-0400
TZOFFSETTO:-0500
TZNAME:EST
DTSTART:20291104T060000
END:STANDARD
BEGIN:DAYLIGHT
TZOFFSETFROM:-0500
TZOFFSETTO:-0400
TZNAME:EDT
DTSTART:20300310T070000
END:DAYLIGHT
BEGIN:STANDARD
TZOFFSETFROM:-0400
TZOFFSETTO:-0500
TZNAME:EST
DTSTART:20301103T060000
END:STANDARD
END:VTIMEZONE
BEGIN:VEVENT
DTSTART;TZID=America/New_York:20290131T083000
DTEND;TZID=America/New_York:20290131T170000
DTSTAMP:20260424T164547
CREATED:20250910T025501Z
LAST-MODIFIED:20250910T025507Z
UID:10001885-1864542600-1864573200@saludagop.org
SUMMARY:Early Voting
DESCRIPTION:
URL:https://saludagop.org/event/early-voting/2029-01-31/
END:VEVENT
BEGIN:VEVENT
DTSTART;TZID=America/New_York:20290201T083000
DTEND;TZID=America/New_York:20290201T170000
DTSTAMP:20260424T164547
CREATED:20250910T025501Z
LAST-MODIFIED:20250910T025507Z
UID:10001886-1864629000-1864659600@saludagop.org
SUMMARY:Early Voting
DESCRIPTION:
URL:https://saludagop.org/event/early-voting/2029-02-01/
END:VEVENT
BEGIN:VEVENT
DTSTART;TZID=America/New_York:20290202T083000
DTEND;TZID=America/New_York:20290202T170000
DTSTAMP:20260424T164547
CREATED:20250910T025501Z
LAST-MODIFIED:20250910T025507Z
UID:10001887-1864715400-1864746000@saludagop.org
SUMMARY:Early Voting
DESCRIPTION:
URL:https://saludagop.org/event/early-voting/2029-02-02/
END:VEVENT
BEGIN:VEVENT
DTSTART;TZID=America/New_York:20290203T083000
DTEND;TZID=America/New_York:20290203T170000
DTSTAMP:20260424T164547
CREATED:20250910T025501Z
LAST-MODIFIED:20250910T025507Z
UID:10001888-1864801800-1864832400@saludagop.org
SUMMARY:Early Voting
DESCRIPTION:
URL:https://saludagop.org/event/early-voting/2029-02-03/
END:VEVENT
BEGIN:VEVENT
DTSTART;TZID=America/New_York:20290204T083000
DTEND;TZID=America/New_York:20290204T170000
DTSTAMP:20260424T164547
CREATED:20250910T025501Z
LAST-MODIFIED:20250910T025507Z
UID:10001889-1864888200-1864918800@saludagop.org
SUMMARY:Early Voting
DESCRIPTION:
URL:https://saludagop.org/event/early-voting/2029-02-04/
END:VEVENT
BEGIN:VEVENT
DTSTART;TZID=America/New_York:20290205T083000
DTEND;TZID=America/New_York:20290205T170000
DTSTAMP:20260424T164547
CREATED:20250910T025501Z
LAST-MODIFIED:20250910T025507Z
UID:10001890-1864974600-1865005200@saludagop.org
SUMMARY:Early Voting
DESCRIPTION:
URL:https://saludagop.org/event/early-voting/2029-02-05/
END:VEVENT
BEGIN:VEVENT
DTSTART;TZID=America/New_York:20290206T083000
DTEND;TZID=America/New_York:20290206T170000
DTSTAMP:20260424T164547
CREATED:20250910T025501Z
LAST-MODIFIED:20250910T025507Z
UID:10001891-1865061000-1865091600@saludagop.org
SUMMARY:Early Voting
DESCRIPTION:
URL:https://saludagop.org/event/early-voting/2029-02-06/
END:VEVENT
BEGIN:VEVENT
DTSTART;TZID=America/New_York:20290206T180000
DTEND;TZID=America/New_York:20290206T190000
DTSTAMP:20260424T164547
CREATED:20250509T051219Z
LAST-MODIFIED:20250512T063559Z
UID:10000057-1865095200-1865098800@saludagop.org
SUMMARY:Saluda Town Council Meeting
DESCRIPTION:Monthly Town Council Meeting
URL:https://saludagop.org/event/saluda-town-council-meeting/2029-02-06/
LOCATION:Saluda Town Hall\, 100 South Jefferson St.\, Saluda\, SC\, 29138\, United States
END:VEVENT
BEGIN:VEVENT
DTSTART;TZID=America/New_York:20290207T083000
DTEND;TZID=America/New_York:20290207T170000
DTSTAMP:20260424T164547
CREATED:20250910T025501Z
LAST-MODIFIED:20250910T025507Z
UID:10001892-1865147400-1865178000@saludagop.org
SUMMARY:Early Voting
DESCRIPTION:
URL:https://saludagop.org/event/early-voting/2029-02-07/
END:VEVENT
BEGIN:VEVENT
DTSTART;TZID=America/New_York:20290208T083000
DTEND;TZID=America/New_York:20290208T170000
DTSTAMP:20260424T164547
CREATED:20250910T025501Z
LAST-MODIFIED:20250910T025507Z
UID:10001893-1865233800-1865264400@saludagop.org
SUMMARY:Early Voting
DESCRIPTION:
URL:https://saludagop.org/event/early-voting/2029-02-08/
END:VEVENT
BEGIN:VEVENT
DTSTART;TZID=America/New_York:20290208T183000
DTEND;TZID=America/New_York:20290208T200000
DTSTAMP:20260424T164547
CREATED:20260318T163009Z
LAST-MODIFIED:20260318T175824Z
UID:10002693-1865269800-1865275200@saludagop.org
SUMMARY:Steering Committee
DESCRIPTION:This is the monthly meeting of the Saluda County Steering Committee.  The members are: \n\n\n\nAmy Potts\, ChairGreg SanderJay DunbarKim ParigorisBen WardRuss TerrellDeb Camp \n\n\n\nThis committee discusses ongoing plans and ideas to bring forward at the next business meeting.
URL:https://saludagop.org/event/committees-cocktails-coca-colas-2/2029-02-08/
LOCATION:Saluda Presbyterian Church\, 103 W. Highland St.\, Saluda\, SC\, 29138\, United States
ORGANIZER;CN="The Saluda County Republican Party":MAILTO:saludaGOP@gmail.com
END:VEVENT
BEGIN:VEVENT
DTSTART;TZID=America/New_York:20290209T083000
DTEND;TZID=America/New_York:20290209T170000
DTSTAMP:20260424T164547
CREATED:20250910T025501Z
LAST-MODIFIED:20250910T025507Z
UID:10001894-1865320200-1865350800@saludagop.org
SUMMARY:Early Voting
DESCRIPTION:
URL:https://saludagop.org/event/early-voting/2029-02-09/
END:VEVENT
BEGIN:VEVENT
DTSTART;TZID=America/New_York:20290210T083000
DTEND;TZID=America/New_York:20290210T170000
DTSTAMP:20260424T164547
CREATED:20250910T025501Z
LAST-MODIFIED:20250910T025507Z
UID:10001895-1865406600-1865437200@saludagop.org
SUMMARY:Early Voting
DESCRIPTION:
URL:https://saludagop.org/event/early-voting/2029-02-10/
END:VEVENT
BEGIN:VEVENT
DTSTART;TZID=America/New_York:20290211T083000
DTEND;TZID=America/New_York:20290211T170000
DTSTAMP:20260424T164547
CREATED:20250910T025501Z
LAST-MODIFIED:20250910T025507Z
UID:10001896-1865493000-1865523600@saludagop.org
SUMMARY:Early Voting
DESCRIPTION:
URL:https://saludagop.org/event/early-voting/2029-02-11/
END:VEVENT
BEGIN:VEVENT
DTSTART;TZID=America/New_York:20290212T083000
DTEND;TZID=America/New_York:20290212T170000
DTSTAMP:20260424T164547
CREATED:20250910T025501Z
LAST-MODIFIED:20250910T025507Z
UID:10001897-1865579400-1865610000@saludagop.org
SUMMARY:Early Voting
DESCRIPTION:
URL:https://saludagop.org/event/early-voting/2029-02-12/
END:VEVENT
BEGIN:VEVENT
DTSTART;TZID=America/New_York:20290212T180000
DTEND;TZID=America/New_York:20290212T190000
DTSTAMP:20260424T164547
CREATED:20250509T050406Z
LAST-MODIFIED:20250512T063927Z
UID:10000377-1865613600-1865617200@saludagop.org
SUMMARY:County Council Meeting
DESCRIPTION:
URL:https://saludagop.org/event/county-council-meeting/2029-02-12/
LOCATION:Saluda County Administrative Offices\, 400 W. Highland St.\, Saluda\, SC\, 29138\, United States
END:VEVENT
BEGIN:VEVENT
DTSTART;TZID=America/New_York:20290213T083000
DTEND;TZID=America/New_York:20290213T170000
DTSTAMP:20260424T164547
CREATED:20250910T025501Z
LAST-MODIFIED:20250910T025507Z
UID:10001898-1865665800-1865696400@saludagop.org
SUMMARY:Early Voting
DESCRIPTION:
URL:https://saludagop.org/event/early-voting/2029-02-13/
END:VEVENT
BEGIN:VEVENT
DTSTART;TZID=America/New_York:20290214T083000
DTEND;TZID=America/New_York:20290214T170000
DTSTAMP:20260424T164547
CREATED:20250910T025501Z
LAST-MODIFIED:20250910T025507Z
UID:10001899-1865752200-1865782800@saludagop.org
SUMMARY:Early Voting
DESCRIPTION:
URL:https://saludagop.org/event/early-voting/2029-02-14/
END:VEVENT
BEGIN:VEVENT
DTSTART;TZID=America/New_York:20290215T083000
DTEND;TZID=America/New_York:20290215T170000
DTSTAMP:20260424T164547
CREATED:20250910T025501Z
LAST-MODIFIED:20250910T025507Z
UID:10001900-1865838600-1865869200@saludagop.org
SUMMARY:Early Voting
DESCRIPTION:
URL:https://saludagop.org/event/early-voting/2029-02-15/
END:VEVENT
BEGIN:VEVENT
DTSTART;TZID=America/New_York:20290216T083000
DTEND;TZID=America/New_York:20290216T170000
DTSTAMP:20260424T164547
CREATED:20250910T025501Z
LAST-MODIFIED:20250910T025507Z
UID:10001901-1865925000-1865955600@saludagop.org
SUMMARY:Early Voting
DESCRIPTION:
URL:https://saludagop.org/event/early-voting/2029-02-16/
END:VEVENT
BEGIN:VEVENT
DTSTART;TZID=America/New_York:20290217T083000
DTEND;TZID=America/New_York:20290217T170000
DTSTAMP:20260424T164547
CREATED:20250910T025501Z
LAST-MODIFIED:20250910T025507Z
UID:10001902-1866011400-1866042000@saludagop.org
SUMMARY:Early Voting
DESCRIPTION:
URL:https://saludagop.org/event/early-voting/2029-02-17/
END:VEVENT
BEGIN:VEVENT
DTSTART;TZID=America/New_York:20290218T083000
DTEND;TZID=America/New_York:20290218T170000
DTSTAMP:20260424T164547
CREATED:20250910T025501Z
LAST-MODIFIED:20250910T025507Z
UID:10001903-1866097800-1866128400@saludagop.org
SUMMARY:Early Voting
DESCRIPTION:
URL:https://saludagop.org/event/early-voting/2029-02-18/
END:VEVENT
BEGIN:VEVENT
DTSTART;TZID=America/New_York:20290219T083000
DTEND;TZID=America/New_York:20290219T170000
DTSTAMP:20260424T164547
CREATED:20250910T025501Z
LAST-MODIFIED:20250910T025507Z
UID:10001904-1866184200-1866214800@saludagop.org
SUMMARY:Early Voting
DESCRIPTION:
URL:https://saludagop.org/event/early-voting/2029-02-19/
END:VEVENT
BEGIN:VEVENT
DTSTART;TZID=America/New_York:20290220T083000
DTEND;TZID=America/New_York:20290220T170000
DTSTAMP:20260424T164547
CREATED:20250910T025501Z
LAST-MODIFIED:20250910T025507Z
UID:10001905-1866270600-1866301200@saludagop.org
SUMMARY:Early Voting
DESCRIPTION:
URL:https://saludagop.org/event/early-voting/2029-02-20/
END:VEVENT
BEGIN:VEVENT
DTSTART;TZID=America/New_York:20290221T083000
DTEND;TZID=America/New_York:20290221T170000
DTSTAMP:20260424T164547
CREATED:20250910T025501Z
LAST-MODIFIED:20250910T025507Z
UID:10001906-1866357000-1866387600@saludagop.org
SUMMARY:Early Voting
DESCRIPTION:
URL:https://saludagop.org/event/early-voting/2029-02-21/
END:VEVENT
BEGIN:VEVENT
DTSTART;TZID=America/New_York:20290222T083000
DTEND;TZID=America/New_York:20290222T170000
DTSTAMP:20260424T164547
CREATED:20250910T025501Z
LAST-MODIFIED:20250910T025507Z
UID:10001907-1866443400-1866474000@saludagop.org
SUMMARY:Early Voting
DESCRIPTION:
URL:https://saludagop.org/event/early-voting/2029-02-22/
END:VEVENT
BEGIN:VEVENT
DTSTART;TZID=America/New_York:20290223T083000
DTEND;TZID=America/New_York:20290223T170000
DTSTAMP:20260424T164547
CREATED:20250910T025501Z
LAST-MODIFIED:20250910T025507Z
UID:10001908-1866529800-1866560400@saludagop.org
SUMMARY:Early Voting
DESCRIPTION:
URL:https://saludagop.org/event/early-voting/2029-02-23/
END:VEVENT
BEGIN:VEVENT
DTSTART;TZID=America/New_York:20290224T083000
DTEND;TZID=America/New_York:20290224T170000
DTSTAMP:20260424T164547
CREATED:20250910T025501Z
LAST-MODIFIED:20250910T025507Z
UID:10001909-1866616200-1866646800@saludagop.org
SUMMARY:Early Voting
DESCRIPTION:
URL:https://saludagop.org/event/early-voting/2029-02-24/
END:VEVENT
BEGIN:VEVENT
DTSTART;TZID=America/New_York:20290225T083000
DTEND;TZID=America/New_York:20290225T170000
DTSTAMP:20260424T164547
CREATED:20250910T025501Z
LAST-MODIFIED:20250910T025507Z
UID:10001910-1866702600-1866733200@saludagop.org
SUMMARY:Early Voting
DESCRIPTION:
URL:https://saludagop.org/event/early-voting/2029-02-25/
END:VEVENT
BEGIN:VEVENT
DTSTART;TZID=America/New_York:20290226T083000
DTEND;TZID=America/New_York:20290226T170000
DTSTAMP:20260424T164547
CREATED:20250910T025501Z
LAST-MODIFIED:20250910T025507Z
UID:10001911-1866789000-1866819600@saludagop.org
SUMMARY:Early Voting
DESCRIPTION:
URL:https://saludagop.org/event/early-voting/2029-02-26/
END:VEVENT
END:VCALENDAR