BEGIN:VCALENDAR
VERSION:2.0
PRODID:-//Saluda GOP - ECPv6.15.20//NONSGML v1.0//EN
CALSCALE:GREGORIAN
METHOD:PUBLISH
X-WR-CALNAME:Saluda GOP
X-ORIGINAL-URL:https://saludagop.org
X-WR-CALDESC:Events for Saluda GOP
REFRESH-INTERVAL;VALUE=DURATION:PT1H
X-Robots-Tag:noindex
X-PUBLISHED-TTL:PT1H
BEGIN:VTIMEZONE
TZID:America/New_York
BEGIN:DAYLIGHT
TZOFFSETFROM:-0500
TZOFFSETTO:-0400
TZNAME:EDT
DTSTART:20270314T070000
END:DAYLIGHT
BEGIN:STANDARD
TZOFFSETFROM:-0400
TZOFFSETTO:-0500
TZNAME:EST
DTSTART:20271107T060000
END:STANDARD
BEGIN:DAYLIGHT
TZOFFSETFROM:-0500
TZOFFSETTO:-0400
TZNAME:EDT
DTSTART:20280312T070000
END:DAYLIGHT
BEGIN:STANDARD
TZOFFSETFROM:-0400
TZOFFSETTO:-0500
TZNAME:EST
DTSTART:20281105T060000
END:STANDARD
BEGIN:DAYLIGHT
TZOFFSETFROM:-0500
TZOFFSETTO:-0400
TZNAME:EDT
DTSTART:20290311T070000
END:DAYLIGHT
BEGIN:STANDARD
TZOFFSETFROM:-0400
TZOFFSETTO:-0500
TZNAME:EST
DTSTART:20291104T060000
END:STANDARD
BEGIN:DAYLIGHT
TZOFFSETFROM:-0500
TZOFFSETTO:-0400
TZNAME:EDT
DTSTART:20300310T070000
END:DAYLIGHT
BEGIN:STANDARD
TZOFFSETFROM:-0400
TZOFFSETTO:-0500
TZNAME:EST
DTSTART:20301103T060000
END:STANDARD
END:VTIMEZONE
BEGIN:VEVENT
DTSTART;TZID=America/New_York:20281212T083000
DTEND;TZID=America/New_York:20281212T170000
DTSTAMP:20260424T094733
CREATED:20250910T025501Z
LAST-MODIFIED:20250910T025507Z
UID:10001835-1860222600-1860253200@saludagop.org
SUMMARY:Early Voting
DESCRIPTION:
URL:https://saludagop.org/event/early-voting/2028-12-12/
END:VEVENT
BEGIN:VEVENT
DTSTART;TZID=America/New_York:20281213T083000
DTEND;TZID=America/New_York:20281213T170000
DTSTAMP:20260424T094733
CREATED:20250910T025501Z
LAST-MODIFIED:20250910T025507Z
UID:10001836-1860309000-1860339600@saludagop.org
SUMMARY:Early Voting
DESCRIPTION:
URL:https://saludagop.org/event/early-voting/2028-12-13/
END:VEVENT
BEGIN:VEVENT
DTSTART;TZID=America/New_York:20281214T083000
DTEND;TZID=America/New_York:20281214T170000
DTSTAMP:20260424T094733
CREATED:20250910T025501Z
LAST-MODIFIED:20250910T025507Z
UID:10001837-1860395400-1860426000@saludagop.org
SUMMARY:Early Voting
DESCRIPTION:
URL:https://saludagop.org/event/early-voting/2028-12-14/
END:VEVENT
BEGIN:VEVENT
DTSTART;TZID=America/New_York:20281214T183000
DTEND;TZID=America/New_York:20281214T200000
DTSTAMP:20260424T094733
CREATED:20260318T163009Z
LAST-MODIFIED:20260318T175824Z
UID:10002691-1860431400-1860436800@saludagop.org
SUMMARY:Steering Committee
DESCRIPTION:This is the monthly meeting of the Saluda County Steering Committee.  The members are: \n\n\n\nAmy Potts\, ChairGreg SanderJay DunbarKim ParigorisBen WardRuss TerrellDeb Camp \n\n\n\nThis committee discusses ongoing plans and ideas to bring forward at the next business meeting.
URL:https://saludagop.org/event/committees-cocktails-coca-colas-2/2028-12-14/
LOCATION:Saluda Presbyterian Church\, 103 W. Highland St.\, Saluda\, SC\, 29138\, United States
ORGANIZER;CN="The Saluda County Republican Party":MAILTO:saludaGOP@gmail.com
END:VEVENT
BEGIN:VEVENT
DTSTART;TZID=America/New_York:20281215T083000
DTEND;TZID=America/New_York:20281215T170000
DTSTAMP:20260424T094733
CREATED:20250910T025501Z
LAST-MODIFIED:20250910T025507Z
UID:10001838-1860481800-1860512400@saludagop.org
SUMMARY:Early Voting
DESCRIPTION:
URL:https://saludagop.org/event/early-voting/2028-12-15/
END:VEVENT
BEGIN:VEVENT
DTSTART;TZID=America/New_York:20281216T083000
DTEND;TZID=America/New_York:20281216T170000
DTSTAMP:20260424T094733
CREATED:20250910T025501Z
LAST-MODIFIED:20250910T025507Z
UID:10001839-1860568200-1860598800@saludagop.org
SUMMARY:Early Voting
DESCRIPTION:
URL:https://saludagop.org/event/early-voting/2028-12-16/
END:VEVENT
BEGIN:VEVENT
DTSTART;TZID=America/New_York:20281217T083000
DTEND;TZID=America/New_York:20281217T170000
DTSTAMP:20260424T094733
CREATED:20250910T025501Z
LAST-MODIFIED:20250910T025507Z
UID:10001840-1860654600-1860685200@saludagop.org
SUMMARY:Early Voting
DESCRIPTION:
URL:https://saludagop.org/event/early-voting/2028-12-17/
END:VEVENT
BEGIN:VEVENT
DTSTART;TZID=America/New_York:20281218T083000
DTEND;TZID=America/New_York:20281218T170000
DTSTAMP:20260424T094733
CREATED:20250910T025501Z
LAST-MODIFIED:20250910T025507Z
UID:10001841-1860741000-1860771600@saludagop.org
SUMMARY:Early Voting
DESCRIPTION:
URL:https://saludagop.org/event/early-voting/2028-12-18/
END:VEVENT
BEGIN:VEVENT
DTSTART;TZID=America/New_York:20281219T083000
DTEND;TZID=America/New_York:20281219T170000
DTSTAMP:20260424T094733
CREATED:20250910T025501Z
LAST-MODIFIED:20250910T025507Z
UID:10001842-1860827400-1860858000@saludagop.org
SUMMARY:Early Voting
DESCRIPTION:
URL:https://saludagop.org/event/early-voting/2028-12-19/
END:VEVENT
BEGIN:VEVENT
DTSTART;TZID=America/New_York:20281220T083000
DTEND;TZID=America/New_York:20281220T170000
DTSTAMP:20260424T094733
CREATED:20250910T025501Z
LAST-MODIFIED:20250910T025507Z
UID:10001843-1860913800-1860944400@saludagop.org
SUMMARY:Early Voting
DESCRIPTION:
URL:https://saludagop.org/event/early-voting/2028-12-20/
END:VEVENT
BEGIN:VEVENT
DTSTART;TZID=America/New_York:20281221T083000
DTEND;TZID=America/New_York:20281221T170000
DTSTAMP:20260424T094733
CREATED:20250910T025501Z
LAST-MODIFIED:20250910T025507Z
UID:10001844-1861000200-1861030800@saludagop.org
SUMMARY:Early Voting
DESCRIPTION:
URL:https://saludagop.org/event/early-voting/2028-12-21/
END:VEVENT
BEGIN:VEVENT
DTSTART;TZID=America/New_York:20281222T083000
DTEND;TZID=America/New_York:20281222T170000
DTSTAMP:20260424T094733
CREATED:20250910T025501Z
LAST-MODIFIED:20250910T025507Z
UID:10001845-1861086600-1861117200@saludagop.org
SUMMARY:Early Voting
DESCRIPTION:
URL:https://saludagop.org/event/early-voting/2028-12-22/
END:VEVENT
BEGIN:VEVENT
DTSTART;TZID=America/New_York:20281223T083000
DTEND;TZID=America/New_York:20281223T170000
DTSTAMP:20260424T094733
CREATED:20250910T025501Z
LAST-MODIFIED:20250910T025507Z
UID:10001846-1861173000-1861203600@saludagop.org
SUMMARY:Early Voting
DESCRIPTION:
URL:https://saludagop.org/event/early-voting/2028-12-23/
END:VEVENT
BEGIN:VEVENT
DTSTART;TZID=America/New_York:20281224T083000
DTEND;TZID=America/New_York:20281224T170000
DTSTAMP:20260424T094733
CREATED:20250910T025501Z
LAST-MODIFIED:20250910T025507Z
UID:10001847-1861259400-1861290000@saludagop.org
SUMMARY:Early Voting
DESCRIPTION:
URL:https://saludagop.org/event/early-voting/2028-12-24/
END:VEVENT
BEGIN:VEVENT
DTSTART;TZID=America/New_York:20281225T083000
DTEND;TZID=America/New_York:20281225T170000
DTSTAMP:20260424T094733
CREATED:20250910T025501Z
LAST-MODIFIED:20250910T025507Z
UID:10001848-1861345800-1861376400@saludagop.org
SUMMARY:Early Voting
DESCRIPTION:
URL:https://saludagop.org/event/early-voting/2028-12-25/
END:VEVENT
BEGIN:VEVENT
DTSTART;TZID=America/New_York:20281225T180000
DTEND;TZID=America/New_York:20281225T200000
DTSTAMP:20260424T094733
CREATED:20251215T025208Z
LAST-MODIFIED:20251215T025554Z
UID:10002632-1861380000-1861387200@saludagop.org
SUMMARY:Saluda GOP Monthly Meeting
DESCRIPTION:Our Monthly Members meetings usually start with a meal at 6pm.  No charge\, but donations are appreciated!  We usually feature a guest speaker and a short business meeting afterwards when needed. \n\n\n\nThe public is welcome to attend.
URL:https://saludagop.org/event/saluda-gop-monthly-meeting-4/2028-12-25/
LOCATION:Saluda Presbyterian Church\, 103 W. Highland St.\, Saluda\, SC\, 29138\, United States
ORGANIZER;CN="The Saluda County Republican Party":MAILTO:saludaGOP@gmail.com
END:VEVENT
BEGIN:VEVENT
DTSTART;TZID=America/New_York:20281226T083000
DTEND;TZID=America/New_York:20281226T170000
DTSTAMP:20260424T094733
CREATED:20250910T025501Z
LAST-MODIFIED:20250910T025507Z
UID:10001849-1861432200-1861462800@saludagop.org
SUMMARY:Early Voting
DESCRIPTION:
URL:https://saludagop.org/event/early-voting/2028-12-26/
END:VEVENT
BEGIN:VEVENT
DTSTART;TZID=America/New_York:20281227T083000
DTEND;TZID=America/New_York:20281227T170000
DTSTAMP:20260424T094733
CREATED:20250910T025501Z
LAST-MODIFIED:20250910T025507Z
UID:10001850-1861518600-1861549200@saludagop.org
SUMMARY:Early Voting
DESCRIPTION:
URL:https://saludagop.org/event/early-voting/2028-12-27/
END:VEVENT
BEGIN:VEVENT
DTSTART;TZID=America/New_York:20281228T083000
DTEND;TZID=America/New_York:20281228T170000
DTSTAMP:20260424T094733
CREATED:20250910T025501Z
LAST-MODIFIED:20250910T025507Z
UID:10001851-1861605000-1861635600@saludagop.org
SUMMARY:Early Voting
DESCRIPTION:
URL:https://saludagop.org/event/early-voting/2028-12-28/
END:VEVENT
BEGIN:VEVENT
DTSTART;TZID=America/New_York:20281229T083000
DTEND;TZID=America/New_York:20281229T170000
DTSTAMP:20260424T094733
CREATED:20250910T025501Z
LAST-MODIFIED:20250910T025507Z
UID:10001852-1861691400-1861722000@saludagop.org
SUMMARY:Early Voting
DESCRIPTION:
URL:https://saludagop.org/event/early-voting/2028-12-29/
END:VEVENT
BEGIN:VEVENT
DTSTART;TZID=America/New_York:20281230T083000
DTEND;TZID=America/New_York:20281230T170000
DTSTAMP:20260424T094733
CREATED:20250910T025501Z
LAST-MODIFIED:20250910T025507Z
UID:10001853-1861777800-1861808400@saludagop.org
SUMMARY:Early Voting
DESCRIPTION:
URL:https://saludagop.org/event/early-voting/2028-12-30/
END:VEVENT
BEGIN:VEVENT
DTSTART;TZID=America/New_York:20281231T083000
DTEND;TZID=America/New_York:20281231T170000
DTSTAMP:20260424T094733
CREATED:20250910T025501Z
LAST-MODIFIED:20250910T025507Z
UID:10001854-1861864200-1861894800@saludagop.org
SUMMARY:Early Voting
DESCRIPTION:
URL:https://saludagop.org/event/early-voting/2028-12-31/
END:VEVENT
BEGIN:VEVENT
DTSTART;TZID=America/New_York:20290101T083000
DTEND;TZID=America/New_York:20290101T170000
DTSTAMP:20260424T094733
CREATED:20250910T025501Z
LAST-MODIFIED:20250910T025507Z
UID:10001855-1861950600-1861981200@saludagop.org
SUMMARY:Early Voting
DESCRIPTION:
URL:https://saludagop.org/event/early-voting/2029-01-01/
END:VEVENT
BEGIN:VEVENT
DTSTART;TZID=America/New_York:20290102T083000
DTEND;TZID=America/New_York:20290102T170000
DTSTAMP:20260424T094733
CREATED:20250910T025501Z
LAST-MODIFIED:20250910T025507Z
UID:10001856-1862037000-1862067600@saludagop.org
SUMMARY:Early Voting
DESCRIPTION:
URL:https://saludagop.org/event/early-voting/2029-01-02/
END:VEVENT
BEGIN:VEVENT
DTSTART;TZID=America/New_York:20290102T180000
DTEND;TZID=America/New_York:20290102T190000
DTSTAMP:20260424T094733
CREATED:20250509T051219Z
LAST-MODIFIED:20250512T063559Z
UID:10000056-1862071200-1862074800@saludagop.org
SUMMARY:Saluda Town Council Meeting
DESCRIPTION:Monthly Town Council Meeting
URL:https://saludagop.org/event/saluda-town-council-meeting/2029-01-02/
LOCATION:Saluda Town Hall\, 100 South Jefferson St.\, Saluda\, SC\, 29138\, United States
END:VEVENT
BEGIN:VEVENT
DTSTART;TZID=America/New_York:20290103T083000
DTEND;TZID=America/New_York:20290103T170000
DTSTAMP:20260424T094733
CREATED:20250910T025501Z
LAST-MODIFIED:20250910T025507Z
UID:10001857-1862123400-1862154000@saludagop.org
SUMMARY:Early Voting
DESCRIPTION:
URL:https://saludagop.org/event/early-voting/2029-01-03/
END:VEVENT
BEGIN:VEVENT
DTSTART;TZID=America/New_York:20290104T083000
DTEND;TZID=America/New_York:20290104T170000
DTSTAMP:20260424T094733
CREATED:20250910T025501Z
LAST-MODIFIED:20250910T025507Z
UID:10001858-1862209800-1862240400@saludagop.org
SUMMARY:Early Voting
DESCRIPTION:
URL:https://saludagop.org/event/early-voting/2029-01-04/
END:VEVENT
BEGIN:VEVENT
DTSTART;TZID=America/New_York:20290105T083000
DTEND;TZID=America/New_York:20290105T170000
DTSTAMP:20260424T094733
CREATED:20250910T025501Z
LAST-MODIFIED:20250910T025507Z
UID:10001859-1862296200-1862326800@saludagop.org
SUMMARY:Early Voting
DESCRIPTION:
URL:https://saludagop.org/event/early-voting/2029-01-05/
END:VEVENT
BEGIN:VEVENT
DTSTART;TZID=America/New_York:20290106T083000
DTEND;TZID=America/New_York:20290106T170000
DTSTAMP:20260424T094733
CREATED:20250910T025501Z
LAST-MODIFIED:20250910T025507Z
UID:10001860-1862382600-1862413200@saludagop.org
SUMMARY:Early Voting
DESCRIPTION:
URL:https://saludagop.org/event/early-voting/2029-01-06/
END:VEVENT
BEGIN:VEVENT
DTSTART;TZID=America/New_York:20290107T083000
DTEND;TZID=America/New_York:20290107T170000
DTSTAMP:20260424T094733
CREATED:20250910T025501Z
LAST-MODIFIED:20250910T025507Z
UID:10001861-1862469000-1862499600@saludagop.org
SUMMARY:Early Voting
DESCRIPTION:
URL:https://saludagop.org/event/early-voting/2029-01-07/
END:VEVENT
END:VCALENDAR