BEGIN:VCALENDAR
VERSION:2.0
PRODID:-//Saluda GOP - ECPv6.15.20//NONSGML v1.0//EN
CALSCALE:GREGORIAN
METHOD:PUBLISH
X-WR-CALNAME:Saluda GOP
X-ORIGINAL-URL:https://saludagop.org
X-WR-CALDESC:Events for Saluda GOP
REFRESH-INTERVAL;VALUE=DURATION:PT1H
X-Robots-Tag:noindex
X-PUBLISHED-TTL:PT1H
BEGIN:VTIMEZONE
TZID:America/New_York
BEGIN:DAYLIGHT
TZOFFSETFROM:-0500
TZOFFSETTO:-0400
TZNAME:EDT
DTSTART:20270314T070000
END:DAYLIGHT
BEGIN:STANDARD
TZOFFSETFROM:-0400
TZOFFSETTO:-0500
TZNAME:EST
DTSTART:20271107T060000
END:STANDARD
BEGIN:DAYLIGHT
TZOFFSETFROM:-0500
TZOFFSETTO:-0400
TZNAME:EDT
DTSTART:20280312T070000
END:DAYLIGHT
BEGIN:STANDARD
TZOFFSETFROM:-0400
TZOFFSETTO:-0500
TZNAME:EST
DTSTART:20281105T060000
END:STANDARD
BEGIN:DAYLIGHT
TZOFFSETFROM:-0500
TZOFFSETTO:-0400
TZNAME:EDT
DTSTART:20290311T070000
END:DAYLIGHT
BEGIN:STANDARD
TZOFFSETFROM:-0400
TZOFFSETTO:-0500
TZNAME:EST
DTSTART:20291104T060000
END:STANDARD
END:VTIMEZONE
BEGIN:VEVENT
DTSTART;TZID=America/New_York:20281117T083000
DTEND;TZID=America/New_York:20281117T170000
DTSTAMP:20260424T055642
CREATED:20250910T025501Z
LAST-MODIFIED:20250910T025507Z
UID:10001810-1858062600-1858093200@saludagop.org
SUMMARY:Early Voting
DESCRIPTION:
URL:https://saludagop.org/event/early-voting/2028-11-17/
END:VEVENT
BEGIN:VEVENT
DTSTART;TZID=America/New_York:20281118T083000
DTEND;TZID=America/New_York:20281118T170000
DTSTAMP:20260424T055642
CREATED:20250910T025501Z
LAST-MODIFIED:20250910T025507Z
UID:10001811-1858149000-1858179600@saludagop.org
SUMMARY:Early Voting
DESCRIPTION:
URL:https://saludagop.org/event/early-voting/2028-11-18/
END:VEVENT
BEGIN:VEVENT
DTSTART;TZID=America/New_York:20281119T083000
DTEND;TZID=America/New_York:20281119T170000
DTSTAMP:20260424T055642
CREATED:20250910T025501Z
LAST-MODIFIED:20250910T025507Z
UID:10001812-1858235400-1858266000@saludagop.org
SUMMARY:Early Voting
DESCRIPTION:
URL:https://saludagop.org/event/early-voting/2028-11-19/
END:VEVENT
BEGIN:VEVENT
DTSTART;TZID=America/New_York:20281120T083000
DTEND;TZID=America/New_York:20281120T170000
DTSTAMP:20260424T055642
CREATED:20250910T025501Z
LAST-MODIFIED:20250910T025507Z
UID:10001813-1858321800-1858352400@saludagop.org
SUMMARY:Early Voting
DESCRIPTION:
URL:https://saludagop.org/event/early-voting/2028-11-20/
END:VEVENT
BEGIN:VEVENT
DTSTART;TZID=America/New_York:20281121T083000
DTEND;TZID=America/New_York:20281121T170000
DTSTAMP:20260424T055642
CREATED:20250910T025501Z
LAST-MODIFIED:20250910T025507Z
UID:10001814-1858408200-1858438800@saludagop.org
SUMMARY:Early Voting
DESCRIPTION:
URL:https://saludagop.org/event/early-voting/2028-11-21/
END:VEVENT
BEGIN:VEVENT
DTSTART;TZID=America/New_York:20281122T083000
DTEND;TZID=America/New_York:20281122T170000
DTSTAMP:20260424T055642
CREATED:20250910T025501Z
LAST-MODIFIED:20250910T025507Z
UID:10001815-1858494600-1858525200@saludagop.org
SUMMARY:Early Voting
DESCRIPTION:
URL:https://saludagop.org/event/early-voting/2028-11-22/
END:VEVENT
BEGIN:VEVENT
DTSTART;TZID=America/New_York:20281123T083000
DTEND;TZID=America/New_York:20281123T170000
DTSTAMP:20260424T055642
CREATED:20250910T025501Z
LAST-MODIFIED:20250910T025507Z
UID:10001816-1858581000-1858611600@saludagop.org
SUMMARY:Early Voting
DESCRIPTION:
URL:https://saludagop.org/event/early-voting/2028-11-23/
END:VEVENT
BEGIN:VEVENT
DTSTART;TZID=America/New_York:20281124T083000
DTEND;TZID=America/New_York:20281124T170000
DTSTAMP:20260424T055642
CREATED:20250910T025501Z
LAST-MODIFIED:20250910T025507Z
UID:10001817-1858667400-1858698000@saludagop.org
SUMMARY:Early Voting
DESCRIPTION:
URL:https://saludagop.org/event/early-voting/2028-11-24/
END:VEVENT
BEGIN:VEVENT
DTSTART;TZID=America/New_York:20281125T083000
DTEND;TZID=America/New_York:20281125T170000
DTSTAMP:20260424T055642
CREATED:20250910T025501Z
LAST-MODIFIED:20250910T025507Z
UID:10001818-1858753800-1858784400@saludagop.org
SUMMARY:Early Voting
DESCRIPTION:
URL:https://saludagop.org/event/early-voting/2028-11-25/
END:VEVENT
BEGIN:VEVENT
DTSTART;TZID=America/New_York:20281126T083000
DTEND;TZID=America/New_York:20281126T170000
DTSTAMP:20260424T055642
CREATED:20250910T025501Z
LAST-MODIFIED:20250910T025507Z
UID:10001819-1858840200-1858870800@saludagop.org
SUMMARY:Early Voting
DESCRIPTION:
URL:https://saludagop.org/event/early-voting/2028-11-26/
END:VEVENT
BEGIN:VEVENT
DTSTART;TZID=America/New_York:20281127T083000
DTEND;TZID=America/New_York:20281127T170000
DTSTAMP:20260424T055642
CREATED:20250910T025501Z
LAST-MODIFIED:20250910T025507Z
UID:10001820-1858926600-1858957200@saludagop.org
SUMMARY:Early Voting
DESCRIPTION:
URL:https://saludagop.org/event/early-voting/2028-11-27/
END:VEVENT
BEGIN:VEVENT
DTSTART;TZID=America/New_York:20281127T180000
DTEND;TZID=America/New_York:20281127T200000
DTSTAMP:20260424T055642
CREATED:20251215T025208Z
LAST-MODIFIED:20251215T025554Z
UID:10002631-1858960800-1858968000@saludagop.org
SUMMARY:Saluda GOP Monthly Meeting
DESCRIPTION:Our Monthly Members meetings usually start with a meal at 6pm.  No charge\, but donations are appreciated!  We usually feature a guest speaker and a short business meeting afterwards when needed. \n\n\n\nThe public is welcome to attend.
URL:https://saludagop.org/event/saluda-gop-monthly-meeting-4/2028-11-27/
LOCATION:Saluda Presbyterian Church\, 103 W. Highland St.\, Saluda\, SC\, 29138\, United States
ORGANIZER;CN="The Saluda County Republican Party":MAILTO:saludaGOP@gmail.com
END:VEVENT
BEGIN:VEVENT
DTSTART;TZID=America/New_York:20281128T083000
DTEND;TZID=America/New_York:20281128T170000
DTSTAMP:20260424T055642
CREATED:20250910T025501Z
LAST-MODIFIED:20250910T025507Z
UID:10001821-1859013000-1859043600@saludagop.org
SUMMARY:Early Voting
DESCRIPTION:
URL:https://saludagop.org/event/early-voting/2028-11-28/
END:VEVENT
BEGIN:VEVENT
DTSTART;TZID=America/New_York:20281129T083000
DTEND;TZID=America/New_York:20281129T170000
DTSTAMP:20260424T055642
CREATED:20250910T025501Z
LAST-MODIFIED:20250910T025507Z
UID:10001822-1859099400-1859130000@saludagop.org
SUMMARY:Early Voting
DESCRIPTION:
URL:https://saludagop.org/event/early-voting/2028-11-29/
END:VEVENT
BEGIN:VEVENT
DTSTART;TZID=America/New_York:20281130T083000
DTEND;TZID=America/New_York:20281130T170000
DTSTAMP:20260424T055642
CREATED:20250910T025501Z
LAST-MODIFIED:20250910T025507Z
UID:10001823-1859185800-1859216400@saludagop.org
SUMMARY:Early Voting
DESCRIPTION:
URL:https://saludagop.org/event/early-voting/2028-11-30/
END:VEVENT
BEGIN:VEVENT
DTSTART;TZID=America/New_York:20281201T083000
DTEND;TZID=America/New_York:20281201T170000
DTSTAMP:20260424T055642
CREATED:20250910T025501Z
LAST-MODIFIED:20250910T025507Z
UID:10001824-1859272200-1859302800@saludagop.org
SUMMARY:Early Voting
DESCRIPTION:
URL:https://saludagop.org/event/early-voting/2028-12-01/
END:VEVENT
BEGIN:VEVENT
DTSTART;TZID=America/New_York:20281202T083000
DTEND;TZID=America/New_York:20281202T170000
DTSTAMP:20260424T055642
CREATED:20250910T025501Z
LAST-MODIFIED:20250910T025507Z
UID:10001825-1859358600-1859389200@saludagop.org
SUMMARY:Early Voting
DESCRIPTION:
URL:https://saludagop.org/event/early-voting/2028-12-02/
END:VEVENT
BEGIN:VEVENT
DTSTART;TZID=America/New_York:20281203T083000
DTEND;TZID=America/New_York:20281203T170000
DTSTAMP:20260424T055642
CREATED:20250910T025501Z
LAST-MODIFIED:20250910T025507Z
UID:10001826-1859445000-1859475600@saludagop.org
SUMMARY:Early Voting
DESCRIPTION:
URL:https://saludagop.org/event/early-voting/2028-12-03/
END:VEVENT
BEGIN:VEVENT
DTSTART;TZID=America/New_York:20281204T083000
DTEND;TZID=America/New_York:20281204T170000
DTSTAMP:20260424T055642
CREATED:20250910T025501Z
LAST-MODIFIED:20250910T025507Z
UID:10001827-1859531400-1859562000@saludagop.org
SUMMARY:Early Voting
DESCRIPTION:
URL:https://saludagop.org/event/early-voting/2028-12-04/
END:VEVENT
BEGIN:VEVENT
DTSTART;TZID=America/New_York:20281205T083000
DTEND;TZID=America/New_York:20281205T170000
DTSTAMP:20260424T055642
CREATED:20250910T025501Z
LAST-MODIFIED:20250910T025507Z
UID:10001828-1859617800-1859648400@saludagop.org
SUMMARY:Early Voting
DESCRIPTION:
URL:https://saludagop.org/event/early-voting/2028-12-05/
END:VEVENT
BEGIN:VEVENT
DTSTART;TZID=America/New_York:20281205T180000
DTEND;TZID=America/New_York:20281205T190000
DTSTAMP:20260424T055642
CREATED:20250509T051219Z
LAST-MODIFIED:20250512T063559Z
UID:10000055-1859652000-1859655600@saludagop.org
SUMMARY:Saluda Town Council Meeting
DESCRIPTION:Monthly Town Council Meeting
URL:https://saludagop.org/event/saluda-town-council-meeting/2028-12-05/
LOCATION:Saluda Town Hall\, 100 South Jefferson St.\, Saluda\, SC\, 29138\, United States
END:VEVENT
BEGIN:VEVENT
DTSTART;TZID=America/New_York:20281206T083000
DTEND;TZID=America/New_York:20281206T170000
DTSTAMP:20260424T055642
CREATED:20250910T025501Z
LAST-MODIFIED:20250910T025507Z
UID:10001829-1859704200-1859734800@saludagop.org
SUMMARY:Early Voting
DESCRIPTION:
URL:https://saludagop.org/event/early-voting/2028-12-06/
END:VEVENT
BEGIN:VEVENT
DTSTART;TZID=America/New_York:20281207T083000
DTEND;TZID=America/New_York:20281207T170000
DTSTAMP:20260424T055642
CREATED:20250910T025501Z
LAST-MODIFIED:20250910T025507Z
UID:10001830-1859790600-1859821200@saludagop.org
SUMMARY:Early Voting
DESCRIPTION:
URL:https://saludagop.org/event/early-voting/2028-12-07/
END:VEVENT
BEGIN:VEVENT
DTSTART;TZID=America/New_York:20281208T083000
DTEND;TZID=America/New_York:20281208T170000
DTSTAMP:20260424T055642
CREATED:20250910T025501Z
LAST-MODIFIED:20250910T025507Z
UID:10001831-1859877000-1859907600@saludagop.org
SUMMARY:Early Voting
DESCRIPTION:
URL:https://saludagop.org/event/early-voting/2028-12-08/
END:VEVENT
BEGIN:VEVENT
DTSTART;TZID=America/New_York:20281209T083000
DTEND;TZID=America/New_York:20281209T170000
DTSTAMP:20260424T055642
CREATED:20250910T025501Z
LAST-MODIFIED:20250910T025507Z
UID:10001832-1859963400-1859994000@saludagop.org
SUMMARY:Early Voting
DESCRIPTION:
URL:https://saludagop.org/event/early-voting/2028-12-09/
END:VEVENT
BEGIN:VEVENT
DTSTART;TZID=America/New_York:20281210T083000
DTEND;TZID=America/New_York:20281210T170000
DTSTAMP:20260424T055642
CREATED:20250910T025501Z
LAST-MODIFIED:20250910T025507Z
UID:10001833-1860049800-1860080400@saludagop.org
SUMMARY:Early Voting
DESCRIPTION:
URL:https://saludagop.org/event/early-voting/2028-12-10/
END:VEVENT
BEGIN:VEVENT
DTSTART;TZID=America/New_York:20281211T083000
DTEND;TZID=America/New_York:20281211T170000
DTSTAMP:20260424T055642
CREATED:20250910T025501Z
LAST-MODIFIED:20250910T025507Z
UID:10001834-1860136200-1860166800@saludagop.org
SUMMARY:Early Voting
DESCRIPTION:
URL:https://saludagop.org/event/early-voting/2028-12-11/
END:VEVENT
BEGIN:VEVENT
DTSTART;TZID=America/New_York:20281211T180000
DTEND;TZID=America/New_York:20281211T190000
DTSTAMP:20260424T055642
CREATED:20250509T050406Z
LAST-MODIFIED:20250512T063927Z
UID:10000375-1860170400-1860174000@saludagop.org
SUMMARY:County Council Meeting
DESCRIPTION:
URL:https://saludagop.org/event/county-council-meeting/2028-12-11/
LOCATION:Saluda County Administrative Offices\, 400 W. Highland St.\, Saluda\, SC\, 29138\, United States
END:VEVENT
BEGIN:VEVENT
DTSTART;TZID=America/New_York:20281212T083000
DTEND;TZID=America/New_York:20281212T170000
DTSTAMP:20260424T055642
CREATED:20250910T025501Z
LAST-MODIFIED:20250910T025507Z
UID:10001835-1860222600-1860253200@saludagop.org
SUMMARY:Early Voting
DESCRIPTION:
URL:https://saludagop.org/event/early-voting/2028-12-12/
END:VEVENT
BEGIN:VEVENT
DTSTART;TZID=America/New_York:20281213T083000
DTEND;TZID=America/New_York:20281213T170000
DTSTAMP:20260424T055642
CREATED:20250910T025501Z
LAST-MODIFIED:20250910T025507Z
UID:10001836-1860309000-1860339600@saludagop.org
SUMMARY:Early Voting
DESCRIPTION:
URL:https://saludagop.org/event/early-voting/2028-12-13/
END:VEVENT
END:VCALENDAR