BEGIN:VCALENDAR
VERSION:2.0
PRODID:-//Saluda GOP - ECPv6.15.20//NONSGML v1.0//EN
CALSCALE:GREGORIAN
METHOD:PUBLISH
X-ORIGINAL-URL:https://saludagop.org
X-WR-CALDESC:Events for Saluda GOP
REFRESH-INTERVAL;VALUE=DURATION:PT1H
X-Robots-Tag:noindex
X-PUBLISHED-TTL:PT1H
BEGIN:VTIMEZONE
TZID:America/New_York
BEGIN:DAYLIGHT
TZOFFSETFROM:-0500
TZOFFSETTO:-0400
TZNAME:EDT
DTSTART:20270314T070000
END:DAYLIGHT
BEGIN:STANDARD
TZOFFSETFROM:-0400
TZOFFSETTO:-0500
TZNAME:EST
DTSTART:20271107T060000
END:STANDARD
BEGIN:DAYLIGHT
TZOFFSETFROM:-0500
TZOFFSETTO:-0400
TZNAME:EDT
DTSTART:20280312T070000
END:DAYLIGHT
BEGIN:STANDARD
TZOFFSETFROM:-0400
TZOFFSETTO:-0500
TZNAME:EST
DTSTART:20281105T060000
END:STANDARD
BEGIN:DAYLIGHT
TZOFFSETFROM:-0500
TZOFFSETTO:-0400
TZNAME:EDT
DTSTART:20290311T070000
END:DAYLIGHT
BEGIN:STANDARD
TZOFFSETFROM:-0400
TZOFFSETTO:-0500
TZNAME:EST
DTSTART:20291104T060000
END:STANDARD
END:VTIMEZONE
BEGIN:VEVENT
DTSTART;TZID=America/New_York:20280905T083000
DTEND;TZID=America/New_York:20280905T170000
DTSTAMP:20260423T183858
CREATED:20250910T025501Z
LAST-MODIFIED:20250910T025507Z
UID:10001737-1851755400-1851786000@saludagop.org
SUMMARY:Early Voting
DESCRIPTION:
URL:https://saludagop.org/event/early-voting/2028-09-05/
END:VEVENT
BEGIN:VEVENT
DTSTART;TZID=America/New_York:20280905T180000
DTEND;TZID=America/New_York:20280905T190000
DTSTAMP:20260423T183858
CREATED:20250509T051219Z
LAST-MODIFIED:20250512T063559Z
UID:10000052-1851789600-1851793200@saludagop.org
SUMMARY:Saluda Town Council Meeting
DESCRIPTION:Monthly Town Council Meeting
URL:https://saludagop.org/event/saluda-town-council-meeting/2028-09-05/
LOCATION:Saluda Town Hall\, 100 South Jefferson St.\, Saluda\, SC\, 29138\, United States
END:VEVENT
BEGIN:VEVENT
DTSTART;TZID=America/New_York:20280906T083000
DTEND;TZID=America/New_York:20280906T170000
DTSTAMP:20260423T183858
CREATED:20250910T025501Z
LAST-MODIFIED:20250910T025507Z
UID:10001738-1851841800-1851872400@saludagop.org
SUMMARY:Early Voting
DESCRIPTION:
URL:https://saludagop.org/event/early-voting/2028-09-06/
END:VEVENT
BEGIN:VEVENT
DTSTART;TZID=America/New_York:20280907T083000
DTEND;TZID=America/New_York:20280907T170000
DTSTAMP:20260423T183858
CREATED:20250910T025501Z
LAST-MODIFIED:20250910T025507Z
UID:10001739-1851928200-1851958800@saludagop.org
SUMMARY:Early Voting
DESCRIPTION:
URL:https://saludagop.org/event/early-voting/2028-09-07/
END:VEVENT
BEGIN:VEVENT
DTSTART;TZID=America/New_York:20280908T083000
DTEND;TZID=America/New_York:20280908T170000
DTSTAMP:20260423T183858
CREATED:20250910T025501Z
LAST-MODIFIED:20250910T025507Z
UID:10001740-1852014600-1852045200@saludagop.org
SUMMARY:Early Voting
DESCRIPTION:
URL:https://saludagop.org/event/early-voting/2028-09-08/
END:VEVENT
BEGIN:VEVENT
DTSTART;TZID=America/New_York:20280909T083000
DTEND;TZID=America/New_York:20280909T170000
DTSTAMP:20260423T183858
CREATED:20250910T025501Z
LAST-MODIFIED:20250910T025507Z
UID:10001741-1852101000-1852131600@saludagop.org
SUMMARY:Early Voting
DESCRIPTION:
URL:https://saludagop.org/event/early-voting/2028-09-09/
END:VEVENT
BEGIN:VEVENT
DTSTART;TZID=America/New_York:20280910T083000
DTEND;TZID=America/New_York:20280910T170000
DTSTAMP:20260423T183858
CREATED:20250910T025501Z
LAST-MODIFIED:20250910T025507Z
UID:10001742-1852187400-1852218000@saludagop.org
SUMMARY:Early Voting
DESCRIPTION:
URL:https://saludagop.org/event/early-voting/2028-09-10/
END:VEVENT
BEGIN:VEVENT
DTSTART;TZID=America/New_York:20280911T083000
DTEND;TZID=America/New_York:20280911T170000
DTSTAMP:20260423T183858
CREATED:20250910T025501Z
LAST-MODIFIED:20250910T025507Z
UID:10001743-1852273800-1852304400@saludagop.org
SUMMARY:Early Voting
DESCRIPTION:
URL:https://saludagop.org/event/early-voting/2028-09-11/
END:VEVENT
BEGIN:VEVENT
DTSTART;TZID=America/New_York:20280911T180000
DTEND;TZID=America/New_York:20280911T190000
DTSTAMP:20260423T183858
CREATED:20250509T050406Z
LAST-MODIFIED:20250512T063927Z
UID:10000372-1852308000-1852311600@saludagop.org
SUMMARY:County Council Meeting
DESCRIPTION:
URL:https://saludagop.org/event/county-council-meeting/2028-09-11/
LOCATION:Saluda County Administrative Offices\, 400 W. Highland St.\, Saluda\, SC\, 29138\, United States
END:VEVENT
BEGIN:VEVENT
DTSTART;TZID=America/New_York:20280912T083000
DTEND;TZID=America/New_York:20280912T170000
DTSTAMP:20260423T183858
CREATED:20250910T025501Z
LAST-MODIFIED:20250910T025507Z
UID:10001744-1852360200-1852390800@saludagop.org
SUMMARY:Early Voting
DESCRIPTION:
URL:https://saludagop.org/event/early-voting/2028-09-12/
END:VEVENT
BEGIN:VEVENT
DTSTART;TZID=America/New_York:20280913T083000
DTEND;TZID=America/New_York:20280913T170000
DTSTAMP:20260423T183858
CREATED:20250910T025501Z
LAST-MODIFIED:20250910T025507Z
UID:10001745-1852446600-1852477200@saludagop.org
SUMMARY:Early Voting
DESCRIPTION:
URL:https://saludagop.org/event/early-voting/2028-09-13/
END:VEVENT
BEGIN:VEVENT
DTSTART;TZID=America/New_York:20280914T083000
DTEND;TZID=America/New_York:20280914T170000
DTSTAMP:20260423T183858
CREATED:20250910T025501Z
LAST-MODIFIED:20250910T025507Z
UID:10001746-1852533000-1852563600@saludagop.org
SUMMARY:Early Voting
DESCRIPTION:
URL:https://saludagop.org/event/early-voting/2028-09-14/
END:VEVENT
BEGIN:VEVENT
DTSTART;TZID=America/New_York:20280914T183000
DTEND;TZID=America/New_York:20280914T200000
DTSTAMP:20260423T183858
CREATED:20260318T163009Z
LAST-MODIFIED:20260318T175824Z
UID:10002688-1852569000-1852574400@saludagop.org
SUMMARY:Steering Committee
DESCRIPTION:This is the monthly meeting of the Saluda County Steering Committee.  The members are: \n\n\n\nAmy Potts\, ChairGreg SanderJay DunbarKim ParigorisBen WardRuss TerrellDeb Camp \n\n\n\nThis committee discusses ongoing plans and ideas to bring forward at the next business meeting.
URL:https://saludagop.org/event/committees-cocktails-coca-colas-2/2028-09-14/
LOCATION:Saluda Presbyterian Church\, 103 W. Highland St.\, Saluda\, SC\, 29138\, United States
ORGANIZER;CN="The Saluda County Republican Party":MAILTO:saludaGOP@gmail.com
END:VEVENT
BEGIN:VEVENT
DTSTART;TZID=America/New_York:20280915T083000
DTEND;TZID=America/New_York:20280915T170000
DTSTAMP:20260423T183858
CREATED:20250910T025501Z
LAST-MODIFIED:20250910T025507Z
UID:10001747-1852619400-1852650000@saludagop.org
SUMMARY:Early Voting
DESCRIPTION:
URL:https://saludagop.org/event/early-voting/2028-09-15/
END:VEVENT
BEGIN:VEVENT
DTSTART;TZID=America/New_York:20280916T083000
DTEND;TZID=America/New_York:20280916T170000
DTSTAMP:20260423T183858
CREATED:20250910T025501Z
LAST-MODIFIED:20250910T025507Z
UID:10001748-1852705800-1852736400@saludagop.org
SUMMARY:Early Voting
DESCRIPTION:
URL:https://saludagop.org/event/early-voting/2028-09-16/
END:VEVENT
BEGIN:VEVENT
DTSTART;TZID=America/New_York:20280917T083000
DTEND;TZID=America/New_York:20280917T170000
DTSTAMP:20260423T183858
CREATED:20250910T025501Z
LAST-MODIFIED:20250910T025507Z
UID:10001749-1852792200-1852822800@saludagop.org
SUMMARY:Early Voting
DESCRIPTION:
URL:https://saludagop.org/event/early-voting/2028-09-17/
END:VEVENT
BEGIN:VEVENT
DTSTART;TZID=America/New_York:20280918T083000
DTEND;TZID=America/New_York:20280918T170000
DTSTAMP:20260423T183858
CREATED:20250910T025501Z
LAST-MODIFIED:20250910T025507Z
UID:10001750-1852878600-1852909200@saludagop.org
SUMMARY:Early Voting
DESCRIPTION:
URL:https://saludagop.org/event/early-voting/2028-09-18/
END:VEVENT
BEGIN:VEVENT
DTSTART;TZID=America/New_York:20280919T083000
DTEND;TZID=America/New_York:20280919T170000
DTSTAMP:20260423T183858
CREATED:20250910T025501Z
LAST-MODIFIED:20250910T025507Z
UID:10001751-1852965000-1852995600@saludagop.org
SUMMARY:Early Voting
DESCRIPTION:
URL:https://saludagop.org/event/early-voting/2028-09-19/
END:VEVENT
BEGIN:VEVENT
DTSTART;TZID=America/New_York:20280920T083000
DTEND;TZID=America/New_York:20280920T170000
DTSTAMP:20260423T183858
CREATED:20250910T025501Z
LAST-MODIFIED:20250910T025507Z
UID:10001752-1853051400-1853082000@saludagop.org
SUMMARY:Early Voting
DESCRIPTION:
URL:https://saludagop.org/event/early-voting/2028-09-20/
END:VEVENT
BEGIN:VEVENT
DTSTART;TZID=America/New_York:20280921T083000
DTEND;TZID=America/New_York:20280921T170000
DTSTAMP:20260423T183858
CREATED:20250910T025501Z
LAST-MODIFIED:20250910T025507Z
UID:10001753-1853137800-1853168400@saludagop.org
SUMMARY:Early Voting
DESCRIPTION:
URL:https://saludagop.org/event/early-voting/2028-09-21/
END:VEVENT
BEGIN:VEVENT
DTSTART;TZID=America/New_York:20280922T083000
DTEND;TZID=America/New_York:20280922T170000
DTSTAMP:20260423T183858
CREATED:20250910T025501Z
LAST-MODIFIED:20250910T025507Z
UID:10001754-1853224200-1853254800@saludagop.org
SUMMARY:Early Voting
DESCRIPTION:
URL:https://saludagop.org/event/early-voting/2028-09-22/
END:VEVENT
BEGIN:VEVENT
DTSTART;TZID=America/New_York:20280923T083000
DTEND;TZID=America/New_York:20280923T170000
DTSTAMP:20260423T183858
CREATED:20250910T025501Z
LAST-MODIFIED:20250910T025507Z
UID:10001755-1853310600-1853341200@saludagop.org
SUMMARY:Early Voting
DESCRIPTION:
URL:https://saludagop.org/event/early-voting/2028-09-23/
END:VEVENT
BEGIN:VEVENT
DTSTART;TZID=America/New_York:20280924T083000
DTEND;TZID=America/New_York:20280924T170000
DTSTAMP:20260423T183858
CREATED:20250910T025501Z
LAST-MODIFIED:20250910T025507Z
UID:10001756-1853397000-1853427600@saludagop.org
SUMMARY:Early Voting
DESCRIPTION:
URL:https://saludagop.org/event/early-voting/2028-09-24/
END:VEVENT
BEGIN:VEVENT
DTSTART;TZID=America/New_York:20280925T083000
DTEND;TZID=America/New_York:20280925T170000
DTSTAMP:20260423T183858
CREATED:20250910T025501Z
LAST-MODIFIED:20250910T025507Z
UID:10001757-1853483400-1853514000@saludagop.org
SUMMARY:Early Voting
DESCRIPTION:
URL:https://saludagop.org/event/early-voting/2028-09-25/
END:VEVENT
BEGIN:VEVENT
DTSTART;TZID=America/New_York:20280925T180000
DTEND;TZID=America/New_York:20280925T200000
DTSTAMP:20260423T183858
CREATED:20251215T025208Z
LAST-MODIFIED:20251215T025554Z
UID:10002629-1853517600-1853524800@saludagop.org
SUMMARY:Saluda GOP Monthly Meeting
DESCRIPTION:Our Monthly Members meetings usually start with a meal at 6pm.  No charge\, but donations are appreciated!  We usually feature a guest speaker and a short business meeting afterwards when needed. \n\n\n\nThe public is welcome to attend.
URL:https://saludagop.org/event/saluda-gop-monthly-meeting-4/2028-09-25/
LOCATION:Saluda Presbyterian Church\, 103 W. Highland St.\, Saluda\, SC\, 29138\, United States
ORGANIZER;CN="The Saluda County Republican Party":MAILTO:saludaGOP@gmail.com
END:VEVENT
BEGIN:VEVENT
DTSTART;TZID=America/New_York:20280926T083000
DTEND;TZID=America/New_York:20280926T170000
DTSTAMP:20260423T183858
CREATED:20250910T025501Z
LAST-MODIFIED:20250910T025507Z
UID:10001758-1853569800-1853600400@saludagop.org
SUMMARY:Early Voting
DESCRIPTION:
URL:https://saludagop.org/event/early-voting/2028-09-26/
END:VEVENT
BEGIN:VEVENT
DTSTART;TZID=America/New_York:20280927T083000
DTEND;TZID=America/New_York:20280927T170000
DTSTAMP:20260423T183858
CREATED:20250910T025501Z
LAST-MODIFIED:20250910T025507Z
UID:10001759-1853656200-1853686800@saludagop.org
SUMMARY:Early Voting
DESCRIPTION:
URL:https://saludagop.org/event/early-voting/2028-09-27/
END:VEVENT
BEGIN:VEVENT
DTSTART;TZID=America/New_York:20280928T083000
DTEND;TZID=America/New_York:20280928T170000
DTSTAMP:20260423T183858
CREATED:20250910T025501Z
LAST-MODIFIED:20250910T025507Z
UID:10001760-1853742600-1853773200@saludagop.org
SUMMARY:Early Voting
DESCRIPTION:
URL:https://saludagop.org/event/early-voting/2028-09-28/
END:VEVENT
BEGIN:VEVENT
DTSTART;TZID=America/New_York:20280929T083000
DTEND;TZID=America/New_York:20280929T170000
DTSTAMP:20260423T183858
CREATED:20250910T025501Z
LAST-MODIFIED:20250910T025507Z
UID:10001761-1853829000-1853859600@saludagop.org
SUMMARY:Early Voting
DESCRIPTION:
URL:https://saludagop.org/event/early-voting/2028-09-29/
END:VEVENT
BEGIN:VEVENT
DTSTART;TZID=America/New_York:20280930T083000
DTEND;TZID=America/New_York:20280930T170000
DTSTAMP:20260423T183858
CREATED:20250910T025501Z
LAST-MODIFIED:20250910T025507Z
UID:10001762-1853915400-1853946000@saludagop.org
SUMMARY:Early Voting
DESCRIPTION:
URL:https://saludagop.org/event/early-voting/2028-09-30/
END:VEVENT
END:VCALENDAR