BEGIN:VCALENDAR
VERSION:2.0
PRODID:-//Saluda GOP - ECPv6.15.20//NONSGML v1.0//EN
CALSCALE:GREGORIAN
METHOD:PUBLISH
X-WR-CALNAME:Saluda GOP
X-ORIGINAL-URL:https://saludagop.org
X-WR-CALDESC:Events for Saluda GOP
REFRESH-INTERVAL;VALUE=DURATION:PT1H
X-Robots-Tag:noindex
X-PUBLISHED-TTL:PT1H
BEGIN:VTIMEZONE
TZID:America/New_York
BEGIN:DAYLIGHT
TZOFFSETFROM:-0500
TZOFFSETTO:-0400
TZNAME:EDT
DTSTART:20270314T070000
END:DAYLIGHT
BEGIN:STANDARD
TZOFFSETFROM:-0400
TZOFFSETTO:-0500
TZNAME:EST
DTSTART:20271107T060000
END:STANDARD
BEGIN:DAYLIGHT
TZOFFSETFROM:-0500
TZOFFSETTO:-0400
TZNAME:EDT
DTSTART:20280312T070000
END:DAYLIGHT
BEGIN:STANDARD
TZOFFSETFROM:-0400
TZOFFSETTO:-0500
TZNAME:EST
DTSTART:20281105T060000
END:STANDARD
BEGIN:DAYLIGHT
TZOFFSETFROM:-0500
TZOFFSETTO:-0400
TZNAME:EDT
DTSTART:20290311T070000
END:DAYLIGHT
BEGIN:STANDARD
TZOFFSETFROM:-0400
TZOFFSETTO:-0500
TZNAME:EST
DTSTART:20291104T060000
END:STANDARD
END:VTIMEZONE
BEGIN:VEVENT
DTSTART;TZID=America/New_York:20280622T083000
DTEND;TZID=America/New_York:20280622T170000
DTSTAMP:20260423T070117
CREATED:20250910T025501Z
LAST-MODIFIED:20250910T025507Z
UID:10001662-1845275400-1845306000@saludagop.org
SUMMARY:Early Voting
DESCRIPTION:
URL:https://saludagop.org/event/early-voting/2028-06-22/
END:VEVENT
BEGIN:VEVENT
DTSTART;TZID=America/New_York:20280623T083000
DTEND;TZID=America/New_York:20280623T170000
DTSTAMP:20260423T070117
CREATED:20250910T025501Z
LAST-MODIFIED:20250910T025507Z
UID:10001663-1845361800-1845392400@saludagop.org
SUMMARY:Early Voting
DESCRIPTION:
URL:https://saludagop.org/event/early-voting/2028-06-23/
END:VEVENT
BEGIN:VEVENT
DTSTART;TZID=America/New_York:20280624T083000
DTEND;TZID=America/New_York:20280624T170000
DTSTAMP:20260423T070117
CREATED:20250910T025501Z
LAST-MODIFIED:20250910T025507Z
UID:10001664-1845448200-1845478800@saludagop.org
SUMMARY:Early Voting
DESCRIPTION:
URL:https://saludagop.org/event/early-voting/2028-06-24/
END:VEVENT
BEGIN:VEVENT
DTSTART;TZID=America/New_York:20280625T083000
DTEND;TZID=America/New_York:20280625T170000
DTSTAMP:20260423T070117
CREATED:20250910T025501Z
LAST-MODIFIED:20250910T025507Z
UID:10001665-1845534600-1845565200@saludagop.org
SUMMARY:Early Voting
DESCRIPTION:
URL:https://saludagop.org/event/early-voting/2028-06-25/
END:VEVENT
BEGIN:VEVENT
DTSTART;TZID=America/New_York:20280626T083000
DTEND;TZID=America/New_York:20280626T170000
DTSTAMP:20260423T070117
CREATED:20250910T025501Z
LAST-MODIFIED:20250910T025507Z
UID:10001666-1845621000-1845651600@saludagop.org
SUMMARY:Early Voting
DESCRIPTION:
URL:https://saludagop.org/event/early-voting/2028-06-26/
END:VEVENT
BEGIN:VEVENT
DTSTART;TZID=America/New_York:20280626T180000
DTEND;TZID=America/New_York:20280626T200000
DTSTAMP:20260423T070117
CREATED:20251215T025208Z
LAST-MODIFIED:20251215T025554Z
UID:10002626-1845655200-1845662400@saludagop.org
SUMMARY:Saluda GOP Monthly Meeting
DESCRIPTION:Our Monthly Members meetings usually start with a meal at 6pm.  No charge\, but donations are appreciated!  We usually feature a guest speaker and a short business meeting afterwards when needed. \n\n\n\nThe public is welcome to attend.
URL:https://saludagop.org/event/saluda-gop-monthly-meeting-4/2028-06-26/
LOCATION:Saluda Presbyterian Church\, 103 W. Highland St.\, Saluda\, SC\, 29138\, United States
ORGANIZER;CN="The Saluda County Republican Party":MAILTO:saludaGOP@gmail.com
END:VEVENT
BEGIN:VEVENT
DTSTART;TZID=America/New_York:20280627T083000
DTEND;TZID=America/New_York:20280627T170000
DTSTAMP:20260423T070117
CREATED:20250910T025501Z
LAST-MODIFIED:20250910T025507Z
UID:10001667-1845707400-1845738000@saludagop.org
SUMMARY:Early Voting
DESCRIPTION:
URL:https://saludagop.org/event/early-voting/2028-06-27/
END:VEVENT
BEGIN:VEVENT
DTSTART;TZID=America/New_York:20280628T083000
DTEND;TZID=America/New_York:20280628T170000
DTSTAMP:20260423T070117
CREATED:20250910T025501Z
LAST-MODIFIED:20250910T025507Z
UID:10001668-1845793800-1845824400@saludagop.org
SUMMARY:Early Voting
DESCRIPTION:
URL:https://saludagop.org/event/early-voting/2028-06-28/
END:VEVENT
BEGIN:VEVENT
DTSTART;TZID=America/New_York:20280629T083000
DTEND;TZID=America/New_York:20280629T170000
DTSTAMP:20260423T070117
CREATED:20250910T025501Z
LAST-MODIFIED:20250910T025507Z
UID:10001669-1845880200-1845910800@saludagop.org
SUMMARY:Early Voting
DESCRIPTION:
URL:https://saludagop.org/event/early-voting/2028-06-29/
END:VEVENT
BEGIN:VEVENT
DTSTART;TZID=America/New_York:20280630T083000
DTEND;TZID=America/New_York:20280630T170000
DTSTAMP:20260423T070117
CREATED:20250910T025501Z
LAST-MODIFIED:20250910T025507Z
UID:10001670-1845966600-1845997200@saludagop.org
SUMMARY:Early Voting
DESCRIPTION:
URL:https://saludagop.org/event/early-voting/2028-06-30/
END:VEVENT
BEGIN:VEVENT
DTSTART;TZID=America/New_York:20280701T083000
DTEND;TZID=America/New_York:20280701T170000
DTSTAMP:20260423T070117
CREATED:20250910T025501Z
LAST-MODIFIED:20250910T025507Z
UID:10001671-1846053000-1846083600@saludagop.org
SUMMARY:Early Voting
DESCRIPTION:
URL:https://saludagop.org/event/early-voting/2028-07-01/
END:VEVENT
BEGIN:VEVENT
DTSTART;TZID=America/New_York:20280702T083000
DTEND;TZID=America/New_York:20280702T170000
DTSTAMP:20260423T070117
CREATED:20250910T025501Z
LAST-MODIFIED:20250910T025507Z
UID:10001672-1846139400-1846170000@saludagop.org
SUMMARY:Early Voting
DESCRIPTION:
URL:https://saludagop.org/event/early-voting/2028-07-02/
END:VEVENT
BEGIN:VEVENT
DTSTART;TZID=America/New_York:20280703T083000
DTEND;TZID=America/New_York:20280703T170000
DTSTAMP:20260423T070117
CREATED:20250910T025501Z
LAST-MODIFIED:20250910T025507Z
UID:10001673-1846225800-1846256400@saludagop.org
SUMMARY:Early Voting
DESCRIPTION:
URL:https://saludagop.org/event/early-voting/2028-07-03/
END:VEVENT
BEGIN:VEVENT
DTSTART;TZID=America/New_York:20280704T083000
DTEND;TZID=America/New_York:20280704T170000
DTSTAMP:20260423T070118
CREATED:20250910T025501Z
LAST-MODIFIED:20250910T025507Z
UID:10001674-1846312200-1846342800@saludagop.org
SUMMARY:Early Voting
DESCRIPTION:
URL:https://saludagop.org/event/early-voting/2028-07-04/
END:VEVENT
BEGIN:VEVENT
DTSTART;TZID=America/New_York:20280704T180000
DTEND;TZID=America/New_York:20280704T190000
DTSTAMP:20260423T070118
CREATED:20250509T051219Z
LAST-MODIFIED:20250512T063559Z
UID:10000050-1846346400-1846350000@saludagop.org
SUMMARY:Saluda Town Council Meeting
DESCRIPTION:Monthly Town Council Meeting
URL:https://saludagop.org/event/saluda-town-council-meeting/2028-07-04/
LOCATION:Saluda Town Hall\, 100 South Jefferson St.\, Saluda\, SC\, 29138\, United States
END:VEVENT
BEGIN:VEVENT
DTSTART;TZID=America/New_York:20280705T083000
DTEND;TZID=America/New_York:20280705T170000
DTSTAMP:20260423T070118
CREATED:20250910T025501Z
LAST-MODIFIED:20250910T025507Z
UID:10001675-1846398600-1846429200@saludagop.org
SUMMARY:Early Voting
DESCRIPTION:
URL:https://saludagop.org/event/early-voting/2028-07-05/
END:VEVENT
BEGIN:VEVENT
DTSTART;TZID=America/New_York:20280706T083000
DTEND;TZID=America/New_York:20280706T170000
DTSTAMP:20260423T070118
CREATED:20250910T025501Z
LAST-MODIFIED:20250910T025507Z
UID:10001676-1846485000-1846515600@saludagop.org
SUMMARY:Early Voting
DESCRIPTION:
URL:https://saludagop.org/event/early-voting/2028-07-06/
END:VEVENT
BEGIN:VEVENT
DTSTART;TZID=America/New_York:20280707T083000
DTEND;TZID=America/New_York:20280707T170000
DTSTAMP:20260423T070118
CREATED:20250910T025501Z
LAST-MODIFIED:20250910T025507Z
UID:10001677-1846571400-1846602000@saludagop.org
SUMMARY:Early Voting
DESCRIPTION:
URL:https://saludagop.org/event/early-voting/2028-07-07/
END:VEVENT
BEGIN:VEVENT
DTSTART;TZID=America/New_York:20280708T083000
DTEND;TZID=America/New_York:20280708T170000
DTSTAMP:20260423T070118
CREATED:20250910T025501Z
LAST-MODIFIED:20250910T025507Z
UID:10001678-1846657800-1846688400@saludagop.org
SUMMARY:Early Voting
DESCRIPTION:
URL:https://saludagop.org/event/early-voting/2028-07-08/
END:VEVENT
BEGIN:VEVENT
DTSTART;TZID=America/New_York:20280709T083000
DTEND;TZID=America/New_York:20280709T170000
DTSTAMP:20260423T070118
CREATED:20250910T025501Z
LAST-MODIFIED:20250910T025507Z
UID:10001679-1846744200-1846774800@saludagop.org
SUMMARY:Early Voting
DESCRIPTION:
URL:https://saludagop.org/event/early-voting/2028-07-09/
END:VEVENT
BEGIN:VEVENT
DTSTART;TZID=America/New_York:20280710T083000
DTEND;TZID=America/New_York:20280710T170000
DTSTAMP:20260423T070118
CREATED:20250910T025501Z
LAST-MODIFIED:20250910T025507Z
UID:10001680-1846830600-1846861200@saludagop.org
SUMMARY:Early Voting
DESCRIPTION:
URL:https://saludagop.org/event/early-voting/2028-07-10/
END:VEVENT
BEGIN:VEVENT
DTSTART;TZID=America/New_York:20280710T180000
DTEND;TZID=America/New_York:20280710T190000
DTSTAMP:20260423T070118
CREATED:20250509T050406Z
LAST-MODIFIED:20250512T063927Z
UID:10000370-1846864800-1846868400@saludagop.org
SUMMARY:County Council Meeting
DESCRIPTION:
URL:https://saludagop.org/event/county-council-meeting/2028-07-10/
LOCATION:Saluda County Administrative Offices\, 400 W. Highland St.\, Saluda\, SC\, 29138\, United States
END:VEVENT
BEGIN:VEVENT
DTSTART;TZID=America/New_York:20280711T083000
DTEND;TZID=America/New_York:20280711T170000
DTSTAMP:20260423T070118
CREATED:20250910T025501Z
LAST-MODIFIED:20250910T025507Z
UID:10001681-1846917000-1846947600@saludagop.org
SUMMARY:Early Voting
DESCRIPTION:
URL:https://saludagop.org/event/early-voting/2028-07-11/
END:VEVENT
BEGIN:VEVENT
DTSTART;TZID=America/New_York:20280712T083000
DTEND;TZID=America/New_York:20280712T170000
DTSTAMP:20260423T070118
CREATED:20250910T025501Z
LAST-MODIFIED:20250910T025507Z
UID:10001682-1847003400-1847034000@saludagop.org
SUMMARY:Early Voting
DESCRIPTION:
URL:https://saludagop.org/event/early-voting/2028-07-12/
END:VEVENT
BEGIN:VEVENT
DTSTART;TZID=America/New_York:20280713T083000
DTEND;TZID=America/New_York:20280713T170000
DTSTAMP:20260423T070118
CREATED:20250910T025501Z
LAST-MODIFIED:20250910T025507Z
UID:10001683-1847089800-1847120400@saludagop.org
SUMMARY:Early Voting
DESCRIPTION:
URL:https://saludagop.org/event/early-voting/2028-07-13/
END:VEVENT
BEGIN:VEVENT
DTSTART;TZID=America/New_York:20280713T183000
DTEND;TZID=America/New_York:20280713T200000
DTSTAMP:20260423T070118
CREATED:20260318T163009Z
LAST-MODIFIED:20260318T175824Z
UID:10002686-1847125800-1847131200@saludagop.org
SUMMARY:Steering Committee
DESCRIPTION:This is the monthly meeting of the Saluda County Steering Committee.  The members are: \n\n\n\nAmy Potts\, ChairGreg SanderJay DunbarKim ParigorisBen WardRuss TerrellDeb Camp \n\n\n\nThis committee discusses ongoing plans and ideas to bring forward at the next business meeting.
URL:https://saludagop.org/event/committees-cocktails-coca-colas-2/2028-07-13/
LOCATION:Saluda Presbyterian Church\, 103 W. Highland St.\, Saluda\, SC\, 29138\, United States
ORGANIZER;CN="The Saluda County Republican Party":MAILTO:saludaGOP@gmail.com
END:VEVENT
BEGIN:VEVENT
DTSTART;TZID=America/New_York:20280714T083000
DTEND;TZID=America/New_York:20280714T170000
DTSTAMP:20260423T070118
CREATED:20250910T025501Z
LAST-MODIFIED:20250910T025507Z
UID:10001684-1847176200-1847206800@saludagop.org
SUMMARY:Early Voting
DESCRIPTION:
URL:https://saludagop.org/event/early-voting/2028-07-14/
END:VEVENT
BEGIN:VEVENT
DTSTART;TZID=America/New_York:20280715T083000
DTEND;TZID=America/New_York:20280715T170000
DTSTAMP:20260423T070118
CREATED:20250910T025501Z
LAST-MODIFIED:20250910T025507Z
UID:10001685-1847262600-1847293200@saludagop.org
SUMMARY:Early Voting
DESCRIPTION:
URL:https://saludagop.org/event/early-voting/2028-07-15/
END:VEVENT
BEGIN:VEVENT
DTSTART;TZID=America/New_York:20280716T083000
DTEND;TZID=America/New_York:20280716T170000
DTSTAMP:20260423T070118
CREATED:20250910T025501Z
LAST-MODIFIED:20250910T025507Z
UID:10001686-1847349000-1847379600@saludagop.org
SUMMARY:Early Voting
DESCRIPTION:
URL:https://saludagop.org/event/early-voting/2028-07-16/
END:VEVENT
BEGIN:VEVENT
DTSTART;TZID=America/New_York:20280717T083000
DTEND;TZID=America/New_York:20280717T170000
DTSTAMP:20260423T070118
CREATED:20250910T025501Z
LAST-MODIFIED:20250910T025507Z
UID:10001687-1847435400-1847466000@saludagop.org
SUMMARY:Early Voting
DESCRIPTION:
URL:https://saludagop.org/event/early-voting/2028-07-17/
END:VEVENT
END:VCALENDAR