BEGIN:VCALENDAR
VERSION:2.0
PRODID:-//Saluda GOP - ECPv6.15.20//NONSGML v1.0//EN
CALSCALE:GREGORIAN
METHOD:PUBLISH
X-WR-CALNAME:Saluda GOP
X-ORIGINAL-URL:https://saludagop.org
X-WR-CALDESC:Events for Saluda GOP
REFRESH-INTERVAL;VALUE=DURATION:PT1H
X-Robots-Tag:noindex
X-PUBLISHED-TTL:PT1H
BEGIN:VTIMEZONE
TZID:America/New_York
BEGIN:DAYLIGHT
TZOFFSETFROM:-0500
TZOFFSETTO:-0400
TZNAME:EDT
DTSTART:20270314T070000
END:DAYLIGHT
BEGIN:STANDARD
TZOFFSETFROM:-0400
TZOFFSETTO:-0500
TZNAME:EST
DTSTART:20271107T060000
END:STANDARD
BEGIN:DAYLIGHT
TZOFFSETFROM:-0500
TZOFFSETTO:-0400
TZNAME:EDT
DTSTART:20280312T070000
END:DAYLIGHT
BEGIN:STANDARD
TZOFFSETFROM:-0400
TZOFFSETTO:-0500
TZNAME:EST
DTSTART:20281105T060000
END:STANDARD
BEGIN:DAYLIGHT
TZOFFSETFROM:-0500
TZOFFSETTO:-0400
TZNAME:EDT
DTSTART:20290311T070000
END:DAYLIGHT
BEGIN:STANDARD
TZOFFSETFROM:-0400
TZOFFSETTO:-0500
TZNAME:EST
DTSTART:20291104T060000
END:STANDARD
END:VTIMEZONE
BEGIN:VEVENT
DTSTART;TZID=America/New_York:20280524T083000
DTEND;TZID=America/New_York:20280524T170000
DTSTAMP:20260423T025746
CREATED:20250910T025501Z
LAST-MODIFIED:20250910T025507Z
UID:10001633-1842769800-1842800400@saludagop.org
SUMMARY:Early Voting
DESCRIPTION:
URL:https://saludagop.org/event/early-voting/2028-05-24/
END:VEVENT
BEGIN:VEVENT
DTSTART;TZID=America/New_York:20280525T083000
DTEND;TZID=America/New_York:20280525T170000
DTSTAMP:20260423T025746
CREATED:20250910T025501Z
LAST-MODIFIED:20250910T025507Z
UID:10001634-1842856200-1842886800@saludagop.org
SUMMARY:Early Voting
DESCRIPTION:
URL:https://saludagop.org/event/early-voting/2028-05-25/
END:VEVENT
BEGIN:VEVENT
DTSTART;TZID=America/New_York:20280526T083000
DTEND;TZID=America/New_York:20280526T170000
DTSTAMP:20260423T025746
CREATED:20250910T025501Z
LAST-MODIFIED:20250910T025507Z
UID:10001635-1842942600-1842973200@saludagop.org
SUMMARY:Early Voting
DESCRIPTION:
URL:https://saludagop.org/event/early-voting/2028-05-26/
END:VEVENT
BEGIN:VEVENT
DTSTART;TZID=America/New_York:20280527T083000
DTEND;TZID=America/New_York:20280527T170000
DTSTAMP:20260423T025746
CREATED:20250910T025501Z
LAST-MODIFIED:20250910T025507Z
UID:10001636-1843029000-1843059600@saludagop.org
SUMMARY:Early Voting
DESCRIPTION:
URL:https://saludagop.org/event/early-voting/2028-05-27/
END:VEVENT
BEGIN:VEVENT
DTSTART;TZID=America/New_York:20280528T083000
DTEND;TZID=America/New_York:20280528T170000
DTSTAMP:20260423T025746
CREATED:20250910T025501Z
LAST-MODIFIED:20250910T025507Z
UID:10001637-1843115400-1843146000@saludagop.org
SUMMARY:Early Voting
DESCRIPTION:
URL:https://saludagop.org/event/early-voting/2028-05-28/
END:VEVENT
BEGIN:VEVENT
DTSTART;TZID=America/New_York:20280529T083000
DTEND;TZID=America/New_York:20280529T170000
DTSTAMP:20260423T025746
CREATED:20250910T025501Z
LAST-MODIFIED:20250910T025507Z
UID:10001638-1843201800-1843232400@saludagop.org
SUMMARY:Early Voting
DESCRIPTION:
URL:https://saludagop.org/event/early-voting/2028-05-29/
END:VEVENT
BEGIN:VEVENT
DTSTART;TZID=America/New_York:20280530T083000
DTEND;TZID=America/New_York:20280530T170000
DTSTAMP:20260423T025746
CREATED:20250910T025501Z
LAST-MODIFIED:20250910T025507Z
UID:10001639-1843288200-1843318800@saludagop.org
SUMMARY:Early Voting
DESCRIPTION:
URL:https://saludagop.org/event/early-voting/2028-05-30/
END:VEVENT
BEGIN:VEVENT
DTSTART;TZID=America/New_York:20280531T083000
DTEND;TZID=America/New_York:20280531T170000
DTSTAMP:20260423T025746
CREATED:20250910T025501Z
LAST-MODIFIED:20250910T025507Z
UID:10001640-1843374600-1843405200@saludagop.org
SUMMARY:Early Voting
DESCRIPTION:
URL:https://saludagop.org/event/early-voting/2028-05-31/
END:VEVENT
BEGIN:VEVENT
DTSTART;TZID=America/New_York:20280601T083000
DTEND;TZID=America/New_York:20280601T170000
DTSTAMP:20260423T025746
CREATED:20250910T025501Z
LAST-MODIFIED:20250910T025507Z
UID:10001641-1843461000-1843491600@saludagop.org
SUMMARY:Early Voting
DESCRIPTION:
URL:https://saludagop.org/event/early-voting/2028-06-01/
END:VEVENT
BEGIN:VEVENT
DTSTART;TZID=America/New_York:20280602T083000
DTEND;TZID=America/New_York:20280602T170000
DTSTAMP:20260423T025746
CREATED:20250910T025501Z
LAST-MODIFIED:20250910T025507Z
UID:10001642-1843547400-1843578000@saludagop.org
SUMMARY:Early Voting
DESCRIPTION:
URL:https://saludagop.org/event/early-voting/2028-06-02/
END:VEVENT
BEGIN:VEVENT
DTSTART;TZID=America/New_York:20280603T083000
DTEND;TZID=America/New_York:20280603T170000
DTSTAMP:20260423T025746
CREATED:20250910T025501Z
LAST-MODIFIED:20250910T025507Z
UID:10001643-1843633800-1843664400@saludagop.org
SUMMARY:Early Voting
DESCRIPTION:
URL:https://saludagop.org/event/early-voting/2028-06-03/
END:VEVENT
BEGIN:VEVENT
DTSTART;TZID=America/New_York:20280604T083000
DTEND;TZID=America/New_York:20280604T170000
DTSTAMP:20260423T025746
CREATED:20250910T025501Z
LAST-MODIFIED:20250910T025507Z
UID:10001644-1843720200-1843750800@saludagop.org
SUMMARY:Early Voting
DESCRIPTION:
URL:https://saludagop.org/event/early-voting/2028-06-04/
END:VEVENT
BEGIN:VEVENT
DTSTART;TZID=America/New_York:20280605T083000
DTEND;TZID=America/New_York:20280605T170000
DTSTAMP:20260423T025746
CREATED:20250910T025501Z
LAST-MODIFIED:20250910T025507Z
UID:10001645-1843806600-1843837200@saludagop.org
SUMMARY:Early Voting
DESCRIPTION:
URL:https://saludagop.org/event/early-voting/2028-06-05/
END:VEVENT
BEGIN:VEVENT
DTSTART;TZID=America/New_York:20280606T083000
DTEND;TZID=America/New_York:20280606T170000
DTSTAMP:20260423T025746
CREATED:20250910T025501Z
LAST-MODIFIED:20250910T025507Z
UID:10001646-1843893000-1843923600@saludagop.org
SUMMARY:Early Voting
DESCRIPTION:
URL:https://saludagop.org/event/early-voting/2028-06-06/
END:VEVENT
BEGIN:VEVENT
DTSTART;TZID=America/New_York:20280606T180000
DTEND;TZID=America/New_York:20280606T190000
DTSTAMP:20260423T025746
CREATED:20250509T051219Z
LAST-MODIFIED:20250512T063559Z
UID:10000049-1843927200-1843930800@saludagop.org
SUMMARY:Saluda Town Council Meeting
DESCRIPTION:Monthly Town Council Meeting
URL:https://saludagop.org/event/saluda-town-council-meeting/2028-06-06/
LOCATION:Saluda Town Hall\, 100 South Jefferson St.\, Saluda\, SC\, 29138\, United States
END:VEVENT
BEGIN:VEVENT
DTSTART;TZID=America/New_York:20280607T083000
DTEND;TZID=America/New_York:20280607T170000
DTSTAMP:20260423T025746
CREATED:20250910T025501Z
LAST-MODIFIED:20250910T025507Z
UID:10001647-1843979400-1844010000@saludagop.org
SUMMARY:Early Voting
DESCRIPTION:
URL:https://saludagop.org/event/early-voting/2028-06-07/
END:VEVENT
BEGIN:VEVENT
DTSTART;TZID=America/New_York:20280608T083000
DTEND;TZID=America/New_York:20280608T170000
DTSTAMP:20260423T025746
CREATED:20250910T025501Z
LAST-MODIFIED:20250910T025507Z
UID:10001648-1844065800-1844096400@saludagop.org
SUMMARY:Early Voting
DESCRIPTION:
URL:https://saludagop.org/event/early-voting/2028-06-08/
END:VEVENT
BEGIN:VEVENT
DTSTART;TZID=America/New_York:20280608T183000
DTEND;TZID=America/New_York:20280608T200000
DTSTAMP:20260423T025746
CREATED:20260318T163009Z
LAST-MODIFIED:20260318T175824Z
UID:10002685-1844101800-1844107200@saludagop.org
SUMMARY:Steering Committee
DESCRIPTION:This is the monthly meeting of the Saluda County Steering Committee.  The members are: \n\n\n\nAmy Potts\, ChairGreg SanderJay DunbarKim ParigorisBen WardRuss TerrellDeb Camp \n\n\n\nThis committee discusses ongoing plans and ideas to bring forward at the next business meeting.
URL:https://saludagop.org/event/committees-cocktails-coca-colas-2/2028-06-08/
LOCATION:Saluda Presbyterian Church\, 103 W. Highland St.\, Saluda\, SC\, 29138\, United States
ORGANIZER;CN="The Saluda County Republican Party":MAILTO:saludaGOP@gmail.com
END:VEVENT
BEGIN:VEVENT
DTSTART;TZID=America/New_York:20280609T083000
DTEND;TZID=America/New_York:20280609T170000
DTSTAMP:20260423T025746
CREATED:20250910T025501Z
LAST-MODIFIED:20250910T025507Z
UID:10001649-1844152200-1844182800@saludagop.org
SUMMARY:Early Voting
DESCRIPTION:
URL:https://saludagop.org/event/early-voting/2028-06-09/
END:VEVENT
BEGIN:VEVENT
DTSTART;TZID=America/New_York:20280610T083000
DTEND;TZID=America/New_York:20280610T170000
DTSTAMP:20260423T025746
CREATED:20250910T025501Z
LAST-MODIFIED:20250910T025507Z
UID:10001650-1844238600-1844269200@saludagop.org
SUMMARY:Early Voting
DESCRIPTION:
URL:https://saludagop.org/event/early-voting/2028-06-10/
END:VEVENT
BEGIN:VEVENT
DTSTART;TZID=America/New_York:20280611T083000
DTEND;TZID=America/New_York:20280611T170000
DTSTAMP:20260423T025746
CREATED:20250910T025501Z
LAST-MODIFIED:20250910T025507Z
UID:10001651-1844325000-1844355600@saludagop.org
SUMMARY:Early Voting
DESCRIPTION:
URL:https://saludagop.org/event/early-voting/2028-06-11/
END:VEVENT
BEGIN:VEVENT
DTSTART;TZID=America/New_York:20280612T083000
DTEND;TZID=America/New_York:20280612T170000
DTSTAMP:20260423T025746
CREATED:20250910T025501Z
LAST-MODIFIED:20250910T025507Z
UID:10001652-1844411400-1844442000@saludagop.org
SUMMARY:Early Voting
DESCRIPTION:
URL:https://saludagop.org/event/early-voting/2028-06-12/
END:VEVENT
BEGIN:VEVENT
DTSTART;TZID=America/New_York:20280612T180000
DTEND;TZID=America/New_York:20280612T190000
DTSTAMP:20260423T025746
CREATED:20250509T050406Z
LAST-MODIFIED:20250512T063927Z
UID:10000369-1844445600-1844449200@saludagop.org
SUMMARY:County Council Meeting
DESCRIPTION:
URL:https://saludagop.org/event/county-council-meeting/2028-06-12/
LOCATION:Saluda County Administrative Offices\, 400 W. Highland St.\, Saluda\, SC\, 29138\, United States
END:VEVENT
BEGIN:VEVENT
DTSTART;TZID=America/New_York:20280613T083000
DTEND;TZID=America/New_York:20280613T170000
DTSTAMP:20260423T025746
CREATED:20250910T025501Z
LAST-MODIFIED:20250910T025507Z
UID:10001653-1844497800-1844528400@saludagop.org
SUMMARY:Early Voting
DESCRIPTION:
URL:https://saludagop.org/event/early-voting/2028-06-13/
END:VEVENT
BEGIN:VEVENT
DTSTART;TZID=America/New_York:20280614T083000
DTEND;TZID=America/New_York:20280614T170000
DTSTAMP:20260423T025746
CREATED:20250910T025501Z
LAST-MODIFIED:20250910T025507Z
UID:10001654-1844584200-1844614800@saludagop.org
SUMMARY:Early Voting
DESCRIPTION:
URL:https://saludagop.org/event/early-voting/2028-06-14/
END:VEVENT
BEGIN:VEVENT
DTSTART;TZID=America/New_York:20280615T083000
DTEND;TZID=America/New_York:20280615T170000
DTSTAMP:20260423T025746
CREATED:20250910T025501Z
LAST-MODIFIED:20250910T025507Z
UID:10001655-1844670600-1844701200@saludagop.org
SUMMARY:Early Voting
DESCRIPTION:
URL:https://saludagop.org/event/early-voting/2028-06-15/
END:VEVENT
BEGIN:VEVENT
DTSTART;TZID=America/New_York:20280616T083000
DTEND;TZID=America/New_York:20280616T170000
DTSTAMP:20260423T025746
CREATED:20250910T025501Z
LAST-MODIFIED:20250910T025507Z
UID:10001656-1844757000-1844787600@saludagop.org
SUMMARY:Early Voting
DESCRIPTION:
URL:https://saludagop.org/event/early-voting/2028-06-16/
END:VEVENT
BEGIN:VEVENT
DTSTART;TZID=America/New_York:20280617T083000
DTEND;TZID=America/New_York:20280617T170000
DTSTAMP:20260423T025746
CREATED:20250910T025501Z
LAST-MODIFIED:20250910T025507Z
UID:10001657-1844843400-1844874000@saludagop.org
SUMMARY:Early Voting
DESCRIPTION:
URL:https://saludagop.org/event/early-voting/2028-06-17/
END:VEVENT
BEGIN:VEVENT
DTSTART;TZID=America/New_York:20280618T083000
DTEND;TZID=America/New_York:20280618T170000
DTSTAMP:20260423T025746
CREATED:20250910T025501Z
LAST-MODIFIED:20250910T025507Z
UID:10001658-1844929800-1844960400@saludagop.org
SUMMARY:Early Voting
DESCRIPTION:
URL:https://saludagop.org/event/early-voting/2028-06-18/
END:VEVENT
BEGIN:VEVENT
DTSTART;TZID=America/New_York:20280619T083000
DTEND;TZID=America/New_York:20280619T170000
DTSTAMP:20260423T025746
CREATED:20250910T025501Z
LAST-MODIFIED:20250910T025507Z
UID:10001659-1845016200-1845046800@saludagop.org
SUMMARY:Early Voting
DESCRIPTION:
URL:https://saludagop.org/event/early-voting/2028-06-19/
END:VEVENT
END:VCALENDAR