BEGIN:VCALENDAR
VERSION:2.0
PRODID:-//Saluda GOP - ECPv6.15.20//NONSGML v1.0//EN
CALSCALE:GREGORIAN
METHOD:PUBLISH
X-WR-CALNAME:Saluda GOP
X-ORIGINAL-URL:https://saludagop.org
X-WR-CALDESC:Events for Saluda GOP
REFRESH-INTERVAL;VALUE=DURATION:PT1H
X-Robots-Tag:noindex
X-PUBLISHED-TTL:PT1H
BEGIN:VTIMEZONE
TZID:America/New_York
BEGIN:DAYLIGHT
TZOFFSETFROM:-0500
TZOFFSETTO:-0400
TZNAME:EDT
DTSTART:20270314T070000
END:DAYLIGHT
BEGIN:STANDARD
TZOFFSETFROM:-0400
TZOFFSETTO:-0500
TZNAME:EST
DTSTART:20271107T060000
END:STANDARD
BEGIN:DAYLIGHT
TZOFFSETFROM:-0500
TZOFFSETTO:-0400
TZNAME:EDT
DTSTART:20280312T070000
END:DAYLIGHT
BEGIN:STANDARD
TZOFFSETFROM:-0400
TZOFFSETTO:-0500
TZNAME:EST
DTSTART:20281105T060000
END:STANDARD
BEGIN:DAYLIGHT
TZOFFSETFROM:-0500
TZOFFSETTO:-0400
TZNAME:EDT
DTSTART:20290311T070000
END:DAYLIGHT
BEGIN:STANDARD
TZOFFSETFROM:-0400
TZOFFSETTO:-0500
TZNAME:EST
DTSTART:20291104T060000
END:STANDARD
END:VTIMEZONE
BEGIN:VEVENT
DTSTART;TZID=America/New_York:20280510T083000
DTEND;TZID=America/New_York:20280510T170000
DTSTAMP:20260422T235123
CREATED:20250910T025501Z
LAST-MODIFIED:20250910T025507Z
UID:10001619-1841560200-1841590800@saludagop.org
SUMMARY:Early Voting
DESCRIPTION:
URL:https://saludagop.org/event/early-voting/2028-05-10/
END:VEVENT
BEGIN:VEVENT
DTSTART;TZID=America/New_York:20280511T083000
DTEND;TZID=America/New_York:20280511T170000
DTSTAMP:20260422T235123
CREATED:20250910T025501Z
LAST-MODIFIED:20250910T025507Z
UID:10001620-1841646600-1841677200@saludagop.org
SUMMARY:Early Voting
DESCRIPTION:
URL:https://saludagop.org/event/early-voting/2028-05-11/
END:VEVENT
BEGIN:VEVENT
DTSTART;TZID=America/New_York:20280511T183000
DTEND;TZID=America/New_York:20280511T200000
DTSTAMP:20260422T235123
CREATED:20260318T163009Z
LAST-MODIFIED:20260318T175824Z
UID:10002684-1841682600-1841688000@saludagop.org
SUMMARY:Steering Committee
DESCRIPTION:This is the monthly meeting of the Saluda County Steering Committee.  The members are: \n\n\n\nAmy Potts\, ChairGreg SanderJay DunbarKim ParigorisBen WardRuss TerrellDeb Camp \n\n\n\nThis committee discusses ongoing plans and ideas to bring forward at the next business meeting.
URL:https://saludagop.org/event/committees-cocktails-coca-colas-2/2028-05-11/
LOCATION:Saluda Presbyterian Church\, 103 W. Highland St.\, Saluda\, SC\, 29138\, United States
ORGANIZER;CN="The Saluda County Republican Party":MAILTO:saludaGOP@gmail.com
END:VEVENT
BEGIN:VEVENT
DTSTART;TZID=America/New_York:20280512T083000
DTEND;TZID=America/New_York:20280512T170000
DTSTAMP:20260422T235123
CREATED:20250910T025501Z
LAST-MODIFIED:20250910T025507Z
UID:10001621-1841733000-1841763600@saludagop.org
SUMMARY:Early Voting
DESCRIPTION:
URL:https://saludagop.org/event/early-voting/2028-05-12/
END:VEVENT
BEGIN:VEVENT
DTSTART;TZID=America/New_York:20280513T083000
DTEND;TZID=America/New_York:20280513T170000
DTSTAMP:20260422T235123
CREATED:20250910T025501Z
LAST-MODIFIED:20250910T025507Z
UID:10001622-1841819400-1841850000@saludagop.org
SUMMARY:Early Voting
DESCRIPTION:
URL:https://saludagop.org/event/early-voting/2028-05-13/
END:VEVENT
BEGIN:VEVENT
DTSTART;TZID=America/New_York:20280514T083000
DTEND;TZID=America/New_York:20280514T170000
DTSTAMP:20260422T235123
CREATED:20250910T025501Z
LAST-MODIFIED:20250910T025507Z
UID:10001623-1841905800-1841936400@saludagop.org
SUMMARY:Early Voting
DESCRIPTION:
URL:https://saludagop.org/event/early-voting/2028-05-14/
END:VEVENT
BEGIN:VEVENT
DTSTART;TZID=America/New_York:20280515T083000
DTEND;TZID=America/New_York:20280515T170000
DTSTAMP:20260422T235123
CREATED:20250910T025501Z
LAST-MODIFIED:20250910T025507Z
UID:10001624-1841992200-1842022800@saludagop.org
SUMMARY:Early Voting
DESCRIPTION:
URL:https://saludagop.org/event/early-voting/2028-05-15/
END:VEVENT
BEGIN:VEVENT
DTSTART;TZID=America/New_York:20280516T083000
DTEND;TZID=America/New_York:20280516T170000
DTSTAMP:20260422T235123
CREATED:20250910T025501Z
LAST-MODIFIED:20250910T025507Z
UID:10001625-1842078600-1842109200@saludagop.org
SUMMARY:Early Voting
DESCRIPTION:
URL:https://saludagop.org/event/early-voting/2028-05-16/
END:VEVENT
BEGIN:VEVENT
DTSTART;TZID=America/New_York:20280517T083000
DTEND;TZID=America/New_York:20280517T170000
DTSTAMP:20260422T235123
CREATED:20250910T025501Z
LAST-MODIFIED:20250910T025507Z
UID:10001626-1842165000-1842195600@saludagop.org
SUMMARY:Early Voting
DESCRIPTION:
URL:https://saludagop.org/event/early-voting/2028-05-17/
END:VEVENT
BEGIN:VEVENT
DTSTART;TZID=America/New_York:20280518T083000
DTEND;TZID=America/New_York:20280518T170000
DTSTAMP:20260422T235123
CREATED:20250910T025501Z
LAST-MODIFIED:20250910T025507Z
UID:10001627-1842251400-1842282000@saludagop.org
SUMMARY:Early Voting
DESCRIPTION:
URL:https://saludagop.org/event/early-voting/2028-05-18/
END:VEVENT
BEGIN:VEVENT
DTSTART;TZID=America/New_York:20280519T083000
DTEND;TZID=America/New_York:20280519T170000
DTSTAMP:20260422T235123
CREATED:20250910T025501Z
LAST-MODIFIED:20250910T025507Z
UID:10001628-1842337800-1842368400@saludagop.org
SUMMARY:Early Voting
DESCRIPTION:
URL:https://saludagop.org/event/early-voting/2028-05-19/
END:VEVENT
BEGIN:VEVENT
DTSTART;TZID=America/New_York:20280520T083000
DTEND;TZID=America/New_York:20280520T170000
DTSTAMP:20260422T235123
CREATED:20250910T025501Z
LAST-MODIFIED:20250910T025507Z
UID:10001629-1842424200-1842454800@saludagop.org
SUMMARY:Early Voting
DESCRIPTION:
URL:https://saludagop.org/event/early-voting/2028-05-20/
END:VEVENT
BEGIN:VEVENT
DTSTART;TZID=America/New_York:20280521T083000
DTEND;TZID=America/New_York:20280521T170000
DTSTAMP:20260422T235123
CREATED:20250910T025501Z
LAST-MODIFIED:20250910T025507Z
UID:10001630-1842510600-1842541200@saludagop.org
SUMMARY:Early Voting
DESCRIPTION:
URL:https://saludagop.org/event/early-voting/2028-05-21/
END:VEVENT
BEGIN:VEVENT
DTSTART;TZID=America/New_York:20280522T083000
DTEND;TZID=America/New_York:20280522T170000
DTSTAMP:20260422T235123
CREATED:20250910T025501Z
LAST-MODIFIED:20250910T025507Z
UID:10001631-1842597000-1842627600@saludagop.org
SUMMARY:Early Voting
DESCRIPTION:
URL:https://saludagop.org/event/early-voting/2028-05-22/
END:VEVENT
BEGIN:VEVENT
DTSTART;TZID=America/New_York:20280522T180000
DTEND;TZID=America/New_York:20280522T200000
DTSTAMP:20260422T235123
CREATED:20251215T025208Z
LAST-MODIFIED:20251215T025554Z
UID:10002625-1842631200-1842638400@saludagop.org
SUMMARY:Saluda GOP Monthly Meeting
DESCRIPTION:Our Monthly Members meetings usually start with a meal at 6pm.  No charge\, but donations are appreciated!  We usually feature a guest speaker and a short business meeting afterwards when needed. \n\n\n\nThe public is welcome to attend.
URL:https://saludagop.org/event/saluda-gop-monthly-meeting-4/2028-05-22/
LOCATION:Saluda Presbyterian Church\, 103 W. Highland St.\, Saluda\, SC\, 29138\, United States
ORGANIZER;CN="The Saluda County Republican Party":MAILTO:saludaGOP@gmail.com
END:VEVENT
BEGIN:VEVENT
DTSTART;TZID=America/New_York:20280523T083000
DTEND;TZID=America/New_York:20280523T170000
DTSTAMP:20260422T235123
CREATED:20250910T025501Z
LAST-MODIFIED:20250910T025507Z
UID:10001632-1842683400-1842714000@saludagop.org
SUMMARY:Early Voting
DESCRIPTION:
URL:https://saludagop.org/event/early-voting/2028-05-23/
END:VEVENT
BEGIN:VEVENT
DTSTART;TZID=America/New_York:20280524T083000
DTEND;TZID=America/New_York:20280524T170000
DTSTAMP:20260422T235123
CREATED:20250910T025501Z
LAST-MODIFIED:20250910T025507Z
UID:10001633-1842769800-1842800400@saludagop.org
SUMMARY:Early Voting
DESCRIPTION:
URL:https://saludagop.org/event/early-voting/2028-05-24/
END:VEVENT
BEGIN:VEVENT
DTSTART;TZID=America/New_York:20280525T083000
DTEND;TZID=America/New_York:20280525T170000
DTSTAMP:20260422T235123
CREATED:20250910T025501Z
LAST-MODIFIED:20250910T025507Z
UID:10001634-1842856200-1842886800@saludagop.org
SUMMARY:Early Voting
DESCRIPTION:
URL:https://saludagop.org/event/early-voting/2028-05-25/
END:VEVENT
BEGIN:VEVENT
DTSTART;TZID=America/New_York:20280526T083000
DTEND;TZID=America/New_York:20280526T170000
DTSTAMP:20260422T235123
CREATED:20250910T025501Z
LAST-MODIFIED:20250910T025507Z
UID:10001635-1842942600-1842973200@saludagop.org
SUMMARY:Early Voting
DESCRIPTION:
URL:https://saludagop.org/event/early-voting/2028-05-26/
END:VEVENT
BEGIN:VEVENT
DTSTART;TZID=America/New_York:20280527T083000
DTEND;TZID=America/New_York:20280527T170000
DTSTAMP:20260422T235123
CREATED:20250910T025501Z
LAST-MODIFIED:20250910T025507Z
UID:10001636-1843029000-1843059600@saludagop.org
SUMMARY:Early Voting
DESCRIPTION:
URL:https://saludagop.org/event/early-voting/2028-05-27/
END:VEVENT
BEGIN:VEVENT
DTSTART;TZID=America/New_York:20280528T083000
DTEND;TZID=America/New_York:20280528T170000
DTSTAMP:20260422T235123
CREATED:20250910T025501Z
LAST-MODIFIED:20250910T025507Z
UID:10001637-1843115400-1843146000@saludagop.org
SUMMARY:Early Voting
DESCRIPTION:
URL:https://saludagop.org/event/early-voting/2028-05-28/
END:VEVENT
BEGIN:VEVENT
DTSTART;TZID=America/New_York:20280529T083000
DTEND;TZID=America/New_York:20280529T170000
DTSTAMP:20260422T235123
CREATED:20250910T025501Z
LAST-MODIFIED:20250910T025507Z
UID:10001638-1843201800-1843232400@saludagop.org
SUMMARY:Early Voting
DESCRIPTION:
URL:https://saludagop.org/event/early-voting/2028-05-29/
END:VEVENT
BEGIN:VEVENT
DTSTART;TZID=America/New_York:20280530T083000
DTEND;TZID=America/New_York:20280530T170000
DTSTAMP:20260422T235123
CREATED:20250910T025501Z
LAST-MODIFIED:20250910T025507Z
UID:10001639-1843288200-1843318800@saludagop.org
SUMMARY:Early Voting
DESCRIPTION:
URL:https://saludagop.org/event/early-voting/2028-05-30/
END:VEVENT
BEGIN:VEVENT
DTSTART;TZID=America/New_York:20280531T083000
DTEND;TZID=America/New_York:20280531T170000
DTSTAMP:20260422T235123
CREATED:20250910T025501Z
LAST-MODIFIED:20250910T025507Z
UID:10001640-1843374600-1843405200@saludagop.org
SUMMARY:Early Voting
DESCRIPTION:
URL:https://saludagop.org/event/early-voting/2028-05-31/
END:VEVENT
BEGIN:VEVENT
DTSTART;TZID=America/New_York:20280601T083000
DTEND;TZID=America/New_York:20280601T170000
DTSTAMP:20260422T235123
CREATED:20250910T025501Z
LAST-MODIFIED:20250910T025507Z
UID:10001641-1843461000-1843491600@saludagop.org
SUMMARY:Early Voting
DESCRIPTION:
URL:https://saludagop.org/event/early-voting/2028-06-01/
END:VEVENT
BEGIN:VEVENT
DTSTART;TZID=America/New_York:20280602T083000
DTEND;TZID=America/New_York:20280602T170000
DTSTAMP:20260422T235123
CREATED:20250910T025501Z
LAST-MODIFIED:20250910T025507Z
UID:10001642-1843547400-1843578000@saludagop.org
SUMMARY:Early Voting
DESCRIPTION:
URL:https://saludagop.org/event/early-voting/2028-06-02/
END:VEVENT
BEGIN:VEVENT
DTSTART;TZID=America/New_York:20280603T083000
DTEND;TZID=America/New_York:20280603T170000
DTSTAMP:20260422T235123
CREATED:20250910T025501Z
LAST-MODIFIED:20250910T025507Z
UID:10001643-1843633800-1843664400@saludagop.org
SUMMARY:Early Voting
DESCRIPTION:
URL:https://saludagop.org/event/early-voting/2028-06-03/
END:VEVENT
BEGIN:VEVENT
DTSTART;TZID=America/New_York:20280604T083000
DTEND;TZID=America/New_York:20280604T170000
DTSTAMP:20260422T235123
CREATED:20250910T025501Z
LAST-MODIFIED:20250910T025507Z
UID:10001644-1843720200-1843750800@saludagop.org
SUMMARY:Early Voting
DESCRIPTION:
URL:https://saludagop.org/event/early-voting/2028-06-04/
END:VEVENT
BEGIN:VEVENT
DTSTART;TZID=America/New_York:20280605T083000
DTEND;TZID=America/New_York:20280605T170000
DTSTAMP:20260422T235123
CREATED:20250910T025501Z
LAST-MODIFIED:20250910T025507Z
UID:10001645-1843806600-1843837200@saludagop.org
SUMMARY:Early Voting
DESCRIPTION:
URL:https://saludagop.org/event/early-voting/2028-06-05/
END:VEVENT
BEGIN:VEVENT
DTSTART;TZID=America/New_York:20280606T083000
DTEND;TZID=America/New_York:20280606T170000
DTSTAMP:20260422T235123
CREATED:20250910T025501Z
LAST-MODIFIED:20250910T025507Z
UID:10001646-1843893000-1843923600@saludagop.org
SUMMARY:Early Voting
DESCRIPTION:
URL:https://saludagop.org/event/early-voting/2028-06-06/
END:VEVENT
END:VCALENDAR