BEGIN:VCALENDAR
VERSION:2.0
PRODID:-//Saluda GOP - ECPv6.15.20//NONSGML v1.0//EN
CALSCALE:GREGORIAN
METHOD:PUBLISH
X-WR-CALNAME:Saluda GOP
X-ORIGINAL-URL:https://saludagop.org
X-WR-CALDESC:Events for Saluda GOP
REFRESH-INTERVAL;VALUE=DURATION:PT1H
X-Robots-Tag:noindex
X-PUBLISHED-TTL:PT1H
BEGIN:VTIMEZONE
TZID:America/New_York
BEGIN:DAYLIGHT
TZOFFSETFROM:-0500
TZOFFSETTO:-0400
TZNAME:EDT
DTSTART:20270314T070000
END:DAYLIGHT
BEGIN:STANDARD
TZOFFSETFROM:-0400
TZOFFSETTO:-0500
TZNAME:EST
DTSTART:20271107T060000
END:STANDARD
BEGIN:DAYLIGHT
TZOFFSETFROM:-0500
TZOFFSETTO:-0400
TZNAME:EDT
DTSTART:20280312T070000
END:DAYLIGHT
BEGIN:STANDARD
TZOFFSETFROM:-0400
TZOFFSETTO:-0500
TZNAME:EST
DTSTART:20281105T060000
END:STANDARD
BEGIN:DAYLIGHT
TZOFFSETFROM:-0500
TZOFFSETTO:-0400
TZNAME:EDT
DTSTART:20290311T070000
END:DAYLIGHT
BEGIN:STANDARD
TZOFFSETFROM:-0400
TZOFFSETTO:-0500
TZNAME:EST
DTSTART:20291104T060000
END:STANDARD
END:VTIMEZONE
BEGIN:VEVENT
DTSTART;TZID=America/New_York:20280205T083000
DTEND;TZID=America/New_York:20280205T170000
DTSTAMP:20260422T084709
CREATED:20250910T025501Z
LAST-MODIFIED:20250910T025507Z
UID:10001524-1833352200-1833382800@saludagop.org
SUMMARY:Early Voting
DESCRIPTION:
URL:https://saludagop.org/event/early-voting/2028-02-05/
END:VEVENT
BEGIN:VEVENT
DTSTART;TZID=America/New_York:20280206T083000
DTEND;TZID=America/New_York:20280206T170000
DTSTAMP:20260422T084709
CREATED:20250910T025501Z
LAST-MODIFIED:20250910T025507Z
UID:10001525-1833438600-1833469200@saludagop.org
SUMMARY:Early Voting
DESCRIPTION:
URL:https://saludagop.org/event/early-voting/2028-02-06/
END:VEVENT
BEGIN:VEVENT
DTSTART;TZID=America/New_York:20280207T083000
DTEND;TZID=America/New_York:20280207T170000
DTSTAMP:20260422T084709
CREATED:20250910T025501Z
LAST-MODIFIED:20250910T025507Z
UID:10001526-1833525000-1833555600@saludagop.org
SUMMARY:Early Voting
DESCRIPTION:
URL:https://saludagop.org/event/early-voting/2028-02-07/
END:VEVENT
BEGIN:VEVENT
DTSTART;TZID=America/New_York:20280208T083000
DTEND;TZID=America/New_York:20280208T170000
DTSTAMP:20260422T084709
CREATED:20250910T025501Z
LAST-MODIFIED:20250910T025507Z
UID:10001527-1833611400-1833642000@saludagop.org
SUMMARY:Early Voting
DESCRIPTION:
URL:https://saludagop.org/event/early-voting/2028-02-08/
END:VEVENT
BEGIN:VEVENT
DTSTART;TZID=America/New_York:20280209T083000
DTEND;TZID=America/New_York:20280209T170000
DTSTAMP:20260422T084709
CREATED:20250910T025501Z
LAST-MODIFIED:20250910T025507Z
UID:10001528-1833697800-1833728400@saludagop.org
SUMMARY:Early Voting
DESCRIPTION:
URL:https://saludagop.org/event/early-voting/2028-02-09/
END:VEVENT
BEGIN:VEVENT
DTSTART;TZID=America/New_York:20280210T083000
DTEND;TZID=America/New_York:20280210T170000
DTSTAMP:20260422T084709
CREATED:20250910T025501Z
LAST-MODIFIED:20250910T025507Z
UID:10001529-1833784200-1833814800@saludagop.org
SUMMARY:Early Voting
DESCRIPTION:
URL:https://saludagop.org/event/early-voting/2028-02-10/
END:VEVENT
BEGIN:VEVENT
DTSTART;TZID=America/New_York:20280210T183000
DTEND;TZID=America/New_York:20280210T200000
DTSTAMP:20260422T084709
CREATED:20260318T163009Z
LAST-MODIFIED:20260318T175824Z
UID:10002681-1833820200-1833825600@saludagop.org
SUMMARY:Steering Committee
DESCRIPTION:This is the monthly meeting of the Saluda County Steering Committee.  The members are: \n\n\n\nAmy Potts\, ChairGreg SanderJay DunbarKim ParigorisBen WardRuss TerrellDeb Camp \n\n\n\nThis committee discusses ongoing plans and ideas to bring forward at the next business meeting.
URL:https://saludagop.org/event/committees-cocktails-coca-colas-2/2028-02-10/
LOCATION:Saluda Presbyterian Church\, 103 W. Highland St.\, Saluda\, SC\, 29138\, United States
ORGANIZER;CN="The Saluda County Republican Party":MAILTO:saludaGOP@gmail.com
END:VEVENT
BEGIN:VEVENT
DTSTART;TZID=America/New_York:20280211T083000
DTEND;TZID=America/New_York:20280211T170000
DTSTAMP:20260422T084709
CREATED:20250910T025501Z
LAST-MODIFIED:20250910T025507Z
UID:10001530-1833870600-1833901200@saludagop.org
SUMMARY:Early Voting
DESCRIPTION:
URL:https://saludagop.org/event/early-voting/2028-02-11/
END:VEVENT
BEGIN:VEVENT
DTSTART;TZID=America/New_York:20280212T083000
DTEND;TZID=America/New_York:20280212T170000
DTSTAMP:20260422T084709
CREATED:20250910T025501Z
LAST-MODIFIED:20250910T025507Z
UID:10001531-1833957000-1833987600@saludagop.org
SUMMARY:Early Voting
DESCRIPTION:
URL:https://saludagop.org/event/early-voting/2028-02-12/
END:VEVENT
BEGIN:VEVENT
DTSTART;TZID=America/New_York:20280213T083000
DTEND;TZID=America/New_York:20280213T170000
DTSTAMP:20260422T084709
CREATED:20250910T025501Z
LAST-MODIFIED:20250910T025507Z
UID:10001532-1834043400-1834074000@saludagop.org
SUMMARY:Early Voting
DESCRIPTION:
URL:https://saludagop.org/event/early-voting/2028-02-13/
END:VEVENT
BEGIN:VEVENT
DTSTART;TZID=America/New_York:20280214T083000
DTEND;TZID=America/New_York:20280214T170000
DTSTAMP:20260422T084709
CREATED:20250910T025501Z
LAST-MODIFIED:20250910T025507Z
UID:10001533-1834129800-1834160400@saludagop.org
SUMMARY:Early Voting
DESCRIPTION:
URL:https://saludagop.org/event/early-voting/2028-02-14/
END:VEVENT
BEGIN:VEVENT
DTSTART;TZID=America/New_York:20280214T180000
DTEND;TZID=America/New_York:20280214T190000
DTSTAMP:20260422T084709
CREATED:20250509T050406Z
LAST-MODIFIED:20250512T063927Z
UID:10000365-1834164000-1834167600@saludagop.org
SUMMARY:County Council Meeting
DESCRIPTION:
URL:https://saludagop.org/event/county-council-meeting/2028-02-14/
LOCATION:Saluda County Administrative Offices\, 400 W. Highland St.\, Saluda\, SC\, 29138\, United States
END:VEVENT
BEGIN:VEVENT
DTSTART;TZID=America/New_York:20280215T083000
DTEND;TZID=America/New_York:20280215T170000
DTSTAMP:20260422T084709
CREATED:20250910T025501Z
LAST-MODIFIED:20250910T025507Z
UID:10001534-1834216200-1834246800@saludagop.org
SUMMARY:Early Voting
DESCRIPTION:
URL:https://saludagop.org/event/early-voting/2028-02-15/
END:VEVENT
BEGIN:VEVENT
DTSTART;TZID=America/New_York:20280216T083000
DTEND;TZID=America/New_York:20280216T170000
DTSTAMP:20260422T084709
CREATED:20250910T025501Z
LAST-MODIFIED:20250910T025507Z
UID:10001535-1834302600-1834333200@saludagop.org
SUMMARY:Early Voting
DESCRIPTION:
URL:https://saludagop.org/event/early-voting/2028-02-16/
END:VEVENT
BEGIN:VEVENT
DTSTART;TZID=America/New_York:20280217T083000
DTEND;TZID=America/New_York:20280217T170000
DTSTAMP:20260422T084709
CREATED:20250910T025501Z
LAST-MODIFIED:20250910T025507Z
UID:10001536-1834389000-1834419600@saludagop.org
SUMMARY:Early Voting
DESCRIPTION:
URL:https://saludagop.org/event/early-voting/2028-02-17/
END:VEVENT
BEGIN:VEVENT
DTSTART;TZID=America/New_York:20280218T083000
DTEND;TZID=America/New_York:20280218T170000
DTSTAMP:20260422T084709
CREATED:20250910T025501Z
LAST-MODIFIED:20250910T025507Z
UID:10001537-1834475400-1834506000@saludagop.org
SUMMARY:Early Voting
DESCRIPTION:
URL:https://saludagop.org/event/early-voting/2028-02-18/
END:VEVENT
BEGIN:VEVENT
DTSTART;TZID=America/New_York:20280219T083000
DTEND;TZID=America/New_York:20280219T170000
DTSTAMP:20260422T084709
CREATED:20250910T025501Z
LAST-MODIFIED:20250910T025507Z
UID:10001538-1834561800-1834592400@saludagop.org
SUMMARY:Early Voting
DESCRIPTION:
URL:https://saludagop.org/event/early-voting/2028-02-19/
END:VEVENT
BEGIN:VEVENT
DTSTART;TZID=America/New_York:20280220T083000
DTEND;TZID=America/New_York:20280220T170000
DTSTAMP:20260422T084709
CREATED:20250910T025501Z
LAST-MODIFIED:20250910T025507Z
UID:10001539-1834648200-1834678800@saludagop.org
SUMMARY:Early Voting
DESCRIPTION:
URL:https://saludagop.org/event/early-voting/2028-02-20/
END:VEVENT
BEGIN:VEVENT
DTSTART;TZID=America/New_York:20280221T083000
DTEND;TZID=America/New_York:20280221T170000
DTSTAMP:20260422T084709
CREATED:20250910T025501Z
LAST-MODIFIED:20250910T025507Z
UID:10001540-1834734600-1834765200@saludagop.org
SUMMARY:Early Voting
DESCRIPTION:
URL:https://saludagop.org/event/early-voting/2028-02-21/
END:VEVENT
BEGIN:VEVENT
DTSTART;TZID=America/New_York:20280222T083000
DTEND;TZID=America/New_York:20280222T170000
DTSTAMP:20260422T084709
CREATED:20250910T025501Z
LAST-MODIFIED:20250910T025507Z
UID:10001541-1834821000-1834851600@saludagop.org
SUMMARY:Early Voting
DESCRIPTION:
URL:https://saludagop.org/event/early-voting/2028-02-22/
END:VEVENT
BEGIN:VEVENT
DTSTART;TZID=America/New_York:20280223T083000
DTEND;TZID=America/New_York:20280223T170000
DTSTAMP:20260422T084709
CREATED:20250910T025501Z
LAST-MODIFIED:20250910T025507Z
UID:10001542-1834907400-1834938000@saludagop.org
SUMMARY:Early Voting
DESCRIPTION:
URL:https://saludagop.org/event/early-voting/2028-02-23/
END:VEVENT
BEGIN:VEVENT
DTSTART;TZID=America/New_York:20280224T083000
DTEND;TZID=America/New_York:20280224T170000
DTSTAMP:20260422T084709
CREATED:20250910T025501Z
LAST-MODIFIED:20250910T025507Z
UID:10001543-1834993800-1835024400@saludagop.org
SUMMARY:Early Voting
DESCRIPTION:
URL:https://saludagop.org/event/early-voting/2028-02-24/
END:VEVENT
BEGIN:VEVENT
DTSTART;TZID=America/New_York:20280225T083000
DTEND;TZID=America/New_York:20280225T170000
DTSTAMP:20260422T084709
CREATED:20250910T025501Z
LAST-MODIFIED:20250910T025507Z
UID:10001544-1835080200-1835110800@saludagop.org
SUMMARY:Early Voting
DESCRIPTION:
URL:https://saludagop.org/event/early-voting/2028-02-25/
END:VEVENT
BEGIN:VEVENT
DTSTART;TZID=America/New_York:20280226T083000
DTEND;TZID=America/New_York:20280226T170000
DTSTAMP:20260422T084709
CREATED:20250910T025501Z
LAST-MODIFIED:20250910T025507Z
UID:10001545-1835166600-1835197200@saludagop.org
SUMMARY:Early Voting
DESCRIPTION:
URL:https://saludagop.org/event/early-voting/2028-02-26/
END:VEVENT
BEGIN:VEVENT
DTSTART;TZID=America/New_York:20280227T083000
DTEND;TZID=America/New_York:20280227T170000
DTSTAMP:20260422T084709
CREATED:20250910T025501Z
LAST-MODIFIED:20250910T025507Z
UID:10001546-1835253000-1835283600@saludagop.org
SUMMARY:Early Voting
DESCRIPTION:
URL:https://saludagop.org/event/early-voting/2028-02-27/
END:VEVENT
BEGIN:VEVENT
DTSTART;TZID=America/New_York:20280228T083000
DTEND;TZID=America/New_York:20280228T170000
DTSTAMP:20260422T084709
CREATED:20250910T025501Z
LAST-MODIFIED:20250910T025507Z
UID:10001547-1835339400-1835370000@saludagop.org
SUMMARY:Early Voting
DESCRIPTION:
URL:https://saludagop.org/event/early-voting/2028-02-28/
END:VEVENT
BEGIN:VEVENT
DTSTART;TZID=America/New_York:20280228T180000
DTEND;TZID=America/New_York:20280228T200000
DTSTAMP:20260422T084709
CREATED:20251215T025208Z
LAST-MODIFIED:20251215T025554Z
UID:10002622-1835373600-1835380800@saludagop.org
SUMMARY:Saluda GOP Monthly Meeting
DESCRIPTION:Our Monthly Members meetings usually start with a meal at 6pm.  No charge\, but donations are appreciated!  We usually feature a guest speaker and a short business meeting afterwards when needed. \n\n\n\nThe public is welcome to attend.
URL:https://saludagop.org/event/saluda-gop-monthly-meeting-4/2028-02-28/
LOCATION:Saluda Presbyterian Church\, 103 W. Highland St.\, Saluda\, SC\, 29138\, United States
ORGANIZER;CN="The Saluda County Republican Party":MAILTO:saludaGOP@gmail.com
END:VEVENT
BEGIN:VEVENT
DTSTART;TZID=America/New_York:20280229T083000
DTEND;TZID=America/New_York:20280229T170000
DTSTAMP:20260422T084709
CREATED:20250910T025501Z
LAST-MODIFIED:20250910T025507Z
UID:10001548-1835425800-1835456400@saludagop.org
SUMMARY:Early Voting
DESCRIPTION:
URL:https://saludagop.org/event/early-voting/2028-02-29/
END:VEVENT
BEGIN:VEVENT
DTSTART;TZID=America/New_York:20280301T083000
DTEND;TZID=America/New_York:20280301T170000
DTSTAMP:20260422T084709
CREATED:20250910T025501Z
LAST-MODIFIED:20250910T025507Z
UID:10001549-1835512200-1835542800@saludagop.org
SUMMARY:Early Voting
DESCRIPTION:
URL:https://saludagop.org/event/early-voting/2028-03-01/
END:VEVENT
BEGIN:VEVENT
DTSTART;TZID=America/New_York:20280302T083000
DTEND;TZID=America/New_York:20280302T170000
DTSTAMP:20260422T084709
CREATED:20250910T025501Z
LAST-MODIFIED:20250910T025507Z
UID:10001550-1835598600-1835629200@saludagop.org
SUMMARY:Early Voting
DESCRIPTION:
URL:https://saludagop.org/event/early-voting/2028-03-02/
END:VEVENT
END:VCALENDAR