BEGIN:VCALENDAR
VERSION:2.0
PRODID:-//Saluda GOP - ECPv6.15.20//NONSGML v1.0//EN
CALSCALE:GREGORIAN
METHOD:PUBLISH
X-WR-CALNAME:Saluda GOP
X-ORIGINAL-URL:https://saludagop.org
X-WR-CALDESC:Events for Saluda GOP
REFRESH-INTERVAL;VALUE=DURATION:PT1H
X-Robots-Tag:noindex
X-PUBLISHED-TTL:PT1H
BEGIN:VTIMEZONE
TZID:America/New_York
BEGIN:DAYLIGHT
TZOFFSETFROM:-0500
TZOFFSETTO:-0400
TZNAME:EDT
DTSTART:20260308T070000
END:DAYLIGHT
BEGIN:STANDARD
TZOFFSETFROM:-0400
TZOFFSETTO:-0500
TZNAME:EST
DTSTART:20261101T060000
END:STANDARD
BEGIN:DAYLIGHT
TZOFFSETFROM:-0500
TZOFFSETTO:-0400
TZNAME:EDT
DTSTART:20270314T070000
END:DAYLIGHT
BEGIN:STANDARD
TZOFFSETFROM:-0400
TZOFFSETTO:-0500
TZNAME:EST
DTSTART:20271107T060000
END:STANDARD
BEGIN:DAYLIGHT
TZOFFSETFROM:-0500
TZOFFSETTO:-0400
TZNAME:EDT
DTSTART:20280312T070000
END:DAYLIGHT
BEGIN:STANDARD
TZOFFSETFROM:-0400
TZOFFSETTO:-0500
TZNAME:EST
DTSTART:20281105T060000
END:STANDARD
END:VTIMEZONE
BEGIN:VEVENT
DTSTART;TZID=America/New_York:20271115T083000
DTEND;TZID=America/New_York:20271115T170000
DTSTAMP:20260421T201628
CREATED:20250910T025501Z
LAST-MODIFIED:20250910T025507Z
UID:10001442-1826267400-1826298000@saludagop.org
SUMMARY:Early Voting
DESCRIPTION:
URL:https://saludagop.org/event/early-voting/2027-11-15/
END:VEVENT
BEGIN:VEVENT
DTSTART;TZID=America/New_York:20271116T083000
DTEND;TZID=America/New_York:20271116T170000
DTSTAMP:20260421T201628
CREATED:20250910T025501Z
LAST-MODIFIED:20250910T025507Z
UID:10001443-1826353800-1826384400@saludagop.org
SUMMARY:Early Voting
DESCRIPTION:
URL:https://saludagop.org/event/early-voting/2027-11-16/
END:VEVENT
BEGIN:VEVENT
DTSTART;TZID=America/New_York:20271117T083000
DTEND;TZID=America/New_York:20271117T170000
DTSTAMP:20260421T201628
CREATED:20250910T025501Z
LAST-MODIFIED:20250910T025507Z
UID:10001444-1826440200-1826470800@saludagop.org
SUMMARY:Early Voting
DESCRIPTION:
URL:https://saludagop.org/event/early-voting/2027-11-17/
END:VEVENT
BEGIN:VEVENT
DTSTART;TZID=America/New_York:20271118T083000
DTEND;TZID=America/New_York:20271118T170000
DTSTAMP:20260421T201628
CREATED:20250910T025501Z
LAST-MODIFIED:20250910T025507Z
UID:10001445-1826526600-1826557200@saludagop.org
SUMMARY:Early Voting
DESCRIPTION:
URL:https://saludagop.org/event/early-voting/2027-11-18/
END:VEVENT
BEGIN:VEVENT
DTSTART;TZID=America/New_York:20271119T083000
DTEND;TZID=America/New_York:20271119T170000
DTSTAMP:20260421T201628
CREATED:20250910T025501Z
LAST-MODIFIED:20250910T025507Z
UID:10001446-1826613000-1826643600@saludagop.org
SUMMARY:Early Voting
DESCRIPTION:
URL:https://saludagop.org/event/early-voting/2027-11-19/
END:VEVENT
BEGIN:VEVENT
DTSTART;TZID=America/New_York:20271120T083000
DTEND;TZID=America/New_York:20271120T170000
DTSTAMP:20260421T201628
CREATED:20250910T025501Z
LAST-MODIFIED:20250910T025507Z
UID:10001447-1826699400-1826730000@saludagop.org
SUMMARY:Early Voting
DESCRIPTION:
URL:https://saludagop.org/event/early-voting/2027-11-20/
END:VEVENT
BEGIN:VEVENT
DTSTART;TZID=America/New_York:20271121T083000
DTEND;TZID=America/New_York:20271121T170000
DTSTAMP:20260421T201628
CREATED:20250910T025501Z
LAST-MODIFIED:20250910T025507Z
UID:10001448-1826785800-1826816400@saludagop.org
SUMMARY:Early Voting
DESCRIPTION:
URL:https://saludagop.org/event/early-voting/2027-11-21/
END:VEVENT
BEGIN:VEVENT
DTSTART;TZID=America/New_York:20271122T083000
DTEND;TZID=America/New_York:20271122T170000
DTSTAMP:20260421T201628
CREATED:20250910T025501Z
LAST-MODIFIED:20250910T025507Z
UID:10001449-1826872200-1826902800@saludagop.org
SUMMARY:Early Voting
DESCRIPTION:
URL:https://saludagop.org/event/early-voting/2027-11-22/
END:VEVENT
BEGIN:VEVENT
DTSTART;TZID=America/New_York:20271122T180000
DTEND;TZID=America/New_York:20271122T200000
DTSTAMP:20260421T201628
CREATED:20251215T025208Z
LAST-MODIFIED:20251215T025554Z
UID:10002619-1826906400-1826913600@saludagop.org
SUMMARY:Saluda GOP Monthly Meeting
DESCRIPTION:Our Monthly Members meetings usually start with a meal at 6pm.  No charge\, but donations are appreciated!  We usually feature a guest speaker and a short business meeting afterwards when needed. \n\n\n\nThe public is welcome to attend.
URL:https://saludagop.org/event/saluda-gop-monthly-meeting-4/2027-11-22/
LOCATION:Saluda Presbyterian Church\, 103 W. Highland St.\, Saluda\, SC\, 29138\, United States
ORGANIZER;CN="The Saluda County Republican Party":MAILTO:saludaGOP@gmail.com
END:VEVENT
BEGIN:VEVENT
DTSTART;TZID=America/New_York:20271123T083000
DTEND;TZID=America/New_York:20271123T170000
DTSTAMP:20260421T201628
CREATED:20250910T025501Z
LAST-MODIFIED:20250910T025507Z
UID:10001450-1826958600-1826989200@saludagop.org
SUMMARY:Early Voting
DESCRIPTION:
URL:https://saludagop.org/event/early-voting/2027-11-23/
END:VEVENT
BEGIN:VEVENT
DTSTART;TZID=America/New_York:20271124T083000
DTEND;TZID=America/New_York:20271124T170000
DTSTAMP:20260421T201628
CREATED:20250910T025501Z
LAST-MODIFIED:20250910T025507Z
UID:10001451-1827045000-1827075600@saludagop.org
SUMMARY:Early Voting
DESCRIPTION:
URL:https://saludagop.org/event/early-voting/2027-11-24/
END:VEVENT
BEGIN:VEVENT
DTSTART;TZID=America/New_York:20271125T083000
DTEND;TZID=America/New_York:20271125T170000
DTSTAMP:20260421T201628
CREATED:20250910T025501Z
LAST-MODIFIED:20250910T025507Z
UID:10001452-1827131400-1827162000@saludagop.org
SUMMARY:Early Voting
DESCRIPTION:
URL:https://saludagop.org/event/early-voting/2027-11-25/
END:VEVENT
BEGIN:VEVENT
DTSTART;TZID=America/New_York:20271126T083000
DTEND;TZID=America/New_York:20271126T170000
DTSTAMP:20260421T201628
CREATED:20250910T025501Z
LAST-MODIFIED:20250910T025507Z
UID:10001453-1827217800-1827248400@saludagop.org
SUMMARY:Early Voting
DESCRIPTION:
URL:https://saludagop.org/event/early-voting/2027-11-26/
END:VEVENT
BEGIN:VEVENT
DTSTART;TZID=America/New_York:20271127T083000
DTEND;TZID=America/New_York:20271127T170000
DTSTAMP:20260421T201628
CREATED:20250910T025501Z
LAST-MODIFIED:20250910T025507Z
UID:10001454-1827304200-1827334800@saludagop.org
SUMMARY:Early Voting
DESCRIPTION:
URL:https://saludagop.org/event/early-voting/2027-11-27/
END:VEVENT
BEGIN:VEVENT
DTSTART;TZID=America/New_York:20271128T083000
DTEND;TZID=America/New_York:20271128T170000
DTSTAMP:20260421T201628
CREATED:20250910T025501Z
LAST-MODIFIED:20250910T025507Z
UID:10001455-1827390600-1827421200@saludagop.org
SUMMARY:Early Voting
DESCRIPTION:
URL:https://saludagop.org/event/early-voting/2027-11-28/
END:VEVENT
BEGIN:VEVENT
DTSTART;TZID=America/New_York:20271129T083000
DTEND;TZID=America/New_York:20271129T170000
DTSTAMP:20260421T201628
CREATED:20250910T025501Z
LAST-MODIFIED:20250910T025507Z
UID:10001456-1827477000-1827507600@saludagop.org
SUMMARY:Early Voting
DESCRIPTION:
URL:https://saludagop.org/event/early-voting/2027-11-29/
END:VEVENT
BEGIN:VEVENT
DTSTART;TZID=America/New_York:20271130T083000
DTEND;TZID=America/New_York:20271130T170000
DTSTAMP:20260421T201628
CREATED:20250910T025501Z
LAST-MODIFIED:20250910T025507Z
UID:10001457-1827563400-1827594000@saludagop.org
SUMMARY:Early Voting
DESCRIPTION:
URL:https://saludagop.org/event/early-voting/2027-11-30/
END:VEVENT
BEGIN:VEVENT
DTSTART;TZID=America/New_York:20271201T083000
DTEND;TZID=America/New_York:20271201T170000
DTSTAMP:20260421T201628
CREATED:20250910T025501Z
LAST-MODIFIED:20250910T025507Z
UID:10001458-1827649800-1827680400@saludagop.org
SUMMARY:Early Voting
DESCRIPTION:
URL:https://saludagop.org/event/early-voting/2027-12-01/
END:VEVENT
BEGIN:VEVENT
DTSTART;TZID=America/New_York:20271202T083000
DTEND;TZID=America/New_York:20271202T170000
DTSTAMP:20260421T201628
CREATED:20250910T025501Z
LAST-MODIFIED:20250910T025507Z
UID:10001459-1827736200-1827766800@saludagop.org
SUMMARY:Early Voting
DESCRIPTION:
URL:https://saludagop.org/event/early-voting/2027-12-02/
END:VEVENT
BEGIN:VEVENT
DTSTART;TZID=America/New_York:20271203T083000
DTEND;TZID=America/New_York:20271203T170000
DTSTAMP:20260421T201628
CREATED:20250910T025501Z
LAST-MODIFIED:20250910T025507Z
UID:10001460-1827822600-1827853200@saludagop.org
SUMMARY:Early Voting
DESCRIPTION:
URL:https://saludagop.org/event/early-voting/2027-12-03/
END:VEVENT
BEGIN:VEVENT
DTSTART;TZID=America/New_York:20271204T083000
DTEND;TZID=America/New_York:20271204T170000
DTSTAMP:20260421T201628
CREATED:20250910T025501Z
LAST-MODIFIED:20250910T025507Z
UID:10001461-1827909000-1827939600@saludagop.org
SUMMARY:Early Voting
DESCRIPTION:
URL:https://saludagop.org/event/early-voting/2027-12-04/
END:VEVENT
BEGIN:VEVENT
DTSTART;TZID=America/New_York:20271205T083000
DTEND;TZID=America/New_York:20271205T170000
DTSTAMP:20260421T201628
CREATED:20250910T025501Z
LAST-MODIFIED:20250910T025507Z
UID:10001462-1827995400-1828026000@saludagop.org
SUMMARY:Early Voting
DESCRIPTION:
URL:https://saludagop.org/event/early-voting/2027-12-05/
END:VEVENT
BEGIN:VEVENT
DTSTART;TZID=America/New_York:20271206T083000
DTEND;TZID=America/New_York:20271206T170000
DTSTAMP:20260421T201628
CREATED:20250910T025501Z
LAST-MODIFIED:20250910T025507Z
UID:10001463-1828081800-1828112400@saludagop.org
SUMMARY:Early Voting
DESCRIPTION:
URL:https://saludagop.org/event/early-voting/2027-12-06/
END:VEVENT
BEGIN:VEVENT
DTSTART;TZID=America/New_York:20271207T083000
DTEND;TZID=America/New_York:20271207T170000
DTSTAMP:20260421T201628
CREATED:20250910T025501Z
LAST-MODIFIED:20250910T025507Z
UID:10001464-1828168200-1828198800@saludagop.org
SUMMARY:Early Voting
DESCRIPTION:
URL:https://saludagop.org/event/early-voting/2027-12-07/
END:VEVENT
BEGIN:VEVENT
DTSTART;TZID=America/New_York:20271207T180000
DTEND;TZID=America/New_York:20271207T190000
DTSTAMP:20260421T201628
CREATED:20250509T051219Z
LAST-MODIFIED:20250512T063559Z
UID:10000043-1828202400-1828206000@saludagop.org
SUMMARY:Saluda Town Council Meeting
DESCRIPTION:Monthly Town Council Meeting
URL:https://saludagop.org/event/saluda-town-council-meeting/2027-12-07/
LOCATION:Saluda Town Hall\, 100 South Jefferson St.\, Saluda\, SC\, 29138\, United States
END:VEVENT
BEGIN:VEVENT
DTSTART;TZID=America/New_York:20271208T083000
DTEND;TZID=America/New_York:20271208T170000
DTSTAMP:20260421T201628
CREATED:20250910T025501Z
LAST-MODIFIED:20250910T025507Z
UID:10001465-1828254600-1828285200@saludagop.org
SUMMARY:Early Voting
DESCRIPTION:
URL:https://saludagop.org/event/early-voting/2027-12-08/
END:VEVENT
BEGIN:VEVENT
DTSTART;TZID=America/New_York:20271209T083000
DTEND;TZID=America/New_York:20271209T170000
DTSTAMP:20260421T201628
CREATED:20250910T025501Z
LAST-MODIFIED:20250910T025507Z
UID:10001466-1828341000-1828371600@saludagop.org
SUMMARY:Early Voting
DESCRIPTION:
URL:https://saludagop.org/event/early-voting/2027-12-09/
END:VEVENT
BEGIN:VEVENT
DTSTART;TZID=America/New_York:20271209T183000
DTEND;TZID=America/New_York:20271209T200000
DTSTAMP:20260421T201628
CREATED:20260318T163009Z
LAST-MODIFIED:20260318T175824Z
UID:10002679-1828377000-1828382400@saludagop.org
SUMMARY:Steering Committee
DESCRIPTION:This is the monthly meeting of the Saluda County Steering Committee.  The members are: \n\n\n\nAmy Potts\, ChairGreg SanderJay DunbarKim ParigorisBen WardRuss TerrellDeb Camp \n\n\n\nThis committee discusses ongoing plans and ideas to bring forward at the next business meeting.
URL:https://saludagop.org/event/committees-cocktails-coca-colas-2/2027-12-09/
LOCATION:Saluda Presbyterian Church\, 103 W. Highland St.\, Saluda\, SC\, 29138\, United States
ORGANIZER;CN="The Saluda County Republican Party":MAILTO:saludaGOP@gmail.com
END:VEVENT
BEGIN:VEVENT
DTSTART;TZID=America/New_York:20271210T083000
DTEND;TZID=America/New_York:20271210T170000
DTSTAMP:20260421T201628
CREATED:20250910T025501Z
LAST-MODIFIED:20250910T025507Z
UID:10001467-1828427400-1828458000@saludagop.org
SUMMARY:Early Voting
DESCRIPTION:
URL:https://saludagop.org/event/early-voting/2027-12-10/
END:VEVENT
BEGIN:VEVENT
DTSTART;TZID=America/New_York:20271211T083000
DTEND;TZID=America/New_York:20271211T170000
DTSTAMP:20260421T201628
CREATED:20250910T025501Z
LAST-MODIFIED:20250910T025507Z
UID:10001468-1828513800-1828544400@saludagop.org
SUMMARY:Early Voting
DESCRIPTION:
URL:https://saludagop.org/event/early-voting/2027-12-11/
END:VEVENT
END:VCALENDAR