BEGIN:VCALENDAR
VERSION:2.0
PRODID:-//Saluda GOP - ECPv6.15.20//NONSGML v1.0//EN
CALSCALE:GREGORIAN
METHOD:PUBLISH
X-ORIGINAL-URL:https://saludagop.org
X-WR-CALDESC:Events for Saluda GOP
REFRESH-INTERVAL;VALUE=DURATION:PT1H
X-Robots-Tag:noindex
X-PUBLISHED-TTL:PT1H
BEGIN:VTIMEZONE
TZID:America/New_York
BEGIN:DAYLIGHT
TZOFFSETFROM:-0500
TZOFFSETTO:-0400
TZNAME:EDT
DTSTART:20260308T070000
END:DAYLIGHT
BEGIN:STANDARD
TZOFFSETFROM:-0400
TZOFFSETTO:-0500
TZNAME:EST
DTSTART:20261101T060000
END:STANDARD
BEGIN:DAYLIGHT
TZOFFSETFROM:-0500
TZOFFSETTO:-0400
TZNAME:EDT
DTSTART:20270314T070000
END:DAYLIGHT
BEGIN:STANDARD
TZOFFSETFROM:-0400
TZOFFSETTO:-0500
TZNAME:EST
DTSTART:20271107T060000
END:STANDARD
BEGIN:DAYLIGHT
TZOFFSETFROM:-0500
TZOFFSETTO:-0400
TZNAME:EDT
DTSTART:20280312T070000
END:DAYLIGHT
BEGIN:STANDARD
TZOFFSETFROM:-0400
TZOFFSETTO:-0500
TZNAME:EST
DTSTART:20281105T060000
END:STANDARD
END:VTIMEZONE
BEGIN:VEVENT
DTSTART;TZID=America/New_York:20270909T183000
DTEND;TZID=America/New_York:20270909T200000
DTSTAMP:20260421T085730
CREATED:20260318T163009Z
LAST-MODIFIED:20260318T175824Z
UID:10002676-1820514600-1820520000@saludagop.org
SUMMARY:Steering Committee
DESCRIPTION:This is the monthly meeting of the Saluda County Steering Committee.  The members are: \n\n\n\nAmy Potts\, ChairGreg SanderJay DunbarKim ParigorisBen WardRuss TerrellDeb Camp \n\n\n\nThis committee discusses ongoing plans and ideas to bring forward at the next business meeting.
URL:https://saludagop.org/event/committees-cocktails-coca-colas-2/2027-09-09/
LOCATION:Saluda Presbyterian Church\, 103 W. Highland St.\, Saluda\, SC\, 29138\, United States
ORGANIZER;CN="The Saluda County Republican Party":MAILTO:saludaGOP@gmail.com
END:VEVENT
BEGIN:VEVENT
DTSTART;TZID=America/New_York:20270910T083000
DTEND;TZID=America/New_York:20270910T170000
DTSTAMP:20260421T085730
CREATED:20250910T025501Z
LAST-MODIFIED:20250910T025507Z
UID:10001376-1820565000-1820595600@saludagop.org
SUMMARY:Early Voting
DESCRIPTION:
URL:https://saludagop.org/event/early-voting/2027-09-10/
END:VEVENT
BEGIN:VEVENT
DTSTART;TZID=America/New_York:20270911T083000
DTEND;TZID=America/New_York:20270911T170000
DTSTAMP:20260421T085730
CREATED:20250910T025501Z
LAST-MODIFIED:20250910T025507Z
UID:10001377-1820651400-1820682000@saludagop.org
SUMMARY:Early Voting
DESCRIPTION:
URL:https://saludagop.org/event/early-voting/2027-09-11/
END:VEVENT
BEGIN:VEVENT
DTSTART;TZID=America/New_York:20270912T083000
DTEND;TZID=America/New_York:20270912T170000
DTSTAMP:20260421T085730
CREATED:20250910T025501Z
LAST-MODIFIED:20250910T025507Z
UID:10001378-1820737800-1820768400@saludagop.org
SUMMARY:Early Voting
DESCRIPTION:
URL:https://saludagop.org/event/early-voting/2027-09-12/
END:VEVENT
BEGIN:VEVENT
DTSTART;TZID=America/New_York:20270913T083000
DTEND;TZID=America/New_York:20270913T170000
DTSTAMP:20260421T085730
CREATED:20250910T025501Z
LAST-MODIFIED:20250910T025507Z
UID:10001379-1820824200-1820854800@saludagop.org
SUMMARY:Early Voting
DESCRIPTION:
URL:https://saludagop.org/event/early-voting/2027-09-13/
END:VEVENT
BEGIN:VEVENT
DTSTART;TZID=America/New_York:20270913T180000
DTEND;TZID=America/New_York:20270913T190000
DTSTAMP:20260421T085730
CREATED:20250509T050406Z
LAST-MODIFIED:20250512T063927Z
UID:10000360-1820858400-1820862000@saludagop.org
SUMMARY:County Council Meeting
DESCRIPTION:
URL:https://saludagop.org/event/county-council-meeting/2027-09-13/
LOCATION:Saluda County Administrative Offices\, 400 W. Highland St.\, Saluda\, SC\, 29138\, United States
END:VEVENT
BEGIN:VEVENT
DTSTART;TZID=America/New_York:20270914T083000
DTEND;TZID=America/New_York:20270914T170000
DTSTAMP:20260421T085730
CREATED:20250910T025501Z
LAST-MODIFIED:20250910T025507Z
UID:10001380-1820910600-1820941200@saludagop.org
SUMMARY:Early Voting
DESCRIPTION:
URL:https://saludagop.org/event/early-voting/2027-09-14/
END:VEVENT
BEGIN:VEVENT
DTSTART;TZID=America/New_York:20270915T083000
DTEND;TZID=America/New_York:20270915T170000
DTSTAMP:20260421T085730
CREATED:20250910T025501Z
LAST-MODIFIED:20250910T025507Z
UID:10001381-1820997000-1821027600@saludagop.org
SUMMARY:Early Voting
DESCRIPTION:
URL:https://saludagop.org/event/early-voting/2027-09-15/
END:VEVENT
BEGIN:VEVENT
DTSTART;TZID=America/New_York:20270916T083000
DTEND;TZID=America/New_York:20270916T170000
DTSTAMP:20260421T085730
CREATED:20250910T025501Z
LAST-MODIFIED:20250910T025507Z
UID:10001382-1821083400-1821114000@saludagop.org
SUMMARY:Early Voting
DESCRIPTION:
URL:https://saludagop.org/event/early-voting/2027-09-16/
END:VEVENT
BEGIN:VEVENT
DTSTART;TZID=America/New_York:20270917T083000
DTEND;TZID=America/New_York:20270917T170000
DTSTAMP:20260421T085730
CREATED:20250910T025501Z
LAST-MODIFIED:20250910T025507Z
UID:10001383-1821169800-1821200400@saludagop.org
SUMMARY:Early Voting
DESCRIPTION:
URL:https://saludagop.org/event/early-voting/2027-09-17/
END:VEVENT
BEGIN:VEVENT
DTSTART;TZID=America/New_York:20270918T083000
DTEND;TZID=America/New_York:20270918T170000
DTSTAMP:20260421T085730
CREATED:20250910T025501Z
LAST-MODIFIED:20250910T025507Z
UID:10001384-1821256200-1821286800@saludagop.org
SUMMARY:Early Voting
DESCRIPTION:
URL:https://saludagop.org/event/early-voting/2027-09-18/
END:VEVENT
BEGIN:VEVENT
DTSTART;TZID=America/New_York:20270919T083000
DTEND;TZID=America/New_York:20270919T170000
DTSTAMP:20260421T085730
CREATED:20250910T025501Z
LAST-MODIFIED:20250910T025507Z
UID:10001385-1821342600-1821373200@saludagop.org
SUMMARY:Early Voting
DESCRIPTION:
URL:https://saludagop.org/event/early-voting/2027-09-19/
END:VEVENT
BEGIN:VEVENT
DTSTART;TZID=America/New_York:20270920T083000
DTEND;TZID=America/New_York:20270920T170000
DTSTAMP:20260421T085730
CREATED:20250910T025501Z
LAST-MODIFIED:20250910T025507Z
UID:10001386-1821429000-1821459600@saludagop.org
SUMMARY:Early Voting
DESCRIPTION:
URL:https://saludagop.org/event/early-voting/2027-09-20/
END:VEVENT
BEGIN:VEVENT
DTSTART;TZID=America/New_York:20270921T083000
DTEND;TZID=America/New_York:20270921T170000
DTSTAMP:20260421T085730
CREATED:20250910T025501Z
LAST-MODIFIED:20250910T025507Z
UID:10001387-1821515400-1821546000@saludagop.org
SUMMARY:Early Voting
DESCRIPTION:
URL:https://saludagop.org/event/early-voting/2027-09-21/
END:VEVENT
BEGIN:VEVENT
DTSTART;TZID=America/New_York:20270922T083000
DTEND;TZID=America/New_York:20270922T170000
DTSTAMP:20260421T085730
CREATED:20250910T025501Z
LAST-MODIFIED:20250910T025507Z
UID:10001388-1821601800-1821632400@saludagop.org
SUMMARY:Early Voting
DESCRIPTION:
URL:https://saludagop.org/event/early-voting/2027-09-22/
END:VEVENT
BEGIN:VEVENT
DTSTART;TZID=America/New_York:20270923T083000
DTEND;TZID=America/New_York:20270923T170000
DTSTAMP:20260421T085730
CREATED:20250910T025501Z
LAST-MODIFIED:20250910T025507Z
UID:10001389-1821688200-1821718800@saludagop.org
SUMMARY:Early Voting
DESCRIPTION:
URL:https://saludagop.org/event/early-voting/2027-09-23/
END:VEVENT
BEGIN:VEVENT
DTSTART;TZID=America/New_York:20270924T083000
DTEND;TZID=America/New_York:20270924T170000
DTSTAMP:20260421T085730
CREATED:20250910T025501Z
LAST-MODIFIED:20250910T025507Z
UID:10001390-1821774600-1821805200@saludagop.org
SUMMARY:Early Voting
DESCRIPTION:
URL:https://saludagop.org/event/early-voting/2027-09-24/
END:VEVENT
BEGIN:VEVENT
DTSTART;TZID=America/New_York:20270925T083000
DTEND;TZID=America/New_York:20270925T170000
DTSTAMP:20260421T085730
CREATED:20250910T025501Z
LAST-MODIFIED:20250910T025507Z
UID:10001391-1821861000-1821891600@saludagop.org
SUMMARY:Early Voting
DESCRIPTION:
URL:https://saludagop.org/event/early-voting/2027-09-25/
END:VEVENT
BEGIN:VEVENT
DTSTART;TZID=America/New_York:20270926T083000
DTEND;TZID=America/New_York:20270926T170000
DTSTAMP:20260421T085730
CREATED:20250910T025501Z
LAST-MODIFIED:20250910T025507Z
UID:10001392-1821947400-1821978000@saludagop.org
SUMMARY:Early Voting
DESCRIPTION:
URL:https://saludagop.org/event/early-voting/2027-09-26/
END:VEVENT
BEGIN:VEVENT
DTSTART;TZID=America/New_York:20270927T083000
DTEND;TZID=America/New_York:20270927T170000
DTSTAMP:20260421T085730
CREATED:20250910T025501Z
LAST-MODIFIED:20250910T025507Z
UID:10001393-1822033800-1822064400@saludagop.org
SUMMARY:Early Voting
DESCRIPTION:
URL:https://saludagop.org/event/early-voting/2027-09-27/
END:VEVENT
BEGIN:VEVENT
DTSTART;TZID=America/New_York:20270927T180000
DTEND;TZID=America/New_York:20270927T200000
DTSTAMP:20260421T085730
CREATED:20251215T025208Z
LAST-MODIFIED:20251215T025554Z
UID:10002617-1822068000-1822075200@saludagop.org
SUMMARY:Saluda GOP Monthly Meeting
DESCRIPTION:Our Monthly Members meetings usually start with a meal at 6pm.  No charge\, but donations are appreciated!  We usually feature a guest speaker and a short business meeting afterwards when needed. \n\n\n\nThe public is welcome to attend.
URL:https://saludagop.org/event/saluda-gop-monthly-meeting-4/2027-09-27/
LOCATION:Saluda Presbyterian Church\, 103 W. Highland St.\, Saluda\, SC\, 29138\, United States
ORGANIZER;CN="The Saluda County Republican Party":MAILTO:saludaGOP@gmail.com
END:VEVENT
BEGIN:VEVENT
DTSTART;TZID=America/New_York:20270928T083000
DTEND;TZID=America/New_York:20270928T170000
DTSTAMP:20260421T085730
CREATED:20250910T025501Z
LAST-MODIFIED:20250910T025507Z
UID:10001394-1822120200-1822150800@saludagop.org
SUMMARY:Early Voting
DESCRIPTION:
URL:https://saludagop.org/event/early-voting/2027-09-28/
END:VEVENT
BEGIN:VEVENT
DTSTART;TZID=America/New_York:20270929T083000
DTEND;TZID=America/New_York:20270929T170000
DTSTAMP:20260421T085730
CREATED:20250910T025501Z
LAST-MODIFIED:20250910T025507Z
UID:10001395-1822206600-1822237200@saludagop.org
SUMMARY:Early Voting
DESCRIPTION:
URL:https://saludagop.org/event/early-voting/2027-09-29/
END:VEVENT
BEGIN:VEVENT
DTSTART;TZID=America/New_York:20270930T083000
DTEND;TZID=America/New_York:20270930T170000
DTSTAMP:20260421T085730
CREATED:20250910T025501Z
LAST-MODIFIED:20250910T025507Z
UID:10001396-1822293000-1822323600@saludagop.org
SUMMARY:Early Voting
DESCRIPTION:
URL:https://saludagop.org/event/early-voting/2027-09-30/
END:VEVENT
BEGIN:VEVENT
DTSTART;TZID=America/New_York:20271001T083000
DTEND;TZID=America/New_York:20271001T170000
DTSTAMP:20260421T085730
CREATED:20250910T025501Z
LAST-MODIFIED:20250910T025507Z
UID:10001397-1822379400-1822410000@saludagop.org
SUMMARY:Early Voting
DESCRIPTION:
URL:https://saludagop.org/event/early-voting/2027-10-01/
END:VEVENT
BEGIN:VEVENT
DTSTART;TZID=America/New_York:20271002T083000
DTEND;TZID=America/New_York:20271002T170000
DTSTAMP:20260421T085730
CREATED:20250910T025501Z
LAST-MODIFIED:20250910T025507Z
UID:10001398-1822465800-1822496400@saludagop.org
SUMMARY:Early Voting
DESCRIPTION:
URL:https://saludagop.org/event/early-voting/2027-10-02/
END:VEVENT
BEGIN:VEVENT
DTSTART;TZID=America/New_York:20271003T083000
DTEND;TZID=America/New_York:20271003T170000
DTSTAMP:20260421T085730
CREATED:20250910T025501Z
LAST-MODIFIED:20250910T025507Z
UID:10001399-1822552200-1822582800@saludagop.org
SUMMARY:Early Voting
DESCRIPTION:
URL:https://saludagop.org/event/early-voting/2027-10-03/
END:VEVENT
BEGIN:VEVENT
DTSTART;TZID=America/New_York:20271004T083000
DTEND;TZID=America/New_York:20271004T170000
DTSTAMP:20260421T085730
CREATED:20250910T025501Z
LAST-MODIFIED:20250910T025507Z
UID:10001400-1822638600-1822669200@saludagop.org
SUMMARY:Early Voting
DESCRIPTION:
URL:https://saludagop.org/event/early-voting/2027-10-04/
END:VEVENT
BEGIN:VEVENT
DTSTART;TZID=America/New_York:20271005T083000
DTEND;TZID=America/New_York:20271005T170000
DTSTAMP:20260421T085730
CREATED:20250910T025501Z
LAST-MODIFIED:20250910T025507Z
UID:10001401-1822725000-1822755600@saludagop.org
SUMMARY:Early Voting
DESCRIPTION:
URL:https://saludagop.org/event/early-voting/2027-10-05/
END:VEVENT
BEGIN:VEVENT
DTSTART;TZID=America/New_York:20271005T180000
DTEND;TZID=America/New_York:20271005T190000
DTSTAMP:20260421T085730
CREATED:20250509T051219Z
LAST-MODIFIED:20250512T063559Z
UID:10000041-1822759200-1822762800@saludagop.org
SUMMARY:Saluda Town Council Meeting
DESCRIPTION:Monthly Town Council Meeting
URL:https://saludagop.org/event/saluda-town-council-meeting/2027-10-05/
LOCATION:Saluda Town Hall\, 100 South Jefferson St.\, Saluda\, SC\, 29138\, United States
END:VEVENT
END:VCALENDAR