BEGIN:VCALENDAR
VERSION:2.0
PRODID:-//Saluda GOP - ECPv6.15.20//NONSGML v1.0//EN
CALSCALE:GREGORIAN
METHOD:PUBLISH
X-WR-CALNAME:Saluda GOP
X-ORIGINAL-URL:https://saludagop.org
X-WR-CALDESC:Events for Saluda GOP
REFRESH-INTERVAL;VALUE=DURATION:PT1H
X-Robots-Tag:noindex
X-PUBLISHED-TTL:PT1H
BEGIN:VTIMEZONE
TZID:America/New_York
BEGIN:DAYLIGHT
TZOFFSETFROM:-0500
TZOFFSETTO:-0400
TZNAME:EDT
DTSTART:20260308T070000
END:DAYLIGHT
BEGIN:STANDARD
TZOFFSETFROM:-0400
TZOFFSETTO:-0500
TZNAME:EST
DTSTART:20261101T060000
END:STANDARD
BEGIN:DAYLIGHT
TZOFFSETFROM:-0500
TZOFFSETTO:-0400
TZNAME:EDT
DTSTART:20270314T070000
END:DAYLIGHT
BEGIN:STANDARD
TZOFFSETFROM:-0400
TZOFFSETTO:-0500
TZNAME:EST
DTSTART:20271107T060000
END:STANDARD
BEGIN:DAYLIGHT
TZOFFSETFROM:-0500
TZOFFSETTO:-0400
TZNAME:EDT
DTSTART:20280312T070000
END:DAYLIGHT
BEGIN:STANDARD
TZOFFSETFROM:-0400
TZOFFSETTO:-0500
TZNAME:EST
DTSTART:20281105T060000
END:STANDARD
END:VTIMEZONE
BEGIN:VEVENT
DTSTART;TZID=America/New_York:20270729T083000
DTEND;TZID=America/New_York:20270729T170000
DTSTAMP:20260421T014351
CREATED:20250910T025501Z
LAST-MODIFIED:20250910T025507Z
UID:10001333-1816849800-1816880400@saludagop.org
SUMMARY:Early Voting
DESCRIPTION:
URL:https://saludagop.org/event/early-voting/2027-07-29/
END:VEVENT
BEGIN:VEVENT
DTSTART;TZID=America/New_York:20270730T083000
DTEND;TZID=America/New_York:20270730T170000
DTSTAMP:20260421T014351
CREATED:20250910T025501Z
LAST-MODIFIED:20250910T025507Z
UID:10001334-1816936200-1816966800@saludagop.org
SUMMARY:Early Voting
DESCRIPTION:
URL:https://saludagop.org/event/early-voting/2027-07-30/
END:VEVENT
BEGIN:VEVENT
DTSTART;TZID=America/New_York:20270731T083000
DTEND;TZID=America/New_York:20270731T170000
DTSTAMP:20260421T014351
CREATED:20250910T025501Z
LAST-MODIFIED:20250910T025507Z
UID:10001335-1817022600-1817053200@saludagop.org
SUMMARY:Early Voting
DESCRIPTION:
URL:https://saludagop.org/event/early-voting/2027-07-31/
END:VEVENT
BEGIN:VEVENT
DTSTART;TZID=America/New_York:20270801T083000
DTEND;TZID=America/New_York:20270801T170000
DTSTAMP:20260421T014351
CREATED:20250910T025501Z
LAST-MODIFIED:20250910T025507Z
UID:10001336-1817109000-1817139600@saludagop.org
SUMMARY:Early Voting
DESCRIPTION:
URL:https://saludagop.org/event/early-voting/2027-08-01/
END:VEVENT
BEGIN:VEVENT
DTSTART;TZID=America/New_York:20270802T083000
DTEND;TZID=America/New_York:20270802T170000
DTSTAMP:20260421T014351
CREATED:20250910T025501Z
LAST-MODIFIED:20250910T025507Z
UID:10001337-1817195400-1817226000@saludagop.org
SUMMARY:Early Voting
DESCRIPTION:
URL:https://saludagop.org/event/early-voting/2027-08-02/
END:VEVENT
BEGIN:VEVENT
DTSTART;TZID=America/New_York:20270803T083000
DTEND;TZID=America/New_York:20270803T170000
DTSTAMP:20260421T014351
CREATED:20250910T025501Z
LAST-MODIFIED:20250910T025507Z
UID:10001338-1817281800-1817312400@saludagop.org
SUMMARY:Early Voting
DESCRIPTION:
URL:https://saludagop.org/event/early-voting/2027-08-03/
END:VEVENT
BEGIN:VEVENT
DTSTART;TZID=America/New_York:20270803T180000
DTEND;TZID=America/New_York:20270803T190000
DTSTAMP:20260421T014351
CREATED:20250509T051219Z
LAST-MODIFIED:20250512T063559Z
UID:10000039-1817316000-1817319600@saludagop.org
SUMMARY:Saluda Town Council Meeting
DESCRIPTION:Monthly Town Council Meeting
URL:https://saludagop.org/event/saluda-town-council-meeting/2027-08-03/
LOCATION:Saluda Town Hall\, 100 South Jefferson St.\, Saluda\, SC\, 29138\, United States
END:VEVENT
BEGIN:VEVENT
DTSTART;TZID=America/New_York:20270804T083000
DTEND;TZID=America/New_York:20270804T170000
DTSTAMP:20260421T014351
CREATED:20250910T025501Z
LAST-MODIFIED:20250910T025507Z
UID:10001339-1817368200-1817398800@saludagop.org
SUMMARY:Early Voting
DESCRIPTION:
URL:https://saludagop.org/event/early-voting/2027-08-04/
END:VEVENT
BEGIN:VEVENT
DTSTART;TZID=America/New_York:20270805T083000
DTEND;TZID=America/New_York:20270805T170000
DTSTAMP:20260421T014351
CREATED:20250910T025501Z
LAST-MODIFIED:20250910T025507Z
UID:10001340-1817454600-1817485200@saludagop.org
SUMMARY:Early Voting
DESCRIPTION:
URL:https://saludagop.org/event/early-voting/2027-08-05/
END:VEVENT
BEGIN:VEVENT
DTSTART;TZID=America/New_York:20270806T083000
DTEND;TZID=America/New_York:20270806T170000
DTSTAMP:20260421T014351
CREATED:20250910T025501Z
LAST-MODIFIED:20250910T025507Z
UID:10001341-1817541000-1817571600@saludagop.org
SUMMARY:Early Voting
DESCRIPTION:
URL:https://saludagop.org/event/early-voting/2027-08-06/
END:VEVENT
BEGIN:VEVENT
DTSTART;TZID=America/New_York:20270807T083000
DTEND;TZID=America/New_York:20270807T170000
DTSTAMP:20260421T014351
CREATED:20250910T025501Z
LAST-MODIFIED:20250910T025507Z
UID:10001342-1817627400-1817658000@saludagop.org
SUMMARY:Early Voting
DESCRIPTION:
URL:https://saludagop.org/event/early-voting/2027-08-07/
END:VEVENT
BEGIN:VEVENT
DTSTART;TZID=America/New_York:20270808T083000
DTEND;TZID=America/New_York:20270808T170000
DTSTAMP:20260421T014351
CREATED:20250910T025501Z
LAST-MODIFIED:20250910T025507Z
UID:10001343-1817713800-1817744400@saludagop.org
SUMMARY:Early Voting
DESCRIPTION:
URL:https://saludagop.org/event/early-voting/2027-08-08/
END:VEVENT
BEGIN:VEVENT
DTSTART;TZID=America/New_York:20270809T083000
DTEND;TZID=America/New_York:20270809T170000
DTSTAMP:20260421T014351
CREATED:20250910T025501Z
LAST-MODIFIED:20250910T025507Z
UID:10001344-1817800200-1817830800@saludagop.org
SUMMARY:Early Voting
DESCRIPTION:
URL:https://saludagop.org/event/early-voting/2027-08-09/
END:VEVENT
BEGIN:VEVENT
DTSTART;TZID=America/New_York:20270809T180000
DTEND;TZID=America/New_York:20270809T190000
DTSTAMP:20260421T014351
CREATED:20250509T050406Z
LAST-MODIFIED:20250512T063927Z
UID:10000359-1817834400-1817838000@saludagop.org
SUMMARY:County Council Meeting
DESCRIPTION:
URL:https://saludagop.org/event/county-council-meeting/2027-08-09/
LOCATION:Saluda County Administrative Offices\, 400 W. Highland St.\, Saluda\, SC\, 29138\, United States
END:VEVENT
BEGIN:VEVENT
DTSTART;TZID=America/New_York:20270810T083000
DTEND;TZID=America/New_York:20270810T170000
DTSTAMP:20260421T014351
CREATED:20250910T025501Z
LAST-MODIFIED:20250910T025507Z
UID:10001345-1817886600-1817917200@saludagop.org
SUMMARY:Early Voting
DESCRIPTION:
URL:https://saludagop.org/event/early-voting/2027-08-10/
END:VEVENT
BEGIN:VEVENT
DTSTART;TZID=America/New_York:20270811T083000
DTEND;TZID=America/New_York:20270811T170000
DTSTAMP:20260421T014351
CREATED:20250910T025501Z
LAST-MODIFIED:20250910T025507Z
UID:10001346-1817973000-1818003600@saludagop.org
SUMMARY:Early Voting
DESCRIPTION:
URL:https://saludagop.org/event/early-voting/2027-08-11/
END:VEVENT
BEGIN:VEVENT
DTSTART;TZID=America/New_York:20270812T083000
DTEND;TZID=America/New_York:20270812T170000
DTSTAMP:20260421T014351
CREATED:20250910T025501Z
LAST-MODIFIED:20250910T025507Z
UID:10001347-1818059400-1818090000@saludagop.org
SUMMARY:Early Voting
DESCRIPTION:
URL:https://saludagop.org/event/early-voting/2027-08-12/
END:VEVENT
BEGIN:VEVENT
DTSTART;TZID=America/New_York:20270812T183000
DTEND;TZID=America/New_York:20270812T200000
DTSTAMP:20260421T014351
CREATED:20260318T163009Z
LAST-MODIFIED:20260318T175824Z
UID:10002675-1818095400-1818100800@saludagop.org
SUMMARY:Steering Committee
DESCRIPTION:This is the monthly meeting of the Saluda County Steering Committee.  The members are: \n\n\n\nAmy Potts\, ChairGreg SanderJay DunbarKim ParigorisBen WardRuss TerrellDeb Camp \n\n\n\nThis committee discusses ongoing plans and ideas to bring forward at the next business meeting.
URL:https://saludagop.org/event/committees-cocktails-coca-colas-2/2027-08-12/
LOCATION:Saluda Presbyterian Church\, 103 W. Highland St.\, Saluda\, SC\, 29138\, United States
ORGANIZER;CN="The Saluda County Republican Party":MAILTO:saludaGOP@gmail.com
END:VEVENT
BEGIN:VEVENT
DTSTART;TZID=America/New_York:20270813T083000
DTEND;TZID=America/New_York:20270813T170000
DTSTAMP:20260421T014351
CREATED:20250910T025501Z
LAST-MODIFIED:20250910T025507Z
UID:10001348-1818145800-1818176400@saludagop.org
SUMMARY:Early Voting
DESCRIPTION:
URL:https://saludagop.org/event/early-voting/2027-08-13/
END:VEVENT
BEGIN:VEVENT
DTSTART;TZID=America/New_York:20270814T083000
DTEND;TZID=America/New_York:20270814T170000
DTSTAMP:20260421T014351
CREATED:20250910T025501Z
LAST-MODIFIED:20250910T025507Z
UID:10001349-1818232200-1818262800@saludagop.org
SUMMARY:Early Voting
DESCRIPTION:
URL:https://saludagop.org/event/early-voting/2027-08-14/
END:VEVENT
BEGIN:VEVENT
DTSTART;TZID=America/New_York:20270815T083000
DTEND;TZID=America/New_York:20270815T170000
DTSTAMP:20260421T014351
CREATED:20250910T025501Z
LAST-MODIFIED:20250910T025507Z
UID:10001350-1818318600-1818349200@saludagop.org
SUMMARY:Early Voting
DESCRIPTION:
URL:https://saludagop.org/event/early-voting/2027-08-15/
END:VEVENT
BEGIN:VEVENT
DTSTART;TZID=America/New_York:20270816T083000
DTEND;TZID=America/New_York:20270816T170000
DTSTAMP:20260421T014351
CREATED:20250910T025501Z
LAST-MODIFIED:20250910T025507Z
UID:10001351-1818405000-1818435600@saludagop.org
SUMMARY:Early Voting
DESCRIPTION:
URL:https://saludagop.org/event/early-voting/2027-08-16/
END:VEVENT
BEGIN:VEVENT
DTSTART;TZID=America/New_York:20270817T083000
DTEND;TZID=America/New_York:20270817T170000
DTSTAMP:20260421T014351
CREATED:20250910T025501Z
LAST-MODIFIED:20250910T025507Z
UID:10001352-1818491400-1818522000@saludagop.org
SUMMARY:Early Voting
DESCRIPTION:
URL:https://saludagop.org/event/early-voting/2027-08-17/
END:VEVENT
BEGIN:VEVENT
DTSTART;TZID=America/New_York:20270818T083000
DTEND;TZID=America/New_York:20270818T170000
DTSTAMP:20260421T014351
CREATED:20250910T025501Z
LAST-MODIFIED:20250910T025507Z
UID:10001353-1818577800-1818608400@saludagop.org
SUMMARY:Early Voting
DESCRIPTION:
URL:https://saludagop.org/event/early-voting/2027-08-18/
END:VEVENT
BEGIN:VEVENT
DTSTART;TZID=America/New_York:20270819T083000
DTEND;TZID=America/New_York:20270819T170000
DTSTAMP:20260421T014351
CREATED:20250910T025501Z
LAST-MODIFIED:20250910T025507Z
UID:10001354-1818664200-1818694800@saludagop.org
SUMMARY:Early Voting
DESCRIPTION:
URL:https://saludagop.org/event/early-voting/2027-08-19/
END:VEVENT
BEGIN:VEVENT
DTSTART;TZID=America/New_York:20270820T083000
DTEND;TZID=America/New_York:20270820T170000
DTSTAMP:20260421T014351
CREATED:20250910T025501Z
LAST-MODIFIED:20250910T025507Z
UID:10001355-1818750600-1818781200@saludagop.org
SUMMARY:Early Voting
DESCRIPTION:
URL:https://saludagop.org/event/early-voting/2027-08-20/
END:VEVENT
BEGIN:VEVENT
DTSTART;TZID=America/New_York:20270821T083000
DTEND;TZID=America/New_York:20270821T170000
DTSTAMP:20260421T014351
CREATED:20250910T025501Z
LAST-MODIFIED:20250910T025507Z
UID:10001356-1818837000-1818867600@saludagop.org
SUMMARY:Early Voting
DESCRIPTION:
URL:https://saludagop.org/event/early-voting/2027-08-21/
END:VEVENT
BEGIN:VEVENT
DTSTART;TZID=America/New_York:20270822T083000
DTEND;TZID=America/New_York:20270822T170000
DTSTAMP:20260421T014351
CREATED:20250910T025501Z
LAST-MODIFIED:20250910T025507Z
UID:10001357-1818923400-1818954000@saludagop.org
SUMMARY:Early Voting
DESCRIPTION:
URL:https://saludagop.org/event/early-voting/2027-08-22/
END:VEVENT
BEGIN:VEVENT
DTSTART;TZID=America/New_York:20270823T083000
DTEND;TZID=America/New_York:20270823T170000
DTSTAMP:20260421T014351
CREATED:20250910T025501Z
LAST-MODIFIED:20250910T025507Z
UID:10001358-1819009800-1819040400@saludagop.org
SUMMARY:Early Voting
DESCRIPTION:
URL:https://saludagop.org/event/early-voting/2027-08-23/
END:VEVENT
BEGIN:VEVENT
DTSTART;TZID=America/New_York:20270823T180000
DTEND;TZID=America/New_York:20270823T200000
DTSTAMP:20260421T014351
CREATED:20251215T025208Z
LAST-MODIFIED:20251215T025554Z
UID:10002616-1819044000-1819051200@saludagop.org
SUMMARY:Saluda GOP Monthly Meeting
DESCRIPTION:Our Monthly Members meetings usually start with a meal at 6pm.  No charge\, but donations are appreciated!  We usually feature a guest speaker and a short business meeting afterwards when needed. \n\n\n\nThe public is welcome to attend.
URL:https://saludagop.org/event/saluda-gop-monthly-meeting-4/2027-08-23/
LOCATION:Saluda Presbyterian Church\, 103 W. Highland St.\, Saluda\, SC\, 29138\, United States
ORGANIZER;CN="The Saluda County Republican Party":MAILTO:saludaGOP@gmail.com
END:VEVENT
END:VCALENDAR