BEGIN:VCALENDAR
VERSION:2.0
PRODID:-//Saluda GOP - ECPv6.15.20//NONSGML v1.0//EN
CALSCALE:GREGORIAN
METHOD:PUBLISH
X-ORIGINAL-URL:https://saludagop.org
X-WR-CALDESC:Events for Saluda GOP
REFRESH-INTERVAL;VALUE=DURATION:PT1H
X-Robots-Tag:noindex
X-PUBLISHED-TTL:PT1H
BEGIN:VTIMEZONE
TZID:America/New_York
BEGIN:DAYLIGHT
TZOFFSETFROM:-0500
TZOFFSETTO:-0400
TZNAME:EDT
DTSTART:20260308T070000
END:DAYLIGHT
BEGIN:STANDARD
TZOFFSETFROM:-0400
TZOFFSETTO:-0500
TZNAME:EST
DTSTART:20261101T060000
END:STANDARD
BEGIN:DAYLIGHT
TZOFFSETFROM:-0500
TZOFFSETTO:-0400
TZNAME:EDT
DTSTART:20270314T070000
END:DAYLIGHT
BEGIN:STANDARD
TZOFFSETFROM:-0400
TZOFFSETTO:-0500
TZNAME:EST
DTSTART:20271107T060000
END:STANDARD
BEGIN:DAYLIGHT
TZOFFSETFROM:-0500
TZOFFSETTO:-0400
TZNAME:EDT
DTSTART:20280312T070000
END:DAYLIGHT
BEGIN:STANDARD
TZOFFSETFROM:-0400
TZOFFSETTO:-0500
TZNAME:EST
DTSTART:20281105T060000
END:STANDARD
END:VTIMEZONE
BEGIN:VEVENT
DTSTART;TZID=America/New_York:20270526T083000
DTEND;TZID=America/New_York:20270526T170000
DTSTAMP:20260420T152017
CREATED:20250910T025501Z
LAST-MODIFIED:20250910T025507Z
UID:10001269-1811320200-1811350800@saludagop.org
SUMMARY:Early Voting
DESCRIPTION:
URL:https://saludagop.org/event/early-voting/2027-05-26/
END:VEVENT
BEGIN:VEVENT
DTSTART;TZID=America/New_York:20270527T083000
DTEND;TZID=America/New_York:20270527T170000
DTSTAMP:20260420T152017
CREATED:20250910T025501Z
LAST-MODIFIED:20250910T025507Z
UID:10001270-1811406600-1811437200@saludagop.org
SUMMARY:Early Voting
DESCRIPTION:
URL:https://saludagop.org/event/early-voting/2027-05-27/
END:VEVENT
BEGIN:VEVENT
DTSTART;TZID=America/New_York:20270528T083000
DTEND;TZID=America/New_York:20270528T170000
DTSTAMP:20260420T152017
CREATED:20250910T025501Z
LAST-MODIFIED:20250910T025507Z
UID:10001271-1811493000-1811523600@saludagop.org
SUMMARY:Early Voting
DESCRIPTION:
URL:https://saludagop.org/event/early-voting/2027-05-28/
END:VEVENT
BEGIN:VEVENT
DTSTART;TZID=America/New_York:20270529T083000
DTEND;TZID=America/New_York:20270529T170000
DTSTAMP:20260420T152017
CREATED:20250910T025501Z
LAST-MODIFIED:20250910T025507Z
UID:10001272-1811579400-1811610000@saludagop.org
SUMMARY:Early Voting
DESCRIPTION:
URL:https://saludagop.org/event/early-voting/2027-05-29/
END:VEVENT
BEGIN:VEVENT
DTSTART;TZID=America/New_York:20270530T083000
DTEND;TZID=America/New_York:20270530T170000
DTSTAMP:20260420T152017
CREATED:20250910T025501Z
LAST-MODIFIED:20250910T025507Z
UID:10001273-1811665800-1811696400@saludagop.org
SUMMARY:Early Voting
DESCRIPTION:
URL:https://saludagop.org/event/early-voting/2027-05-30/
END:VEVENT
BEGIN:VEVENT
DTSTART;TZID=America/New_York:20270531T083000
DTEND;TZID=America/New_York:20270531T170000
DTSTAMP:20260420T152017
CREATED:20250910T025501Z
LAST-MODIFIED:20250910T025507Z
UID:10001274-1811752200-1811782800@saludagop.org
SUMMARY:Early Voting
DESCRIPTION:
URL:https://saludagop.org/event/early-voting/2027-05-31/
END:VEVENT
BEGIN:VEVENT
DTSTART;TZID=America/New_York:20270601T083000
DTEND;TZID=America/New_York:20270601T170000
DTSTAMP:20260420T152017
CREATED:20250910T025501Z
LAST-MODIFIED:20250910T025507Z
UID:10001275-1811838600-1811869200@saludagop.org
SUMMARY:Early Voting
DESCRIPTION:
URL:https://saludagop.org/event/early-voting/2027-06-01/
END:VEVENT
BEGIN:VEVENT
DTSTART;TZID=America/New_York:20270601T180000
DTEND;TZID=America/New_York:20270601T190000
DTSTAMP:20260420T152017
CREATED:20250509T051219Z
LAST-MODIFIED:20250512T063559Z
UID:10000037-1811872800-1811876400@saludagop.org
SUMMARY:Saluda Town Council Meeting
DESCRIPTION:Monthly Town Council Meeting
URL:https://saludagop.org/event/saluda-town-council-meeting/2027-06-01/
LOCATION:Saluda Town Hall\, 100 South Jefferson St.\, Saluda\, SC\, 29138\, United States
END:VEVENT
BEGIN:VEVENT
DTSTART;TZID=America/New_York:20270602T083000
DTEND;TZID=America/New_York:20270602T170000
DTSTAMP:20260420T152017
CREATED:20250910T025501Z
LAST-MODIFIED:20250910T025507Z
UID:10001276-1811925000-1811955600@saludagop.org
SUMMARY:Early Voting
DESCRIPTION:
URL:https://saludagop.org/event/early-voting/2027-06-02/
END:VEVENT
BEGIN:VEVENT
DTSTART;TZID=America/New_York:20270603T083000
DTEND;TZID=America/New_York:20270603T170000
DTSTAMP:20260420T152017
CREATED:20250910T025501Z
LAST-MODIFIED:20250910T025507Z
UID:10001277-1812011400-1812042000@saludagop.org
SUMMARY:Early Voting
DESCRIPTION:
URL:https://saludagop.org/event/early-voting/2027-06-03/
END:VEVENT
BEGIN:VEVENT
DTSTART;TZID=America/New_York:20270604T083000
DTEND;TZID=America/New_York:20270604T170000
DTSTAMP:20260420T152017
CREATED:20250910T025501Z
LAST-MODIFIED:20250910T025507Z
UID:10001278-1812097800-1812128400@saludagop.org
SUMMARY:Early Voting
DESCRIPTION:
URL:https://saludagop.org/event/early-voting/2027-06-04/
END:VEVENT
BEGIN:VEVENT
DTSTART;TZID=America/New_York:20270605T083000
DTEND;TZID=America/New_York:20270605T170000
DTSTAMP:20260420T152017
CREATED:20250910T025501Z
LAST-MODIFIED:20250910T025507Z
UID:10001279-1812184200-1812214800@saludagop.org
SUMMARY:Early Voting
DESCRIPTION:
URL:https://saludagop.org/event/early-voting/2027-06-05/
END:VEVENT
BEGIN:VEVENT
DTSTART;TZID=America/New_York:20270606T083000
DTEND;TZID=America/New_York:20270606T170000
DTSTAMP:20260420T152017
CREATED:20250910T025501Z
LAST-MODIFIED:20250910T025507Z
UID:10001280-1812270600-1812301200@saludagop.org
SUMMARY:Early Voting
DESCRIPTION:
URL:https://saludagop.org/event/early-voting/2027-06-06/
END:VEVENT
BEGIN:VEVENT
DTSTART;TZID=America/New_York:20270607T083000
DTEND;TZID=America/New_York:20270607T170000
DTSTAMP:20260420T152017
CREATED:20250910T025501Z
LAST-MODIFIED:20250910T025507Z
UID:10001281-1812357000-1812387600@saludagop.org
SUMMARY:Early Voting
DESCRIPTION:
URL:https://saludagop.org/event/early-voting/2027-06-07/
END:VEVENT
BEGIN:VEVENT
DTSTART;TZID=America/New_York:20270608T083000
DTEND;TZID=America/New_York:20270608T170000
DTSTAMP:20260420T152017
CREATED:20250910T025501Z
LAST-MODIFIED:20250910T025507Z
UID:10001282-1812443400-1812474000@saludagop.org
SUMMARY:Early Voting
DESCRIPTION:
URL:https://saludagop.org/event/early-voting/2027-06-08/
END:VEVENT
BEGIN:VEVENT
DTSTART;TZID=America/New_York:20270609T083000
DTEND;TZID=America/New_York:20270609T170000
DTSTAMP:20260420T152017
CREATED:20250910T025501Z
LAST-MODIFIED:20250910T025507Z
UID:10001283-1812529800-1812560400@saludagop.org
SUMMARY:Early Voting
DESCRIPTION:
URL:https://saludagop.org/event/early-voting/2027-06-09/
END:VEVENT
BEGIN:VEVENT
DTSTART;TZID=America/New_York:20270610T083000
DTEND;TZID=America/New_York:20270610T170000
DTSTAMP:20260420T152017
CREATED:20250910T025501Z
LAST-MODIFIED:20250910T025507Z
UID:10001284-1812616200-1812646800@saludagop.org
SUMMARY:Early Voting
DESCRIPTION:
URL:https://saludagop.org/event/early-voting/2027-06-10/
END:VEVENT
BEGIN:VEVENT
DTSTART;TZID=America/New_York:20270610T183000
DTEND;TZID=America/New_York:20270610T200000
DTSTAMP:20260420T152017
CREATED:20260318T163009Z
LAST-MODIFIED:20260318T175824Z
UID:10002673-1812652200-1812657600@saludagop.org
SUMMARY:Steering Committee
DESCRIPTION:This is the monthly meeting of the Saluda County Steering Committee.  The members are: \n\n\n\nAmy Potts\, ChairGreg SanderJay DunbarKim ParigorisBen WardRuss TerrellDeb Camp \n\n\n\nThis committee discusses ongoing plans and ideas to bring forward at the next business meeting.
URL:https://saludagop.org/event/committees-cocktails-coca-colas-2/2027-06-10/
LOCATION:Saluda Presbyterian Church\, 103 W. Highland St.\, Saluda\, SC\, 29138\, United States
ORGANIZER;CN="The Saluda County Republican Party":MAILTO:saludaGOP@gmail.com
END:VEVENT
BEGIN:VEVENT
DTSTART;TZID=America/New_York:20270611T083000
DTEND;TZID=America/New_York:20270611T170000
DTSTAMP:20260420T152017
CREATED:20250910T025501Z
LAST-MODIFIED:20250910T025507Z
UID:10001285-1812702600-1812733200@saludagop.org
SUMMARY:Early Voting
DESCRIPTION:
URL:https://saludagop.org/event/early-voting/2027-06-11/
END:VEVENT
BEGIN:VEVENT
DTSTART;TZID=America/New_York:20270612T083000
DTEND;TZID=America/New_York:20270612T170000
DTSTAMP:20260420T152017
CREATED:20250910T025501Z
LAST-MODIFIED:20250910T025507Z
UID:10001286-1812789000-1812819600@saludagop.org
SUMMARY:Early Voting
DESCRIPTION:
URL:https://saludagop.org/event/early-voting/2027-06-12/
END:VEVENT
BEGIN:VEVENT
DTSTART;TZID=America/New_York:20270613T083000
DTEND;TZID=America/New_York:20270613T170000
DTSTAMP:20260420T152017
CREATED:20250910T025501Z
LAST-MODIFIED:20250910T025507Z
UID:10001287-1812875400-1812906000@saludagop.org
SUMMARY:Early Voting
DESCRIPTION:
URL:https://saludagop.org/event/early-voting/2027-06-13/
END:VEVENT
BEGIN:VEVENT
DTSTART;TZID=America/New_York:20270614T083000
DTEND;TZID=America/New_York:20270614T170000
DTSTAMP:20260420T152017
CREATED:20250910T025501Z
LAST-MODIFIED:20250910T025507Z
UID:10001288-1812961800-1812992400@saludagop.org
SUMMARY:Early Voting
DESCRIPTION:
URL:https://saludagop.org/event/early-voting/2027-06-14/
END:VEVENT
BEGIN:VEVENT
DTSTART;TZID=America/New_York:20270614T180000
DTEND;TZID=America/New_York:20270614T190000
DTSTAMP:20260420T152017
CREATED:20250509T050406Z
LAST-MODIFIED:20250512T063927Z
UID:10000357-1812996000-1812999600@saludagop.org
SUMMARY:County Council Meeting
DESCRIPTION:
URL:https://saludagop.org/event/county-council-meeting/2027-06-14/
LOCATION:Saluda County Administrative Offices\, 400 W. Highland St.\, Saluda\, SC\, 29138\, United States
END:VEVENT
BEGIN:VEVENT
DTSTART;TZID=America/New_York:20270615T083000
DTEND;TZID=America/New_York:20270615T170000
DTSTAMP:20260420T152017
CREATED:20250910T025501Z
LAST-MODIFIED:20250910T025507Z
UID:10001289-1813048200-1813078800@saludagop.org
SUMMARY:Early Voting
DESCRIPTION:
URL:https://saludagop.org/event/early-voting/2027-06-15/
END:VEVENT
BEGIN:VEVENT
DTSTART;TZID=America/New_York:20270616T083000
DTEND;TZID=America/New_York:20270616T170000
DTSTAMP:20260420T152017
CREATED:20250910T025501Z
LAST-MODIFIED:20250910T025507Z
UID:10001290-1813134600-1813165200@saludagop.org
SUMMARY:Early Voting
DESCRIPTION:
URL:https://saludagop.org/event/early-voting/2027-06-16/
END:VEVENT
BEGIN:VEVENT
DTSTART;TZID=America/New_York:20270617T083000
DTEND;TZID=America/New_York:20270617T170000
DTSTAMP:20260420T152017
CREATED:20250910T025501Z
LAST-MODIFIED:20250910T025507Z
UID:10001291-1813221000-1813251600@saludagop.org
SUMMARY:Early Voting
DESCRIPTION:
URL:https://saludagop.org/event/early-voting/2027-06-17/
END:VEVENT
BEGIN:VEVENT
DTSTART;TZID=America/New_York:20270618T083000
DTEND;TZID=America/New_York:20270618T170000
DTSTAMP:20260420T152017
CREATED:20250910T025501Z
LAST-MODIFIED:20250910T025507Z
UID:10001292-1813307400-1813338000@saludagop.org
SUMMARY:Early Voting
DESCRIPTION:
URL:https://saludagop.org/event/early-voting/2027-06-18/
END:VEVENT
BEGIN:VEVENT
DTSTART;TZID=America/New_York:20270619T083000
DTEND;TZID=America/New_York:20270619T170000
DTSTAMP:20260420T152017
CREATED:20250910T025501Z
LAST-MODIFIED:20250910T025507Z
UID:10001293-1813393800-1813424400@saludagop.org
SUMMARY:Early Voting
DESCRIPTION:
URL:https://saludagop.org/event/early-voting/2027-06-19/
END:VEVENT
BEGIN:VEVENT
DTSTART;TZID=America/New_York:20270620T083000
DTEND;TZID=America/New_York:20270620T170000
DTSTAMP:20260420T152017
CREATED:20250910T025501Z
LAST-MODIFIED:20250910T025507Z
UID:10001294-1813480200-1813510800@saludagop.org
SUMMARY:Early Voting
DESCRIPTION:
URL:https://saludagop.org/event/early-voting/2027-06-20/
END:VEVENT
BEGIN:VEVENT
DTSTART;TZID=America/New_York:20270621T083000
DTEND;TZID=America/New_York:20270621T170000
DTSTAMP:20260420T152017
CREATED:20250910T025501Z
LAST-MODIFIED:20250910T025507Z
UID:10001295-1813566600-1813597200@saludagop.org
SUMMARY:Early Voting
DESCRIPTION:
URL:https://saludagop.org/event/early-voting/2027-06-21/
END:VEVENT
END:VCALENDAR