BEGIN:VCALENDAR
VERSION:2.0
PRODID:-//Saluda GOP - ECPv6.15.20//NONSGML v1.0//EN
CALSCALE:GREGORIAN
METHOD:PUBLISH
X-ORIGINAL-URL:https://saludagop.org
X-WR-CALDESC:Events for Saluda GOP
REFRESH-INTERVAL;VALUE=DURATION:PT1H
X-Robots-Tag:noindex
X-PUBLISHED-TTL:PT1H
BEGIN:VTIMEZONE
TZID:America/New_York
BEGIN:DAYLIGHT
TZOFFSETFROM:-0500
TZOFFSETTO:-0400
TZNAME:EDT
DTSTART:20260308T070000
END:DAYLIGHT
BEGIN:STANDARD
TZOFFSETFROM:-0400
TZOFFSETTO:-0500
TZNAME:EST
DTSTART:20261101T060000
END:STANDARD
BEGIN:DAYLIGHT
TZOFFSETFROM:-0500
TZOFFSETTO:-0400
TZNAME:EDT
DTSTART:20270314T070000
END:DAYLIGHT
BEGIN:STANDARD
TZOFFSETFROM:-0400
TZOFFSETTO:-0500
TZNAME:EST
DTSTART:20271107T060000
END:STANDARD
BEGIN:DAYLIGHT
TZOFFSETFROM:-0500
TZOFFSETTO:-0400
TZNAME:EDT
DTSTART:20280312T070000
END:DAYLIGHT
BEGIN:STANDARD
TZOFFSETFROM:-0400
TZOFFSETTO:-0500
TZNAME:EST
DTSTART:20281105T060000
END:STANDARD
END:VTIMEZONE
BEGIN:VEVENT
DTSTART;TZID=America/New_York:20270425T083000
DTEND;TZID=America/New_York:20270425T170000
DTSTAMP:20260420T100144
CREATED:20250910T025501Z
LAST-MODIFIED:20250910T025507Z
UID:10001238-1808641800-1808672400@saludagop.org
SUMMARY:Early Voting
DESCRIPTION:
URL:https://saludagop.org/event/early-voting/2027-04-25/
END:VEVENT
BEGIN:VEVENT
DTSTART;TZID=America/New_York:20270426T083000
DTEND;TZID=America/New_York:20270426T170000
DTSTAMP:20260420T100144
CREATED:20250910T025501Z
LAST-MODIFIED:20250910T025507Z
UID:10001239-1808728200-1808758800@saludagop.org
SUMMARY:Early Voting
DESCRIPTION:
URL:https://saludagop.org/event/early-voting/2027-04-26/
END:VEVENT
BEGIN:VEVENT
DTSTART;TZID=America/New_York:20270426T180000
DTEND;TZID=America/New_York:20270426T200000
DTSTAMP:20260420T100144
CREATED:20251215T025208Z
LAST-MODIFIED:20251215T025554Z
UID:10002612-1808762400-1808769600@saludagop.org
SUMMARY:Saluda GOP Monthly Meeting
DESCRIPTION:Our Monthly Members meetings usually start with a meal at 6pm.  No charge\, but donations are appreciated!  We usually feature a guest speaker and a short business meeting afterwards when needed. \n\n\n\nThe public is welcome to attend.
URL:https://saludagop.org/event/saluda-gop-monthly-meeting-4/2027-04-26/
LOCATION:Saluda Presbyterian Church\, 103 W. Highland St.\, Saluda\, SC\, 29138\, United States
ORGANIZER;CN="The Saluda County Republican Party":MAILTO:saludaGOP@gmail.com
END:VEVENT
BEGIN:VEVENT
DTSTART;TZID=America/New_York:20270427T083000
DTEND;TZID=America/New_York:20270427T170000
DTSTAMP:20260420T100144
CREATED:20250910T025501Z
LAST-MODIFIED:20250910T025507Z
UID:10001240-1808814600-1808845200@saludagop.org
SUMMARY:Early Voting
DESCRIPTION:
URL:https://saludagop.org/event/early-voting/2027-04-27/
END:VEVENT
BEGIN:VEVENT
DTSTART;TZID=America/New_York:20270428T083000
DTEND;TZID=America/New_York:20270428T170000
DTSTAMP:20260420T100144
CREATED:20250910T025501Z
LAST-MODIFIED:20250910T025507Z
UID:10001241-1808901000-1808931600@saludagop.org
SUMMARY:Early Voting
DESCRIPTION:
URL:https://saludagop.org/event/early-voting/2027-04-28/
END:VEVENT
BEGIN:VEVENT
DTSTART;TZID=America/New_York:20270429T083000
DTEND;TZID=America/New_York:20270429T170000
DTSTAMP:20260420T100144
CREATED:20250910T025501Z
LAST-MODIFIED:20250910T025507Z
UID:10001242-1808987400-1809018000@saludagop.org
SUMMARY:Early Voting
DESCRIPTION:
URL:https://saludagop.org/event/early-voting/2027-04-29/
END:VEVENT
BEGIN:VEVENT
DTSTART;TZID=America/New_York:20270430T083000
DTEND;TZID=America/New_York:20270430T170000
DTSTAMP:20260420T100144
CREATED:20250910T025501Z
LAST-MODIFIED:20250910T025507Z
UID:10001243-1809073800-1809104400@saludagop.org
SUMMARY:Early Voting
DESCRIPTION:
URL:https://saludagop.org/event/early-voting/2027-04-30/
END:VEVENT
BEGIN:VEVENT
DTSTART;TZID=America/New_York:20270501T083000
DTEND;TZID=America/New_York:20270501T170000
DTSTAMP:20260420T100144
CREATED:20250910T025501Z
LAST-MODIFIED:20250910T025507Z
UID:10001244-1809160200-1809190800@saludagop.org
SUMMARY:Early Voting
DESCRIPTION:
URL:https://saludagop.org/event/early-voting/2027-05-01/
END:VEVENT
BEGIN:VEVENT
DTSTART;TZID=America/New_York:20270502T083000
DTEND;TZID=America/New_York:20270502T170000
DTSTAMP:20260420T100145
CREATED:20250910T025501Z
LAST-MODIFIED:20250910T025507Z
UID:10001245-1809246600-1809277200@saludagop.org
SUMMARY:Early Voting
DESCRIPTION:
URL:https://saludagop.org/event/early-voting/2027-05-02/
END:VEVENT
BEGIN:VEVENT
DTSTART;TZID=America/New_York:20270503T083000
DTEND;TZID=America/New_York:20270503T170000
DTSTAMP:20260420T100145
CREATED:20250910T025501Z
LAST-MODIFIED:20250910T025507Z
UID:10001246-1809333000-1809363600@saludagop.org
SUMMARY:Early Voting
DESCRIPTION:
URL:https://saludagop.org/event/early-voting/2027-05-03/
END:VEVENT
BEGIN:VEVENT
DTSTART;TZID=America/New_York:20270504T083000
DTEND;TZID=America/New_York:20270504T170000
DTSTAMP:20260420T100145
CREATED:20250910T025501Z
LAST-MODIFIED:20250910T025507Z
UID:10001247-1809419400-1809450000@saludagop.org
SUMMARY:Early Voting
DESCRIPTION:
URL:https://saludagop.org/event/early-voting/2027-05-04/
END:VEVENT
BEGIN:VEVENT
DTSTART;TZID=America/New_York:20270504T180000
DTEND;TZID=America/New_York:20270504T190000
DTSTAMP:20260420T100145
CREATED:20250509T051219Z
LAST-MODIFIED:20250512T063559Z
UID:10000036-1809453600-1809457200@saludagop.org
SUMMARY:Saluda Town Council Meeting
DESCRIPTION:Monthly Town Council Meeting
URL:https://saludagop.org/event/saluda-town-council-meeting/2027-05-04/
LOCATION:Saluda Town Hall\, 100 South Jefferson St.\, Saluda\, SC\, 29138\, United States
END:VEVENT
BEGIN:VEVENT
DTSTART;TZID=America/New_York:20270505T083000
DTEND;TZID=America/New_York:20270505T170000
DTSTAMP:20260420T100145
CREATED:20250910T025501Z
LAST-MODIFIED:20250910T025507Z
UID:10001248-1809505800-1809536400@saludagop.org
SUMMARY:Early Voting
DESCRIPTION:
URL:https://saludagop.org/event/early-voting/2027-05-05/
END:VEVENT
BEGIN:VEVENT
DTSTART;TZID=America/New_York:20270506T083000
DTEND;TZID=America/New_York:20270506T170000
DTSTAMP:20260420T100145
CREATED:20250910T025501Z
LAST-MODIFIED:20250910T025507Z
UID:10001249-1809592200-1809622800@saludagop.org
SUMMARY:Early Voting
DESCRIPTION:
URL:https://saludagop.org/event/early-voting/2027-05-06/
END:VEVENT
BEGIN:VEVENT
DTSTART;TZID=America/New_York:20270507T083000
DTEND;TZID=America/New_York:20270507T170000
DTSTAMP:20260420T100145
CREATED:20250910T025501Z
LAST-MODIFIED:20250910T025507Z
UID:10001250-1809678600-1809709200@saludagop.org
SUMMARY:Early Voting
DESCRIPTION:
URL:https://saludagop.org/event/early-voting/2027-05-07/
END:VEVENT
BEGIN:VEVENT
DTSTART;TZID=America/New_York:20270508T083000
DTEND;TZID=America/New_York:20270508T170000
DTSTAMP:20260420T100145
CREATED:20250910T025501Z
LAST-MODIFIED:20250910T025507Z
UID:10001251-1809765000-1809795600@saludagop.org
SUMMARY:Early Voting
DESCRIPTION:
URL:https://saludagop.org/event/early-voting/2027-05-08/
END:VEVENT
BEGIN:VEVENT
DTSTART;TZID=America/New_York:20270509T083000
DTEND;TZID=America/New_York:20270509T170000
DTSTAMP:20260420T100145
CREATED:20250910T025501Z
LAST-MODIFIED:20250910T025507Z
UID:10001252-1809851400-1809882000@saludagop.org
SUMMARY:Early Voting
DESCRIPTION:
URL:https://saludagop.org/event/early-voting/2027-05-09/
END:VEVENT
BEGIN:VEVENT
DTSTART;TZID=America/New_York:20270510T083000
DTEND;TZID=America/New_York:20270510T170000
DTSTAMP:20260420T100145
CREATED:20250910T025501Z
LAST-MODIFIED:20250910T025507Z
UID:10001253-1809937800-1809968400@saludagop.org
SUMMARY:Early Voting
DESCRIPTION:
URL:https://saludagop.org/event/early-voting/2027-05-10/
END:VEVENT
BEGIN:VEVENT
DTSTART;TZID=America/New_York:20270510T180000
DTEND;TZID=America/New_York:20270510T190000
DTSTAMP:20260420T100145
CREATED:20250509T050406Z
LAST-MODIFIED:20250512T063927Z
UID:10000356-1809972000-1809975600@saludagop.org
SUMMARY:County Council Meeting
DESCRIPTION:
URL:https://saludagop.org/event/county-council-meeting/2027-05-10/
LOCATION:Saluda County Administrative Offices\, 400 W. Highland St.\, Saluda\, SC\, 29138\, United States
END:VEVENT
BEGIN:VEVENT
DTSTART;TZID=America/New_York:20270511T083000
DTEND;TZID=America/New_York:20270511T170000
DTSTAMP:20260420T100145
CREATED:20250910T025501Z
LAST-MODIFIED:20250910T025507Z
UID:10001254-1810024200-1810054800@saludagop.org
SUMMARY:Early Voting
DESCRIPTION:
URL:https://saludagop.org/event/early-voting/2027-05-11/
END:VEVENT
BEGIN:VEVENT
DTSTART;TZID=America/New_York:20270512T083000
DTEND;TZID=America/New_York:20270512T170000
DTSTAMP:20260420T100145
CREATED:20250910T025501Z
LAST-MODIFIED:20250910T025507Z
UID:10001255-1810110600-1810141200@saludagop.org
SUMMARY:Early Voting
DESCRIPTION:
URL:https://saludagop.org/event/early-voting/2027-05-12/
END:VEVENT
BEGIN:VEVENT
DTSTART;TZID=America/New_York:20270513T083000
DTEND;TZID=America/New_York:20270513T170000
DTSTAMP:20260420T100145
CREATED:20250910T025501Z
LAST-MODIFIED:20250910T025507Z
UID:10001256-1810197000-1810227600@saludagop.org
SUMMARY:Early Voting
DESCRIPTION:
URL:https://saludagop.org/event/early-voting/2027-05-13/
END:VEVENT
BEGIN:VEVENT
DTSTART;TZID=America/New_York:20270513T183000
DTEND;TZID=America/New_York:20270513T200000
DTSTAMP:20260420T100145
CREATED:20260318T163009Z
LAST-MODIFIED:20260318T175824Z
UID:10002672-1810233000-1810238400@saludagop.org
SUMMARY:Steering Committee
DESCRIPTION:This is the monthly meeting of the Saluda County Steering Committee.  The members are: \n\n\n\nAmy Potts\, ChairGreg SanderJay DunbarKim ParigorisBen WardRuss TerrellDeb Camp \n\n\n\nThis committee discusses ongoing plans and ideas to bring forward at the next business meeting.
URL:https://saludagop.org/event/committees-cocktails-coca-colas-2/2027-05-13/
LOCATION:Saluda Presbyterian Church\, 103 W. Highland St.\, Saluda\, SC\, 29138\, United States
ORGANIZER;CN="The Saluda County Republican Party":MAILTO:saludaGOP@gmail.com
END:VEVENT
BEGIN:VEVENT
DTSTART;TZID=America/New_York:20270514T083000
DTEND;TZID=America/New_York:20270514T170000
DTSTAMP:20260420T100145
CREATED:20250910T025501Z
LAST-MODIFIED:20250910T025507Z
UID:10001257-1810283400-1810314000@saludagop.org
SUMMARY:Early Voting
DESCRIPTION:
URL:https://saludagop.org/event/early-voting/2027-05-14/
END:VEVENT
BEGIN:VEVENT
DTSTART;TZID=America/New_York:20270515T083000
DTEND;TZID=America/New_York:20270515T170000
DTSTAMP:20260420T100145
CREATED:20250910T025501Z
LAST-MODIFIED:20250910T025507Z
UID:10001258-1810369800-1810400400@saludagop.org
SUMMARY:Early Voting
DESCRIPTION:
URL:https://saludagop.org/event/early-voting/2027-05-15/
END:VEVENT
BEGIN:VEVENT
DTSTART;TZID=America/New_York:20270516T083000
DTEND;TZID=America/New_York:20270516T170000
DTSTAMP:20260420T100145
CREATED:20250910T025501Z
LAST-MODIFIED:20250910T025507Z
UID:10001259-1810456200-1810486800@saludagop.org
SUMMARY:Early Voting
DESCRIPTION:
URL:https://saludagop.org/event/early-voting/2027-05-16/
END:VEVENT
BEGIN:VEVENT
DTSTART;TZID=America/New_York:20270517T083000
DTEND;TZID=America/New_York:20270517T170000
DTSTAMP:20260420T100145
CREATED:20250910T025501Z
LAST-MODIFIED:20250910T025507Z
UID:10001260-1810542600-1810573200@saludagop.org
SUMMARY:Early Voting
DESCRIPTION:
URL:https://saludagop.org/event/early-voting/2027-05-17/
END:VEVENT
BEGIN:VEVENT
DTSTART;TZID=America/New_York:20270518T083000
DTEND;TZID=America/New_York:20270518T170000
DTSTAMP:20260420T100145
CREATED:20250910T025501Z
LAST-MODIFIED:20250910T025507Z
UID:10001261-1810629000-1810659600@saludagop.org
SUMMARY:Early Voting
DESCRIPTION:
URL:https://saludagop.org/event/early-voting/2027-05-18/
END:VEVENT
BEGIN:VEVENT
DTSTART;TZID=America/New_York:20270519T083000
DTEND;TZID=America/New_York:20270519T170000
DTSTAMP:20260420T100145
CREATED:20250910T025501Z
LAST-MODIFIED:20250910T025507Z
UID:10001262-1810715400-1810746000@saludagop.org
SUMMARY:Early Voting
DESCRIPTION:
URL:https://saludagop.org/event/early-voting/2027-05-19/
END:VEVENT
BEGIN:VEVENT
DTSTART;TZID=America/New_York:20270520T083000
DTEND;TZID=America/New_York:20270520T170000
DTSTAMP:20260420T100145
CREATED:20250910T025501Z
LAST-MODIFIED:20250910T025507Z
UID:10001263-1810801800-1810832400@saludagop.org
SUMMARY:Early Voting
DESCRIPTION:
URL:https://saludagop.org/event/early-voting/2027-05-20/
END:VEVENT
END:VCALENDAR