BEGIN:VCALENDAR
VERSION:2.0
PRODID:-//Saluda GOP - ECPv6.15.20//NONSGML v1.0//EN
CALSCALE:GREGORIAN
METHOD:PUBLISH
X-ORIGINAL-URL:https://saludagop.org
X-WR-CALDESC:Events for Saluda GOP
REFRESH-INTERVAL;VALUE=DURATION:PT1H
X-Robots-Tag:noindex
X-PUBLISHED-TTL:PT1H
BEGIN:VTIMEZONE
TZID:America/New_York
BEGIN:DAYLIGHT
TZOFFSETFROM:-0500
TZOFFSETTO:-0400
TZNAME:EDT
DTSTART:20260308T070000
END:DAYLIGHT
BEGIN:STANDARD
TZOFFSETFROM:-0400
TZOFFSETTO:-0500
TZNAME:EST
DTSTART:20261101T060000
END:STANDARD
BEGIN:DAYLIGHT
TZOFFSETFROM:-0500
TZOFFSETTO:-0400
TZNAME:EDT
DTSTART:20270314T070000
END:DAYLIGHT
BEGIN:STANDARD
TZOFFSETFROM:-0400
TZOFFSETTO:-0500
TZNAME:EST
DTSTART:20271107T060000
END:STANDARD
BEGIN:DAYLIGHT
TZOFFSETFROM:-0500
TZOFFSETTO:-0400
TZNAME:EDT
DTSTART:20280312T070000
END:DAYLIGHT
BEGIN:STANDARD
TZOFFSETFROM:-0400
TZOFFSETTO:-0500
TZNAME:EST
DTSTART:20281105T060000
END:STANDARD
END:VTIMEZONE
BEGIN:VEVENT
DTSTART;TZID=America/New_York:20270312T083000
DTEND;TZID=America/New_York:20270312T170000
DTSTAMP:20260420T030728
CREATED:20250910T025501Z
LAST-MODIFIED:20250910T025507Z
UID:10001194-1804840200-1804870800@saludagop.org
SUMMARY:Early Voting
DESCRIPTION:
URL:https://saludagop.org/event/early-voting/2027-03-12/
END:VEVENT
BEGIN:VEVENT
DTSTART;TZID=America/New_York:20270313T083000
DTEND;TZID=America/New_York:20270313T170000
DTSTAMP:20260420T030728
CREATED:20250910T025501Z
LAST-MODIFIED:20250910T025507Z
UID:10001195-1804926600-1804957200@saludagop.org
SUMMARY:Early Voting
DESCRIPTION:
URL:https://saludagop.org/event/early-voting/2027-03-13/
END:VEVENT
BEGIN:VEVENT
DTSTART;TZID=America/New_York:20270314T083000
DTEND;TZID=America/New_York:20270314T170000
DTSTAMP:20260420T030728
CREATED:20250910T025501Z
LAST-MODIFIED:20250910T025507Z
UID:10001196-1805013000-1805043600@saludagop.org
SUMMARY:Early Voting
DESCRIPTION:
URL:https://saludagop.org/event/early-voting/2027-03-14/
END:VEVENT
BEGIN:VEVENT
DTSTART;TZID=America/New_York:20270315T083000
DTEND;TZID=America/New_York:20270315T170000
DTSTAMP:20260420T030728
CREATED:20250910T025501Z
LAST-MODIFIED:20250910T025507Z
UID:10001197-1805099400-1805130000@saludagop.org
SUMMARY:Early Voting
DESCRIPTION:
URL:https://saludagop.org/event/early-voting/2027-03-15/
END:VEVENT
BEGIN:VEVENT
DTSTART;TZID=America/New_York:20270316T083000
DTEND;TZID=America/New_York:20270316T170000
DTSTAMP:20260420T030728
CREATED:20250910T025501Z
LAST-MODIFIED:20250910T025507Z
UID:10001198-1805185800-1805216400@saludagop.org
SUMMARY:Early Voting
DESCRIPTION:
URL:https://saludagop.org/event/early-voting/2027-03-16/
END:VEVENT
BEGIN:VEVENT
DTSTART;TZID=America/New_York:20270317T083000
DTEND;TZID=America/New_York:20270317T170000
DTSTAMP:20260420T030728
CREATED:20250910T025501Z
LAST-MODIFIED:20250910T025507Z
UID:10001199-1805272200-1805302800@saludagop.org
SUMMARY:Early Voting
DESCRIPTION:
URL:https://saludagop.org/event/early-voting/2027-03-17/
END:VEVENT
BEGIN:VEVENT
DTSTART;TZID=America/New_York:20270318T083000
DTEND;TZID=America/New_York:20270318T170000
DTSTAMP:20260420T030728
CREATED:20250910T025501Z
LAST-MODIFIED:20250910T025507Z
UID:10001200-1805358600-1805389200@saludagop.org
SUMMARY:Early Voting
DESCRIPTION:
URL:https://saludagop.org/event/early-voting/2027-03-18/
END:VEVENT
BEGIN:VEVENT
DTSTART;TZID=America/New_York:20270319T083000
DTEND;TZID=America/New_York:20270319T170000
DTSTAMP:20260420T030728
CREATED:20250910T025501Z
LAST-MODIFIED:20250910T025507Z
UID:10001201-1805445000-1805475600@saludagop.org
SUMMARY:Early Voting
DESCRIPTION:
URL:https://saludagop.org/event/early-voting/2027-03-19/
END:VEVENT
BEGIN:VEVENT
DTSTART;TZID=America/New_York:20270320T083000
DTEND;TZID=America/New_York:20270320T170000
DTSTAMP:20260420T030728
CREATED:20250910T025501Z
LAST-MODIFIED:20250910T025507Z
UID:10001202-1805531400-1805562000@saludagop.org
SUMMARY:Early Voting
DESCRIPTION:
URL:https://saludagop.org/event/early-voting/2027-03-20/
END:VEVENT
BEGIN:VEVENT
DTSTART;TZID=America/New_York:20270321T083000
DTEND;TZID=America/New_York:20270321T170000
DTSTAMP:20260420T030728
CREATED:20250910T025501Z
LAST-MODIFIED:20250910T025507Z
UID:10001203-1805617800-1805648400@saludagop.org
SUMMARY:Early Voting
DESCRIPTION:
URL:https://saludagop.org/event/early-voting/2027-03-21/
END:VEVENT
BEGIN:VEVENT
DTSTART;TZID=America/New_York:20270322T083000
DTEND;TZID=America/New_York:20270322T170000
DTSTAMP:20260420T030728
CREATED:20250910T025501Z
LAST-MODIFIED:20250910T025507Z
UID:10001204-1805704200-1805734800@saludagop.org
SUMMARY:Early Voting
DESCRIPTION:
URL:https://saludagop.org/event/early-voting/2027-03-22/
END:VEVENT
BEGIN:VEVENT
DTSTART;TZID=America/New_York:20270322T180000
DTEND;TZID=America/New_York:20270322T200000
DTSTAMP:20260420T030728
CREATED:20251215T025208Z
LAST-MODIFIED:20251215T025554Z
UID:10002611-1805738400-1805745600@saludagop.org
SUMMARY:Saluda GOP Monthly Meeting
DESCRIPTION:Our Monthly Members meetings usually start with a meal at 6pm.  No charge\, but donations are appreciated!  We usually feature a guest speaker and a short business meeting afterwards when needed. \n\n\n\nThe public is welcome to attend.
URL:https://saludagop.org/event/saluda-gop-monthly-meeting-4/2027-03-22/
LOCATION:Saluda Presbyterian Church\, 103 W. Highland St.\, Saluda\, SC\, 29138\, United States
ORGANIZER;CN="The Saluda County Republican Party":MAILTO:saludaGOP@gmail.com
END:VEVENT
BEGIN:VEVENT
DTSTART;TZID=America/New_York:20270323T083000
DTEND;TZID=America/New_York:20270323T170000
DTSTAMP:20260420T030728
CREATED:20250910T025501Z
LAST-MODIFIED:20250910T025507Z
UID:10001205-1805790600-1805821200@saludagop.org
SUMMARY:Early Voting
DESCRIPTION:
URL:https://saludagop.org/event/early-voting/2027-03-23/
END:VEVENT
BEGIN:VEVENT
DTSTART;TZID=America/New_York:20270324T083000
DTEND;TZID=America/New_York:20270324T170000
DTSTAMP:20260420T030728
CREATED:20250910T025501Z
LAST-MODIFIED:20250910T025507Z
UID:10001206-1805877000-1805907600@saludagop.org
SUMMARY:Early Voting
DESCRIPTION:
URL:https://saludagop.org/event/early-voting/2027-03-24/
END:VEVENT
BEGIN:VEVENT
DTSTART;TZID=America/New_York:20270325T083000
DTEND;TZID=America/New_York:20270325T170000
DTSTAMP:20260420T030728
CREATED:20250910T025501Z
LAST-MODIFIED:20250910T025507Z
UID:10001207-1805963400-1805994000@saludagop.org
SUMMARY:Early Voting
DESCRIPTION:
URL:https://saludagop.org/event/early-voting/2027-03-25/
END:VEVENT
BEGIN:VEVENT
DTSTART;TZID=America/New_York:20270326T083000
DTEND;TZID=America/New_York:20270326T170000
DTSTAMP:20260420T030728
CREATED:20250910T025501Z
LAST-MODIFIED:20250910T025507Z
UID:10001208-1806049800-1806080400@saludagop.org
SUMMARY:Early Voting
DESCRIPTION:
URL:https://saludagop.org/event/early-voting/2027-03-26/
END:VEVENT
BEGIN:VEVENT
DTSTART;TZID=America/New_York:20270327T083000
DTEND;TZID=America/New_York:20270327T170000
DTSTAMP:20260420T030728
CREATED:20250910T025501Z
LAST-MODIFIED:20250910T025507Z
UID:10001209-1806136200-1806166800@saludagop.org
SUMMARY:Early Voting
DESCRIPTION:
URL:https://saludagop.org/event/early-voting/2027-03-27/
END:VEVENT
BEGIN:VEVENT
DTSTART;TZID=America/New_York:20270328T083000
DTEND;TZID=America/New_York:20270328T170000
DTSTAMP:20260420T030728
CREATED:20250910T025501Z
LAST-MODIFIED:20250910T025507Z
UID:10001210-1806222600-1806253200@saludagop.org
SUMMARY:Early Voting
DESCRIPTION:
URL:https://saludagop.org/event/early-voting/2027-03-28/
END:VEVENT
BEGIN:VEVENT
DTSTART;TZID=America/New_York:20270329T083000
DTEND;TZID=America/New_York:20270329T170000
DTSTAMP:20260420T030728
CREATED:20250910T025501Z
LAST-MODIFIED:20250910T025507Z
UID:10001211-1806309000-1806339600@saludagop.org
SUMMARY:Early Voting
DESCRIPTION:
URL:https://saludagop.org/event/early-voting/2027-03-29/
END:VEVENT
BEGIN:VEVENT
DTSTART;TZID=America/New_York:20270330T083000
DTEND;TZID=America/New_York:20270330T170000
DTSTAMP:20260420T030728
CREATED:20250910T025501Z
LAST-MODIFIED:20250910T025507Z
UID:10001212-1806395400-1806426000@saludagop.org
SUMMARY:Early Voting
DESCRIPTION:
URL:https://saludagop.org/event/early-voting/2027-03-30/
END:VEVENT
BEGIN:VEVENT
DTSTART;TZID=America/New_York:20270331T083000
DTEND;TZID=America/New_York:20270331T170000
DTSTAMP:20260420T030728
CREATED:20250910T025501Z
LAST-MODIFIED:20250910T025507Z
UID:10001213-1806481800-1806512400@saludagop.org
SUMMARY:Early Voting
DESCRIPTION:
URL:https://saludagop.org/event/early-voting/2027-03-31/
END:VEVENT
BEGIN:VEVENT
DTSTART;TZID=America/New_York:20270401T083000
DTEND;TZID=America/New_York:20270401T170000
DTSTAMP:20260420T030728
CREATED:20250910T025501Z
LAST-MODIFIED:20250910T025507Z
UID:10001214-1806568200-1806598800@saludagop.org
SUMMARY:Early Voting
DESCRIPTION:
URL:https://saludagop.org/event/early-voting/2027-04-01/
END:VEVENT
BEGIN:VEVENT
DTSTART;TZID=America/New_York:20270402T083000
DTEND;TZID=America/New_York:20270402T170000
DTSTAMP:20260420T030728
CREATED:20250910T025501Z
LAST-MODIFIED:20250910T025507Z
UID:10001215-1806654600-1806685200@saludagop.org
SUMMARY:Early Voting
DESCRIPTION:
URL:https://saludagop.org/event/early-voting/2027-04-02/
END:VEVENT
BEGIN:VEVENT
DTSTART;TZID=America/New_York:20270403T083000
DTEND;TZID=America/New_York:20270403T170000
DTSTAMP:20260420T030728
CREATED:20250910T025501Z
LAST-MODIFIED:20250910T025507Z
UID:10001216-1806741000-1806771600@saludagop.org
SUMMARY:Early Voting
DESCRIPTION:
URL:https://saludagop.org/event/early-voting/2027-04-03/
END:VEVENT
BEGIN:VEVENT
DTSTART;TZID=America/New_York:20270404T083000
DTEND;TZID=America/New_York:20270404T170000
DTSTAMP:20260420T030728
CREATED:20250910T025501Z
LAST-MODIFIED:20250910T025507Z
UID:10001217-1806827400-1806858000@saludagop.org
SUMMARY:Early Voting
DESCRIPTION:
URL:https://saludagop.org/event/early-voting/2027-04-04/
END:VEVENT
BEGIN:VEVENT
DTSTART;TZID=America/New_York:20270405T083000
DTEND;TZID=America/New_York:20270405T170000
DTSTAMP:20260420T030728
CREATED:20250910T025501Z
LAST-MODIFIED:20250910T025507Z
UID:10001218-1806913800-1806944400@saludagop.org
SUMMARY:Early Voting
DESCRIPTION:
URL:https://saludagop.org/event/early-voting/2027-04-05/
END:VEVENT
BEGIN:VEVENT
DTSTART;TZID=America/New_York:20270406T083000
DTEND;TZID=America/New_York:20270406T170000
DTSTAMP:20260420T030728
CREATED:20250910T025501Z
LAST-MODIFIED:20250910T025507Z
UID:10001219-1807000200-1807030800@saludagop.org
SUMMARY:Early Voting
DESCRIPTION:
URL:https://saludagop.org/event/early-voting/2027-04-06/
END:VEVENT
BEGIN:VEVENT
DTSTART;TZID=America/New_York:20270406T180000
DTEND;TZID=America/New_York:20270406T190000
DTSTAMP:20260420T030728
CREATED:20250509T051219Z
LAST-MODIFIED:20250512T063559Z
UID:10000035-1807034400-1807038000@saludagop.org
SUMMARY:Saluda Town Council Meeting
DESCRIPTION:Monthly Town Council Meeting
URL:https://saludagop.org/event/saluda-town-council-meeting/2027-04-06/
LOCATION:Saluda Town Hall\, 100 South Jefferson St.\, Saluda\, SC\, 29138\, United States
END:VEVENT
BEGIN:VEVENT
DTSTART;TZID=America/New_York:20270407T083000
DTEND;TZID=America/New_York:20270407T170000
DTSTAMP:20260420T030728
CREATED:20250910T025501Z
LAST-MODIFIED:20250910T025507Z
UID:10001220-1807086600-1807117200@saludagop.org
SUMMARY:Early Voting
DESCRIPTION:
URL:https://saludagop.org/event/early-voting/2027-04-07/
END:VEVENT
BEGIN:VEVENT
DTSTART;TZID=America/New_York:20270408T083000
DTEND;TZID=America/New_York:20270408T170000
DTSTAMP:20260420T030728
CREATED:20250910T025501Z
LAST-MODIFIED:20250910T025507Z
UID:10001221-1807173000-1807203600@saludagop.org
SUMMARY:Early Voting
DESCRIPTION:
URL:https://saludagop.org/event/early-voting/2027-04-08/
END:VEVENT
END:VCALENDAR