BEGIN:VCALENDAR
VERSION:2.0
PRODID:-//Saluda GOP - ECPv6.15.20//NONSGML v1.0//EN
CALSCALE:GREGORIAN
METHOD:PUBLISH
X-WR-CALNAME:Saluda GOP
X-ORIGINAL-URL:https://saludagop.org
X-WR-CALDESC:Events for Saluda GOP
REFRESH-INTERVAL;VALUE=DURATION:PT1H
X-Robots-Tag:noindex
X-PUBLISHED-TTL:PT1H
BEGIN:VTIMEZONE
TZID:America/New_York
BEGIN:DAYLIGHT
TZOFFSETFROM:-0500
TZOFFSETTO:-0400
TZNAME:EDT
DTSTART:20260308T070000
END:DAYLIGHT
BEGIN:STANDARD
TZOFFSETFROM:-0400
TZOFFSETTO:-0500
TZNAME:EST
DTSTART:20261101T060000
END:STANDARD
BEGIN:DAYLIGHT
TZOFFSETFROM:-0500
TZOFFSETTO:-0400
TZNAME:EDT
DTSTART:20270314T070000
END:DAYLIGHT
BEGIN:STANDARD
TZOFFSETFROM:-0400
TZOFFSETTO:-0500
TZNAME:EST
DTSTART:20271107T060000
END:STANDARD
BEGIN:DAYLIGHT
TZOFFSETFROM:-0500
TZOFFSETTO:-0400
TZNAME:EDT
DTSTART:20280312T070000
END:DAYLIGHT
BEGIN:STANDARD
TZOFFSETFROM:-0400
TZOFFSETTO:-0500
TZNAME:EST
DTSTART:20281105T060000
END:STANDARD
END:VTIMEZONE
BEGIN:VEVENT
DTSTART;TZID=America/New_York:20270119T083000
DTEND;TZID=America/New_York:20270119T170000
DTSTAMP:20260419T184240
CREATED:20250910T025501Z
LAST-MODIFIED:20250910T025507Z
UID:10001142-1800347400-1800378000@saludagop.org
SUMMARY:Early Voting
DESCRIPTION:
URL:https://saludagop.org/event/early-voting/2027-01-19/
END:VEVENT
BEGIN:VEVENT
DTSTART;TZID=America/New_York:20270120T083000
DTEND;TZID=America/New_York:20270120T170000
DTSTAMP:20260419T184240
CREATED:20250910T025501Z
LAST-MODIFIED:20250910T025507Z
UID:10001143-1800433800-1800464400@saludagop.org
SUMMARY:Early Voting
DESCRIPTION:
URL:https://saludagop.org/event/early-voting/2027-01-20/
END:VEVENT
BEGIN:VEVENT
DTSTART;TZID=America/New_York:20270121T083000
DTEND;TZID=America/New_York:20270121T170000
DTSTAMP:20260419T184240
CREATED:20250910T025501Z
LAST-MODIFIED:20250910T025507Z
UID:10001144-1800520200-1800550800@saludagop.org
SUMMARY:Early Voting
DESCRIPTION:
URL:https://saludagop.org/event/early-voting/2027-01-21/
END:VEVENT
BEGIN:VEVENT
DTSTART;TZID=America/New_York:20270122T083000
DTEND;TZID=America/New_York:20270122T170000
DTSTAMP:20260419T184240
CREATED:20250910T025501Z
LAST-MODIFIED:20250910T025507Z
UID:10001145-1800606600-1800637200@saludagop.org
SUMMARY:Early Voting
DESCRIPTION:
URL:https://saludagop.org/event/early-voting/2027-01-22/
END:VEVENT
BEGIN:VEVENT
DTSTART;TZID=America/New_York:20270123T083000
DTEND;TZID=America/New_York:20270123T170000
DTSTAMP:20260419T184240
CREATED:20250910T025501Z
LAST-MODIFIED:20250910T025507Z
UID:10001146-1800693000-1800723600@saludagop.org
SUMMARY:Early Voting
DESCRIPTION:
URL:https://saludagop.org/event/early-voting/2027-01-23/
END:VEVENT
BEGIN:VEVENT
DTSTART;TZID=America/New_York:20270124T083000
DTEND;TZID=America/New_York:20270124T170000
DTSTAMP:20260419T184240
CREATED:20250910T025501Z
LAST-MODIFIED:20250910T025507Z
UID:10001147-1800779400-1800810000@saludagop.org
SUMMARY:Early Voting
DESCRIPTION:
URL:https://saludagop.org/event/early-voting/2027-01-24/
END:VEVENT
BEGIN:VEVENT
DTSTART;TZID=America/New_York:20270125T083000
DTEND;TZID=America/New_York:20270125T170000
DTSTAMP:20260419T184240
CREATED:20250910T025501Z
LAST-MODIFIED:20250910T025507Z
UID:10001148-1800865800-1800896400@saludagop.org
SUMMARY:Early Voting
DESCRIPTION:
URL:https://saludagop.org/event/early-voting/2027-01-25/
END:VEVENT
BEGIN:VEVENT
DTSTART;TZID=America/New_York:20270125T180000
DTEND;TZID=America/New_York:20270125T200000
DTSTAMP:20260419T184240
CREATED:20251215T025208Z
LAST-MODIFIED:20251215T025554Z
UID:10002609-1800900000-1800907200@saludagop.org
SUMMARY:Saluda GOP Monthly Meeting
DESCRIPTION:Our Monthly Members meetings usually start with a meal at 6pm.  No charge\, but donations are appreciated!  We usually feature a guest speaker and a short business meeting afterwards when needed. \n\n\n\nThe public is welcome to attend.
URL:https://saludagop.org/event/saluda-gop-monthly-meeting-4/2027-01-25/
LOCATION:Saluda Presbyterian Church\, 103 W. Highland St.\, Saluda\, SC\, 29138\, United States
ORGANIZER;CN="The Saluda County Republican Party":MAILTO:saludaGOP@gmail.com
END:VEVENT
BEGIN:VEVENT
DTSTART;TZID=America/New_York:20270126T083000
DTEND;TZID=America/New_York:20270126T170000
DTSTAMP:20260419T184240
CREATED:20250910T025501Z
LAST-MODIFIED:20250910T025507Z
UID:10001149-1800952200-1800982800@saludagop.org
SUMMARY:Early Voting
DESCRIPTION:
URL:https://saludagop.org/event/early-voting/2027-01-26/
END:VEVENT
BEGIN:VEVENT
DTSTART;TZID=America/New_York:20270127T083000
DTEND;TZID=America/New_York:20270127T170000
DTSTAMP:20260419T184240
CREATED:20250910T025501Z
LAST-MODIFIED:20250910T025507Z
UID:10001150-1801038600-1801069200@saludagop.org
SUMMARY:Early Voting
DESCRIPTION:
URL:https://saludagop.org/event/early-voting/2027-01-27/
END:VEVENT
BEGIN:VEVENT
DTSTART;TZID=America/New_York:20270128T083000
DTEND;TZID=America/New_York:20270128T170000
DTSTAMP:20260419T184240
CREATED:20250910T025501Z
LAST-MODIFIED:20250910T025507Z
UID:10001151-1801125000-1801155600@saludagop.org
SUMMARY:Early Voting
DESCRIPTION:
URL:https://saludagop.org/event/early-voting/2027-01-28/
END:VEVENT
BEGIN:VEVENT
DTSTART;TZID=America/New_York:20270129T083000
DTEND;TZID=America/New_York:20270129T170000
DTSTAMP:20260419T184240
CREATED:20250910T025501Z
LAST-MODIFIED:20250910T025507Z
UID:10001152-1801211400-1801242000@saludagop.org
SUMMARY:Early Voting
DESCRIPTION:
URL:https://saludagop.org/event/early-voting/2027-01-29/
END:VEVENT
BEGIN:VEVENT
DTSTART;TZID=America/New_York:20270130T083000
DTEND;TZID=America/New_York:20270130T170000
DTSTAMP:20260419T184240
CREATED:20250910T025501Z
LAST-MODIFIED:20250910T025507Z
UID:10001153-1801297800-1801328400@saludagop.org
SUMMARY:Early Voting
DESCRIPTION:
URL:https://saludagop.org/event/early-voting/2027-01-30/
END:VEVENT
BEGIN:VEVENT
DTSTART;TZID=America/New_York:20270131T083000
DTEND;TZID=America/New_York:20270131T170000
DTSTAMP:20260419T184240
CREATED:20250910T025501Z
LAST-MODIFIED:20250910T025507Z
UID:10001154-1801384200-1801414800@saludagop.org
SUMMARY:Early Voting
DESCRIPTION:
URL:https://saludagop.org/event/early-voting/2027-01-31/
END:VEVENT
BEGIN:VEVENT
DTSTART;TZID=America/New_York:20270201T083000
DTEND;TZID=America/New_York:20270201T170000
DTSTAMP:20260419T184240
CREATED:20250910T025501Z
LAST-MODIFIED:20250910T025507Z
UID:10001155-1801470600-1801501200@saludagop.org
SUMMARY:Early Voting
DESCRIPTION:
URL:https://saludagop.org/event/early-voting/2027-02-01/
END:VEVENT
BEGIN:VEVENT
DTSTART;TZID=America/New_York:20270202T083000
DTEND;TZID=America/New_York:20270202T170000
DTSTAMP:20260419T184240
CREATED:20250910T025501Z
LAST-MODIFIED:20250910T025507Z
UID:10001156-1801557000-1801587600@saludagop.org
SUMMARY:Early Voting
DESCRIPTION:
URL:https://saludagop.org/event/early-voting/2027-02-02/
END:VEVENT
BEGIN:VEVENT
DTSTART;TZID=America/New_York:20270202T180000
DTEND;TZID=America/New_York:20270202T190000
DTSTAMP:20260419T184240
CREATED:20250509T051219Z
LAST-MODIFIED:20250512T063559Z
UID:10000033-1801591200-1801594800@saludagop.org
SUMMARY:Saluda Town Council Meeting
DESCRIPTION:Monthly Town Council Meeting
URL:https://saludagop.org/event/saluda-town-council-meeting/2027-02-02/
LOCATION:Saluda Town Hall\, 100 South Jefferson St.\, Saluda\, SC\, 29138\, United States
END:VEVENT
BEGIN:VEVENT
DTSTART;TZID=America/New_York:20270203T083000
DTEND;TZID=America/New_York:20270203T170000
DTSTAMP:20260419T184240
CREATED:20250910T025501Z
LAST-MODIFIED:20250910T025507Z
UID:10001157-1801643400-1801674000@saludagop.org
SUMMARY:Early Voting
DESCRIPTION:
URL:https://saludagop.org/event/early-voting/2027-02-03/
END:VEVENT
BEGIN:VEVENT
DTSTART;TZID=America/New_York:20270204T083000
DTEND;TZID=America/New_York:20270204T170000
DTSTAMP:20260419T184240
CREATED:20250910T025501Z
LAST-MODIFIED:20250910T025507Z
UID:10001158-1801729800-1801760400@saludagop.org
SUMMARY:Early Voting
DESCRIPTION:
URL:https://saludagop.org/event/early-voting/2027-02-04/
END:VEVENT
BEGIN:VEVENT
DTSTART;TZID=America/New_York:20270205T083000
DTEND;TZID=America/New_York:20270205T170000
DTSTAMP:20260419T184240
CREATED:20250910T025501Z
LAST-MODIFIED:20250910T025507Z
UID:10001159-1801816200-1801846800@saludagop.org
SUMMARY:Early Voting
DESCRIPTION:
URL:https://saludagop.org/event/early-voting/2027-02-05/
END:VEVENT
BEGIN:VEVENT
DTSTART;TZID=America/New_York:20270206T083000
DTEND;TZID=America/New_York:20270206T170000
DTSTAMP:20260419T184240
CREATED:20250910T025501Z
LAST-MODIFIED:20250910T025507Z
UID:10001160-1801902600-1801933200@saludagop.org
SUMMARY:Early Voting
DESCRIPTION:
URL:https://saludagop.org/event/early-voting/2027-02-06/
END:VEVENT
BEGIN:VEVENT
DTSTART;TZID=America/New_York:20270207T083000
DTEND;TZID=America/New_York:20270207T170000
DTSTAMP:20260419T184240
CREATED:20250910T025501Z
LAST-MODIFIED:20250910T025507Z
UID:10001161-1801989000-1802019600@saludagop.org
SUMMARY:Early Voting
DESCRIPTION:
URL:https://saludagop.org/event/early-voting/2027-02-07/
END:VEVENT
BEGIN:VEVENT
DTSTART;TZID=America/New_York:20270208T083000
DTEND;TZID=America/New_York:20270208T170000
DTSTAMP:20260419T184240
CREATED:20250910T025501Z
LAST-MODIFIED:20250910T025507Z
UID:10001162-1802075400-1802106000@saludagop.org
SUMMARY:Early Voting
DESCRIPTION:
URL:https://saludagop.org/event/early-voting/2027-02-08/
END:VEVENT
BEGIN:VEVENT
DTSTART;TZID=America/New_York:20270208T180000
DTEND;TZID=America/New_York:20270208T190000
DTSTAMP:20260419T184240
CREATED:20250509T050406Z
LAST-MODIFIED:20250512T063927Z
UID:10000353-1802109600-1802113200@saludagop.org
SUMMARY:County Council Meeting
DESCRIPTION:
URL:https://saludagop.org/event/county-council-meeting/2027-02-08/
LOCATION:Saluda County Administrative Offices\, 400 W. Highland St.\, Saluda\, SC\, 29138\, United States
END:VEVENT
BEGIN:VEVENT
DTSTART;TZID=America/New_York:20270209T083000
DTEND;TZID=America/New_York:20270209T170000
DTSTAMP:20260419T184240
CREATED:20250910T025501Z
LAST-MODIFIED:20250910T025507Z
UID:10001163-1802161800-1802192400@saludagop.org
SUMMARY:Early Voting
DESCRIPTION:
URL:https://saludagop.org/event/early-voting/2027-02-09/
END:VEVENT
BEGIN:VEVENT
DTSTART;TZID=America/New_York:20270210T083000
DTEND;TZID=America/New_York:20270210T170000
DTSTAMP:20260419T184240
CREATED:20250910T025501Z
LAST-MODIFIED:20250910T025507Z
UID:10001164-1802248200-1802278800@saludagop.org
SUMMARY:Early Voting
DESCRIPTION:
URL:https://saludagop.org/event/early-voting/2027-02-10/
END:VEVENT
BEGIN:VEVENT
DTSTART;TZID=America/New_York:20270211T083000
DTEND;TZID=America/New_York:20270211T170000
DTSTAMP:20260419T184240
CREATED:20250910T025501Z
LAST-MODIFIED:20250910T025507Z
UID:10001165-1802334600-1802365200@saludagop.org
SUMMARY:Early Voting
DESCRIPTION:
URL:https://saludagop.org/event/early-voting/2027-02-11/
END:VEVENT
BEGIN:VEVENT
DTSTART;TZID=America/New_York:20270211T183000
DTEND;TZID=America/New_York:20270211T200000
DTSTAMP:20260419T184240
CREATED:20260318T163009Z
LAST-MODIFIED:20260318T175824Z
UID:10002669-1802370600-1802376000@saludagop.org
SUMMARY:Steering Committee
DESCRIPTION:This is the monthly meeting of the Saluda County Steering Committee.  The members are: \n\n\n\nAmy Potts\, ChairGreg SanderJay DunbarKim ParigorisBen WardRuss TerrellDeb Camp \n\n\n\nThis committee discusses ongoing plans and ideas to bring forward at the next business meeting.
URL:https://saludagop.org/event/committees-cocktails-coca-colas-2/2027-02-11/
LOCATION:Saluda Presbyterian Church\, 103 W. Highland St.\, Saluda\, SC\, 29138\, United States
ORGANIZER;CN="The Saluda County Republican Party":MAILTO:saludaGOP@gmail.com
END:VEVENT
BEGIN:VEVENT
DTSTART;TZID=America/New_York:20270212T083000
DTEND;TZID=America/New_York:20270212T170000
DTSTAMP:20260419T184240
CREATED:20250910T025501Z
LAST-MODIFIED:20250910T025507Z
UID:10001166-1802421000-1802451600@saludagop.org
SUMMARY:Early Voting
DESCRIPTION:
URL:https://saludagop.org/event/early-voting/2027-02-12/
END:VEVENT
BEGIN:VEVENT
DTSTART;TZID=America/New_York:20270213T083000
DTEND;TZID=America/New_York:20270213T170000
DTSTAMP:20260419T184240
CREATED:20250910T025501Z
LAST-MODIFIED:20250910T025507Z
UID:10001167-1802507400-1802538000@saludagop.org
SUMMARY:Early Voting
DESCRIPTION:
URL:https://saludagop.org/event/early-voting/2027-02-13/
END:VEVENT
END:VCALENDAR